BEGIN:VCALENDAR
VERSION:2.0
PRODID:-//Attac Liège - ECPv6.6.2//NONSGML v1.0//EN
CALSCALE:GREGORIAN
METHOD:PUBLISH
X-WR-CALNAME:Attac Liège
X-ORIGINAL-URL:https://liege.attac.org
X-WR-CALDESC:évènements pour Attac Liège
REFRESH-INTERVAL;VALUE=DURATION:PT1H
X-Robots-Tag:noindex
X-PUBLISHED-TTL:PT1H
BEGIN:VTIMEZONE
TZID:Europe/Brussels
BEGIN:DAYLIGHT
TZOFFSETFROM:+0100
TZOFFSETTO:+0200
TZNAME:CEST
DTSTART:20260329T010000
END:DAYLIGHT
BEGIN:STANDARD
TZOFFSETFROM:+0200
TZOFFSETTO:+0100
TZNAME:CET
DTSTART:20261025T010000
END:STANDARD
END:VTIMEZONE
BEGIN:VEVENT
DTSTART;TZID=Europe/Brussels:20260306T180000
DTEND;TZID=Europe/Brussels:20260306T210000
DTSTAMP:20260426T010455
CREATED:20260108T072547Z
LAST-MODIFIED:20260108T072547Z
UID:23118-1772820000-1772830800@liege.attac.org
SUMMARY:Soirée ciné-débat : Humus
DESCRIPTION:Et si l’avenir de notre planète se trouvait… sous nos pieds ?\nNos sols s’épuisentIls s’appauvrissent\, se fissurent\, disparaissent peu à peu…À ce rythme\, la totalité des terres arables pourrait s’évanouir d’ici 60 ans !Face aux monocultures intensives\, à la déforestation et à l’effondrement de la biodiversité\, certaines femmes et certains hommes choisissent une autre voie :  résister en prenant soin du vivant.\n\nHUMUS (documentaire – 2022) nous plonge au cœur de cette transition essentielle.\nLe film suit notamment un couple de maraîchers engagés dans une agriculture régénératrice \, qui repensent en profondeur notre rapport à la terre. En s’appuyant sur des savoirs anciens et des connaissances scientifiques contemporaines \, ils redonnent vie aux sols et révèlent la richesse d’un monde profondément interconnecté\, façonné par des milliards d’années de coévolution.\nUn documentaire sensible\, inspirant et porteur d’espoir\, qui nous invite à regarder la terre non plus comme une ressource à exploiter\, mais comme un écosystème vivant à préserver.\n\nHoraire :\n18h – Repas convivial : Sandwich syrien proposé par Chemin d’Alep :  Falafel ou  poulet\n19h: Projection du film HUMUS (en petite salle\, non accessible aux PMR)\n\nPrix : Repas + ciné : 7 € (falafel) – 8 € (poulet)Projection seule : 3 €\n\nLieu :\nCentre Culturel de Seraing – Rue Renaud Strivay 44 – 4100 Seraing\n\nEn collaboration avec Le Centre Culturel de Seraing
URL:https://liege.attac.org/event/soiree-cine-debat-humus/
LOCATION:Centre Culturel de Seraing\, Rue Renaud Strivay 44\, Seraing\, Belgique
CATEGORIES:Ciné-débat
END:VEVENT
BEGIN:VEVENT
DTSTART;TZID=Europe/Brussels:20260310T193000
DTEND;TZID=Europe/Brussels:20260310T213000
DTSTAMP:20260426T010455
CREATED:20260303T120338Z
LAST-MODIFIED:20260303T120338Z
UID:23311-1773171000-1773178200@liege.attac.org
SUMMARY:Groupe de lecture : Le monde sans fin
DESCRIPTION:Nous vous invitons à la deuxième séance de notre groupe de lecture autour du livre de Jancovici et Blain « Le monde sans fin ». Chaque participant·e de la première séance présentera une partie du livre et nous nous réagirons aux opinions de Jancovici. \nL’album illustre la rencontre et le long dialogue entre ses deux auteurs – Jean-Marc Jancovici jouant le rôle du guide\, Christophe Blain du candide – sur les sujets de l’énergie : usage à travers l’Histoire\, essor des énergies fossiles\, et de l’impact de l’humanité sur son environnement et en particulier sur le climat. Les nombreuses explications sur ces sujets sont accompagnées de métaphores diverses (Iron Man\, Mère Nature\, etc.) pour en éclairer la lecture. \n[Wikipedia]\n 
URL:https://liege.attac.org/event/groupe-de-lecture-le-monde-sans-fin-3/
LOCATION:Casa Nicaragua\, Rue Pierreuse\, Liège
CATEGORIES:Groupe de lecture
END:VEVENT
BEGIN:VEVENT
DTSTART;TZID=Europe/Brussels:20260311T180000
DTEND;TZID=Europe/Brussels:20260311T210000
DTSTAMP:20260426T010455
CREATED:20260217T104739Z
LAST-MODIFIED:20260217T133455Z
UID:23260-1773252000-1773262800@liege.attac.org
SUMMARY:Atelier-jeu Aliment’Terre
DESCRIPTION:Dans le cadre de Nourrir Seraing Autrement\, Attac-Liège\, Canopea et Financité vous invite à un aterlier-jeu Alimen’Terre ! \nCe jeu de plateau vous invite à élaborer un menu (entrée\, plat\, dessert\, boisson) façon « dîner presque parfait ». Parviendrez-vous à concevoir un menu original\, sans dépasser l’empreinte écologique que la planète peut supporter ?\nUne manière ludique de faire des liens entre choix alimentaires et impacts sur l’environnement\, et de questionner nos pratiques culinaires ! \nEntrée : prix libre (prix conseillé 5 €) \nInformations/réservations : info@centrecultureldeseraing.be (Attention: jeu limité à 14 personnes) \nUn partenariat avec Canopea\, Financité
URL:https://liege.attac.org/event/atelier-jeu-alimentterre/
LOCATION:Centre Culturel de Seraing\, Rue Renaud Strivay 44\, Seraing\, Belgique
CATEGORIES:Atelier - Jeu
END:VEVENT
BEGIN:VEVENT
DTSTART;TZID=Europe/Brussels:20260312T080000
DTEND;TZID=Europe/Brussels:20260312T170000
DTSTAMP:20260426T010455
CREATED:20260309T151714Z
LAST-MODIFIED:20260309T151714Z
UID:23359-1773302400-1773334800@liege.attac.org
SUMMARY:Manifestation nationale
DESCRIPTION:Le 12 mars 2026\, la résistance contre la casse sociale menée par le gouvernement de l’Arizona se poursuivra avec une grande manifestation nationale à Bruxelles. \nL’automne 2025 a été chaud. Les trois syndicats\, avec l’ensemble de la société civile\, ont rassemblé 140 000 personnes à Bruxelles pour une manifestation historique en octobre. Le mois de novembre a été marqué par une action et une grève de quatre jours tout aussi historiques\, également menées par un front commun syndical. \nDepuis un an\, les syndicats mettent des bâtons dans les roues du gouvernement Arizona parce qu’il mène une politique antisociale et qu’il piétine la concertation. \nRendez-vous le 12 mars à 10h Gare du Nord !
URL:https://liege.attac.org/event/manifestation-nationale/
LOCATION:Bruxelles-Nord
CATEGORIES:L'autre Agenda
END:VEVENT
BEGIN:VEVENT
DTSTART;TZID=Europe/Brussels:20260312T190000
DTEND;TZID=Europe/Brussels:20260312T210000
DTSTAMP:20260426T010455
CREATED:20260217T100031Z
LAST-MODIFIED:20260318T085929Z
UID:23253-1773342000-1773349200@liege.attac.org
SUMMARY:Ateliers d'auto-défense financière féminine
DESCRIPTION:! MISE A JOUR !Ces ateliers sont COMPLETS\, nous vous informerons dès qu’un nouveau cycle commencera. N’hésitez pas à nous contacter pour être tenues au courant.\n—————————————————————–\n\nRejoignez un groupe de femmes désireuses de travailler sur leur rapport à l’argent et de bâtir leur autonomie économique. \nQu’est-ce que c’est ? \nLes femmes\, en couple ou non\, font face à des défis spécifiques liés à l’argent : Inégalités salariales\, pauses carrière\, gestion des finances au sein du foyer\, violences économiques… Financité\, Attac Liège et La Ligue des Familles en sont convaincues\, les femmes ont besoin de reprendre le contrôle sur leurs finances et bâtir une indépendance économique. \nUn espace bienveillant \nRejoignez un groupe d’échange et de soutien pour travailler collectivement sur notre rapport à l’argent et apprendre des solutions concrètes. Nos ateliers s’appuient sur des échanges pratiques\, l’intelligence collective et la solidarité pour répondre aux défis économiques liés au genre. \n\nDéconstruire nos idées reçues sur l’argent\nÉtablir et gérer un budget personnel\nÉpargne\, investissement\, crédit et endettement\nPréparer sa retraite\nSe défendre financièrement en cas de séparation ou divorce\nAnalyser les inégalités économiques dans une perspective systémique\n\nUn atelier par mois \nL’inscription est préférable au premier atelier : audrey.degee@financite.be \nDeuxième atelier\nQuand : 12/03/26 de 19h00 à 21h00\nOù : La Menuiserie\, 53\, rue de l’académie\, 4000\, Liège.
URL:https://liege.attac.org/event/ateliers-dauto-defense-financiere-feminine-2/
LOCATION:La menuiserie\, La Menuiserie\, 53\, rue de l’académie\, Liege\, 4000
CATEGORIES:Groupes de formation
END:VEVENT
BEGIN:VEVENT
DTSTART;TZID=Europe/Brussels:20260319T180000
DTEND;TZID=Europe/Brussels:20260319T210000
DTSTAMP:20260426T010455
CREATED:20260309T135755Z
LAST-MODIFIED:20260309T135755Z
UID:23349-1773943200-1773954000@liege.attac.org
SUMMARY:Conférence-débat : Quelle action pour la paix à Liège ?
DESCRIPTION:Conférence-débat : Quelle action pour la paix à Liège ? \nAvec\nThibaut Lété (COMAC)\nPierre Eyben (Vert-Ardent)\nJulien Scharpé (Jeunes FGTB) \nOrganisation : Action liégeoise pour la Paix (ALP) \nUne manifestation urgente pour :\n– Réduire le budget militaire ?\n– Supprimer le service militaire ?\n– Sortir de l’OTAN ?\n– Retirer les bombes nucléaires du territoire ?\n– Signer le traité sur l’interdiction des armes nucléaires ? \n  \n  \n 
URL:https://liege.attac.org/event/conference-debat-quelle-action-pour-la-paix-a-liege/
LOCATION:Auberge Georges Simenon\, Rue Georges Simenon 2\, Liege\, 4020\, Belgique
CATEGORIES:L'autre Agenda
END:VEVENT
BEGIN:VEVENT
DTSTART;TZID=Europe/Brussels:20260320T180000
DTEND;TZID=Europe/Brussels:20260321T170000
DTSTAMP:20260426T010455
CREATED:20260109T082103Z
LAST-MODIFIED:20260318T131819Z
UID:23141-1774029600-1774112400@liege.attac.org
SUMMARY:Soirée Souper-Ciné : Au boulot !
DESCRIPTION:Soirée souper-ciné : AU BOULOT ! Vendredi 20 mars 2026 Travailler plus\, pour vivre mieux ? Vraiment ?Avec Au boulot !\, François Ruffin part à la rencontre de celles et ceux qui font tourner la société\, souvent dans l’ombre\, parfois jusqu’à l’épuisement.À travers des situations très concrètes\, des échanges directs et un regard engagé\, le film interroge sans détour le sens du travail\, les conditions de vie qu’il impose et les inégalités qu’il révèle.Entre enquête sociale\, coups de gueule et moments d’humanité\, Au boulot ! donne la parole à celles et ceux qu’on écoute trop peu. Un documentaire percutant\, accessible et profondément politique\,qui invite à repenser notre rapport au travail\, à la dignité et à la justice sociale. Une soirée pour réfléchir ensemble\, débattre\,et partager un moment chaleureux autour d’un film qui ne laisse pas indifférent.\n 18h – Repas convivialSandwich syrien proposé par Chemin d’Alep Falafel ou  poulet 19h – Projection du film Au boulot ! (en grande salle)\n Prix:  Repas + ciné :• 7 € (falafel)• 8 € (poulet) Projection seule : 3 €\n\n=> Réservation en ligne\n\n En collaboration avec le Centre Culturel de Seraing et Promotion & Culture
URL:https://liege.attac.org/event/soiree-souper-cine-au-boulot/
LOCATION:Centre Culturel de Seraing\, Rue Renaud Strivay 44\, Seraing\, Belgique
CATEGORIES:Ciné-débat
END:VEVENT
BEGIN:VEVENT
DTSTART;TZID=Europe/Brussels:20260321T100000
DTEND;TZID=Europe/Brussels:20260321T130000
DTSTAMP:20260426T010455
CREATED:20260113T073342Z
LAST-MODIFIED:20260302T180234Z
UID:23144-1774087200-1774098000@liege.attac.org
SUMMARY:Une IA qui comprend plus que nous ne comprenons ce qu’elle comprend
DESCRIPTION:ATTAC-Liège et le Leonardo Da Vinci vous propose une conférence par Hugues Bersini\, directeur du labo de l’IA de l’ULB\, créateur de l’institut FARI pour les biens publics bruxellois\, auteur d’ouvrages sur l’IA. \nQuels risques l’intelligence artificielle\, et notamment les robots conversationnels\, font-ils peser sur les facultés intellectuelles\, la santé mentale ?\nEt quel avenir si l’on considère le gouffre qui existe entre ses concepteurs privés et la lenteur des réactions publiques responsables du bien commun ?\nUn jour\, l’IA pourrait-elle s’émanciper de l’humain ?
URL:https://liege.attac.org/event/une-ia-qui-comprend-plus-que-nous-ne-comprenons-quelle-comprend/
LOCATION:Centre Leonardo Da Vinci\, rue Cockerill 86\, Seraing\, 4100\, Belgique
CATEGORIES:Conférences
END:VEVENT
BEGIN:VEVENT
DTSTART;TZID=Europe/Brussels:20260322T140000
DTEND;TZID=Europe/Brussels:20260322T170000
DTSTAMP:20260426T010455
CREATED:20260206T102458Z
LAST-MODIFIED:20260206T102458Z
UID:23231-1774188000-1774198800@liege.attac.org
SUMMARY:European march for water and climate
DESCRIPTION:Lieu : Boulevard de l’Impératrice\n\nLe dimanche 22 mars c’est la journée mondiale de l’eau et l’OMS estime que entre 1\,5 et 2 millions de personnes meurent chaque année de maladies liées à une eau insalubre ( 2025)Un rapport récent de l’ONU souligne une « faillite mondiale » de la gestion de cette ressource\, caractérisée par une pénurie croissante et des inégalités d’accès persistantes. Le monde consomme plus d’eau douce qu’il n’est capable d’en renouveler.\nFace à cette hécatombe \, à la pollution\, la surconsommation et la privatisation de ce bien commun entrée en bourse en 2020 \, nous organisons une marche européenne pour l’eau et le climat au départ de la compagnie des eaux Vivaqua à 14 h près de la gare centrale de Bruxelles et arrivée dans le quartier européen place Jean Rey près de Schuman.\nSur la lancée de la reconnaissance de l’eau comme un droit humain votée par l’AG de l’ONU en 2010 \, nous voulons concrétiser ce droit universel et en faire un bien commun mondial libéré de la bourse !\nAu niveau européen Nous voulons interpeller la Commission Européenne sur sa stratégie insuffisante et marchande de l’eau considérée comme un bien économique. Sous la pression de lobbies polluants de l’agriculture et de l’industrie : les normes de qualité de l’eau sont aussi de plus en .plus remises en question accentuant la présence de nitrates\, pesticides et PFAS…\nAu niveau local Face à l’augmentation du prix de l’eau: nous voulons qu’elle reste un droit pour tous les bruxellois et que l’entreprise publique Vivaqua en grosse difficulté soit refinancée par une Région Bruxelloise dont on attend toujours un gouvernement.\nCe sera aussi une marche pour le climat et la sortie de notre dépendance aux énergies fossiles carle changement climatiquealtère gravement le cycle de l’eau\, augmentant les pénuries et la sévérité des inondations et sécheresses. Les températures en hausse accélèrent l’évaporation\, diminuent les glaciers et l’enneigement\, tandis que l’acidification des océans menace les écosystèmes marins. Cette crise exacerbe la rareté de l’eau\, menaçant l’approvisionnement en eau potable et la sécurité alimentaire.\n\nLes revendications détaillées avec nos différents partenaires Au niveau mondial\, nous voulons concrétiser le droit universel à l’eau et à l’assainissement votée par l’AG de l’ONU en 2010 et soutenue par des mouvements du monde entier dont l’Agora des Habitants de la Terre qui a lancé la campagne et pétition Libérons l’Eau de la Bourse https://agora-humanite.org/…/petition-liberons-leau-de…/https://agora-humanite.org/lappel-du-28-juillet-2025…/\nActualisation par le politologue Riccardo Petrella en vue du sommet de l’ONU sur l’eau en décembre 2026https://www.pressenza.com/…/une-politique-planetaire…/\n\nAu niveau européen avec la Fédération Syndicale Européenne des Services Publics ( EPSU) et le mouvement européen de l’eau qui avaient récolté en 2013 1 million 900.000 signatures dans le cadre d’une Initiative Citoyenne Européenne \, nous nous battons pour que L’eau ne soit pas une marchandise mais un bien commun et un droit universel La propriété et la gestion des services et des infrastructures d’eau doivent être publiques\, participatives et sous contrôle social.Le recouvrement total des coûts (DCE\, art. 9) en tant que principe de financement des services d’eau en Europe doit être abandonné. Au contraire\, l’accès à l’eau doit être sécurisé et le financement des infrastructures doit se faire par la taxation générale.La participation des citoyens et des travailleurs dans la gestion des services est une condition nécessaire d’une bonne gouvernance des biens communshttps://www.epsu.org/…/human-right-water-and-sanitation…http://europeanwater.org/fr/actions/politique-de-l-uehttps://www.epsu.org/…/human-right-water-still-waiting…\nUne nouvelle stratégie européenne de résilience dans le domaine de l’eau\, adoptée en juin 2025\, vise à sécuriser l’approvisionnement en eau\, réduire les pollutions et améliorer l’efficacité des réseaux d’ici 2030\, face aux risques climatiques.Mais des industries européennes\, notamment les secteurs minier et agricole\, exercent une pression importante pour assouplir les normes de qualité et de gestion de l’eau en Europe. Ils ciblent particulièrement la Directive-cadre sur l’eau (DCE)\, la législation phare de l’UE en la matière\, qu’ils cherchent à affaiblir sous couvert de « compétitivité » et de « simplification » ( Omnibus)A ce sujet une analyse du politologue Riccardo Petrella https://www.pressenza.com/…/lalignement-la-nouvelle…/\nAu niveau local notre eau est en danger: nous devons défendre Vivaqua !Alors que Vivaqua rend des services essentiels à la population\, les investissements pour des travaux nécessaires d’infrastructures ont provoqué un endettement colossal de plus de 1 milliards d’euros ( 3 fois son chiffre d’affaires)Des moyens d’adaptation aux changements climatiques et pour assurer la qualité de l’eau seront certainement nécessaires aussi.De plus \, les politiques d’austerité du gouvernement fédéral \, le sous financement et l’absence de gouvernement à la Région Bruxelloise font augmenter de manière constante les factures d’eau et craindre le pire pour Vivaqua et ses usagers.https://www.cgspalrbru.be/…/luttons-pour-le…/\nPour le climat\, nous défendons le Pacte Vert Européen car depuis les dernières élections européennes et sous la pression des lobbies\, le Pacte Vert Européen que nous avons gagné avec les jeunes de Fridays For Future\, les mouvements citoyens et les ONGs en 2019 est complètement détricoté ( ex notre marche à Bruxelles https://www.liberation.fr/…/a-bruxelles-la-marche…/)\nNotre pétition pour une loi climat plus forte adressée aux institutions européennes https://www.change.org/…/nous-voulons-une-loi-climat…\nNous soutenons les revendications du Traité de Non Prolifération des Combustibles Fossiles www.fossilfueltreaty.org• Non-prolifération : Arrêter tout nouveau projet d’exploration et de production de combustibles fossiles.• Abandon graduel : Supprimer progressivement la production existante en laissant une grande partie des réserves sous terre\, conformément aux objectifs climatiques.• Transition juste : Soutenir les travailleurs et les pays dépendants des énergies fossiles pendant la transition vers des alternatives durables.\nRapport de l’ONU sur la faillite mondiale de l’eau: les chiffres et une analyse critique du politologue Riccardo Petrella sur ce nouveau rapport de L’ONU https://www.pressenza.com/…/la-banqueroute-hydrique…/\nLes chiffres de ce rapport:• 1 personne sur 4 (environ 2\,1 milliards) dans le monde n’a toujours pas accès à l’eau potable gérée de façon sûre.• 3\,6 milliards de personnes ont un accès à l’eau inadéquat (stress hydrique)\, subissant des pénuries au moins un mois par an.• 3\,4 milliards de personnes manquent de services d’assainissement gérés de façon sûre.• 1\,7 milliard de personnes manquent de services d’hygiène de base à domicile.Pénurie et utilisation :• Faillite hydrique : Le monde consomme plus d’eau douce qu’il n’est capable d’en renouveler\, alerte l’ONU en janvier 2026.• Agriculture : Elle exploite 72 % des volumes d’eau douce prélevés au niveau mondial.• Déficit futur : La demande mondiale d’eau douce pourrait dépasser l’offre de 40 % d’ici 2030.• Baisse de disponibilité : La disponibilité en eau douce renouvelable par personne a chuté de 7 % sur la dernière décennie.\n• Fonte accélérée : Les glaciers fondent plus vite que jamais\, rendant le cycle de l’eau plus imprévisible.• Risques : Les inondations\, sécheresses et glissements de terrain liés au retrait glaciaire s’intensifient.• Inondations : Depuis 2000\, les catastrophes liées aux inondations ont augmenté de 134 %.Santé :• 1 000 décès quotidiens d’enfants de moins de cinq ans sont liés au manque d’eau salubre\, d’assainissement et d’hygiène (WASH).
URL:https://liege.attac.org/event/european-march-for-water-and-climate/
CATEGORIES:L'autre Agenda
END:VEVENT
BEGIN:VEVENT
DTSTART;TZID=Europe/Brussels:20260324T193000
DTEND;TZID=Europe/Brussels:20260324T220000
DTSTAMP:20260426T010455
CREATED:20260309T140827Z
LAST-MODIFIED:20260309T140827Z
UID:23355-1774380600-1774389600@liege.attac.org
SUMMARY:Manifestation pour une révolution écosocialiste
DESCRIPTION:Conférence organisée par la Gauche Anticapitaliste avec Avec Daniel Tanuro : Manifestation pour une révolution écosocialiste \nLe manifeste pour une révolution écosocialiste – rompre avec la croissance capitaliste est porté par la IVème Internationale\, présente sur tous les continents. En Belgique\, avec le mouvement de la Gauche anticapitaliste. Face à la catastrophe écologique et sociale qui grandit sous nos yeux\, ce manifeste pose la nécessité objective et surtout l’urgence d’une alternative de civilisation digne du genre humain : l’écosocialisme. \n“ Partout dans le monde\, les forces d’extrêmes droite\, autoritaires et semi-fascistes\, se renforcent et gagnent en influence. L’absence d’alternative à la crise du capitalisme tardif crée le désespoir qui favorise la misogynie\, le racisme\, le déni du changement climatique (…).Aux fléaux de la guerre\, du colonialisme\, de l’exploitation\,de l’autoritarisme\, des oppressions de toutes sortes\, des inégalités et des discriminations\, touchant particulièrement les femmes\, s’ajoute un nouveau fléau qui les exacerbe tous : la destruction accélérée par le capital de l’environnement naturel dont dépend la survie de l’humanité. ” \nQue faire ? Quelle alternative de société ? Comment lutter ? Comment unifier les luttes sociales et écologiques ? Sur quelles revendications anticapitalistes ? Le 24 mars\, les interventions de nos invité·es\, sans oublier les questionnements du public seront une belle occasion d’enrichir ce Manifeste écosocialiste pour en faire un outil de combat ! \nAvec l’intervention de Daniel Tanuro\, coordinateur du comité de rédaction du Manifeste écosocialiste\, militant à la Gauche anticapitaliste et auteur de Ecologie\, luttes sociales et révolution\, et les interpellations de Anne Devos militante féministe\, écosocialiste\, membre de la coordination de Commune Colère Liège et Cédric Leterme\, chargé d’étude au GRESEA.
URL:https://liege.attac.org/event/manifestation-pour-une-revolution-ecosocialiste/
LOCATION:ULiège\, Place du XX Aout\, Pace du 20 aout\, 4000 Liège
CATEGORIES:L'autre Agenda
END:VEVENT
END:VCALENDAR