BEGIN:VCALENDAR
VERSION:2.0
PRODID:-//Attac Liège - ECPv6.6.2//NONSGML v1.0//EN
CALSCALE:GREGORIAN
METHOD:PUBLISH
X-ORIGINAL-URL:https://liege.attac.org
X-WR-CALDESC:évènements pour Attac Liège
REFRESH-INTERVAL;VALUE=DURATION:PT1H
X-Robots-Tag:noindex
X-PUBLISHED-TTL:PT1H
BEGIN:VTIMEZONE
TZID:Europe/Brussels
BEGIN:DAYLIGHT
TZOFFSETFROM:+0100
TZOFFSETTO:+0200
TZNAME:CEST
DTSTART:20210328T010000
END:DAYLIGHT
BEGIN:STANDARD
TZOFFSETFROM:+0200
TZOFFSETTO:+0100
TZNAME:CET
DTSTART:20211031T010000
END:STANDARD
END:VTIMEZONE
BEGIN:VEVENT
DTSTART;TZID=Europe/Brussels:20210209T193000
DTEND;TZID=Europe/Brussels:20210209T193000
DTSTAMP:20260419T212543
CREATED:20210125T143735Z
LAST-MODIFIED:20210125T161952Z
UID:13671-1612899000-1612899000@liege.attac.org
SUMMARY:Et la fraude\, ça swingue ?
DESCRIPTION:Le mardi 9 février\, à 19h30\, ‘Et la fraude\, ça swingue ?’ Christian Savestre et Daniel Puissant nous expliquent où nous en sommes dans nos actions et quelles sont les éventuelles avancées en matière de fiscalité. \nPlus d’infos sur la tenue de l’événement en présentiel ou non\, dans les semaines à venir. \n Rejoindre la visioconférence
URL:https://liege.attac.org/event/et-la-fraude-ca-swingue/
CATEGORIES:Conférences
ORGANIZER;CN="Attac Li%C3%A8ge":MAILTO:info@liege.attac.be
END:VEVENT
BEGIN:VEVENT
DTSTART;TZID=Europe/Brussels:20210217T200000
DTEND;TZID=Europe/Brussels:20210217T220000
DTSTAMP:20260419T212543
CREATED:20210201T143509Z
LAST-MODIFIED:20210202T130809Z
UID:13763-1613592000-1613599200@liege.attac.org
SUMMARY:Groupe de réflexion - S'organiser
DESCRIPTION:Après la pandémie\, nous ne voulons pas de retour à l’anormal ! \nRejoignez notre groupe de travail et de réflexion : S’ORGANISER \nCe mercredi 17 février nous approfondirons l’organisation du secteur de la santé. Manque d’infirmier·e·s ? de médecins ? Coûts croissants ? Privatisation suicidaire ? La santé est en lutte ! \nDès une première rencontre le 30 décembre\, où nous avons abordé l’histoire et la structure des syndicats\, le 20 janvier\, Clémence nous a présenté la méthode proposée par Jane McAlevey. \nUNE QUESTION ? \nEnvoyez un message à info@liege.attac.be ou à vivelyne@protonmail.com ! \n Rejoindre la visioconférence\n 
URL:https://liege.attac.org/event/groupe-de-reflexion-sorganiser/
CATEGORIES:Cycles
ORGANIZER;CN="Attac Li%C3%A8ge":MAILTO:info@liege.attac.be
END:VEVENT
BEGIN:VEVENT
DTSTART;TZID=Europe/Brussels:20210220T150000
DTEND;TZID=Europe/Brussels:20210220T160000
DTSTAMP:20260419T212543
CREATED:20210219T100248Z
LAST-MODIFIED:20210219T104525Z
UID:14413-1613833200-1613836800@liege.attac.org
SUMMARY:Ce samedi\, on fait culture !
DESCRIPTION:  \nDans le cadre de la journée mondiale de la justice sociale et des actions relayées par Faire front Still Standing For Culture \, nous donnons rendez-vous ce samedi 20 février à 15h à toutes celles\, tous ceux qui veulent soutenir la culture. \nOù ?\nDevant le Beau-Mur\, rue du Beau-Mur 48 à Grivegnée. \nPour quoi faire ?\nUne file symbolisant notre attente de la réouverture des lieux culturels.\nCette file\, nous voudrions qu’elle danse\, qu’elle chante\, qu’elle s’exprime. Alors prenez votre instrument de musique\, apportez votre chansonnier ! Amenez aussi une pancarte\, une affiche\, un masque personnalisé\, des idées à noter pour notre ‘porteuse de paroles’…  \, \n→ L’événement Facebook \n→  Et toutes les autres \nEn espérant vous voir samedi !
URL:https://liege.attac.org/event/ce-samedi-on-fait-culture/
LOCATION:Beau-Mur\, Rue du Beau-Mur 48\, Liège\, 4030\, Belgique
CATEGORIES:Actions
ORGANIZER;CN="Attac Li%C3%A8ge":MAILTO:info@liege.attac.be
END:VEVENT
BEGIN:VEVENT
DTSTART;TZID=Europe/Brussels:20210225T193000
DTEND;TZID=Europe/Brussels:20210225T220000
DTSTAMP:20260419T212543
CREATED:20210122T090717Z
LAST-MODIFIED:20210225T180104Z
UID:13475-1614281400-1614290400@liege.attac.org
SUMMARY:La bête a t elle mué ? Les nouveaux visages de l'extrême droite
DESCRIPTION:ATTAC Liège vous propose un entretien avec Julien DOHET et Olivier STARQUIT\, auteurs du livre « La bête a t elle mué ? Les nouveaux visages de l’extrême droite« . \nPourquoi\, partout\, en Europe et dans les Amériques\, ces avancées des mouvements et du discours d’extrême-droite ? Dans certains pays\, elle est arrivée au pouvoir ; dans beaucoup d’autres\, elle en est proche. Nos deux intervenants\, Julien Dohet et Olivier Starquit\, présenteront leur ouvrage La bête a-t-elle mué ? Les nouveaux visages de l’extrême-droite. \nTrois questions : \n\nquelle cohérence à travers le temps ?\nQuels changements (réels ou non) au tournant des années 2000 ?\nQue faire ? (Quels mots\, avec quelles connotations ? Comment activer nos solidarités ?)\n\nL’extrême droite n’est forte que parce que nous sommes faibles. Plus que jamais\, au nom des Lumières\, il faut aller au combat au sens propre comme au figuré. \nChristine Pagnoulle vous invite à une réunion Zoom planifiée. \nSujet : nouveaux visages de l’extrême-droite\nHeure : 25 févr. 2021 07:00 PM Paris \nParticiper à la réunion Zoom\nhttps://us02web.zoom.us/j/83367211178?pwd=VTNuQmxIOHVteWFNWm5vZEhIMHBuZz09 \nID de réunion : 833 6721 1178\nCode secret : 576472 \n 
URL:https://liege.attac.org/event/la-bete-a-t-elle-mue-les-nouveaux-visages-de-lextreme-droite/
CATEGORIES:Conférences
ORGANIZER;CN="Attac Li%C3%A8ge":MAILTO:info@liege.attac.be
END:VEVENT
END:VCALENDAR