BEGIN:VCALENDAR
VERSION:2.0
PRODID:-//Attac Liège - ECPv6.6.2//NONSGML v1.0//EN
CALSCALE:GREGORIAN
METHOD:PUBLISH
X-WR-CALNAME:Attac Liège
X-ORIGINAL-URL:https://liege.attac.org
X-WR-CALDESC:évènements pour Attac Liège
REFRESH-INTERVAL;VALUE=DURATION:PT1H
X-Robots-Tag:noindex
X-PUBLISHED-TTL:PT1H
BEGIN:VTIMEZONE
TZID:Europe/Brussels
BEGIN:DAYLIGHT
TZOFFSETFROM:+0100
TZOFFSETTO:+0200
TZNAME:CEST
DTSTART:20210328T010000
END:DAYLIGHT
BEGIN:STANDARD
TZOFFSETFROM:+0200
TZOFFSETTO:+0100
TZNAME:CET
DTSTART:20211031T010000
END:STANDARD
END:VTIMEZONE
BEGIN:VEVENT
DTSTART;TZID=Europe/Brussels:20210120T200000
DTEND;TZID=Europe/Brussels:20210120T220000
DTSTAMP:20260420T073952
CREATED:20210114T131220Z
LAST-MODIFIED:20210118T140839Z
UID:13212-1611172800-1611180000@liege.attac.org
SUMMARY:S'organiser - Groupe de réflexion [visioconférence]
DESCRIPTION:Après le Covid\, nous ne voulons pas de retour à l’anormal !\nNous vous invitons à un groupe de travail et de réflexion : S’ORGANISER \nNous avons eu un premier contact à quatre le 30/12/2020 et nous y avons discuté de l’histoire et de la structure des syndicats. \nPour cette nouvelle séance\, après un tour de table\, nous : \n\nprésentons la manière de s’organiser selon Jane Frances McAlevey (Clémence)\nmettons en pratique par un exercice\npréparons la question suivante.\n\nUNE QUESTION ?\nEnvoyez un message à info@liege.attac.be ou à vivelyne@protonmail.com ! \nRejoindre la visioconférence
URL:https://liege.attac.org/event/sorganiser-groupe-de-reflexion-visioconference/
CATEGORIES:Groupes de formation
ORGANIZER;CN="Attac Li%C3%A8ge":MAILTO:info@liege.attac.be
END:VEVENT
END:VCALENDAR