BEGIN:VCALENDAR
VERSION:2.0
PRODID:-//Attac Liège - ECPv6.6.2//NONSGML v1.0//EN
CALSCALE:GREGORIAN
METHOD:PUBLISH
X-WR-CALNAME:Attac Liège
X-ORIGINAL-URL:https://liege.attac.org
X-WR-CALDESC:évènements pour Attac Liège
REFRESH-INTERVAL;VALUE=DURATION:PT1H
X-Robots-Tag:noindex
X-PUBLISHED-TTL:PT1H
BEGIN:VTIMEZONE
TZID:Europe/Brussels
BEGIN:DAYLIGHT
TZOFFSETFROM:+0100
TZOFFSETTO:+0200
TZNAME:CEST
DTSTART:20200329T010000
END:DAYLIGHT
BEGIN:STANDARD
TZOFFSETFROM:+0200
TZOFFSETTO:+0100
TZNAME:CET
DTSTART:20201025T010000
END:STANDARD
END:VTIMEZONE
BEGIN:VEVENT
DTSTART;TZID=Europe/Brussels:20201005T193000
DTEND;TZID=Europe/Brussels:20201005T213000
DTSTAMP:20260422T154147
CREATED:20201005T122931Z
LAST-MODIFIED:20201005T122931Z
UID:8934-1601926200-1601933400@liege.attac.org
SUMMARY:Réunion de coordination
DESCRIPTION:Réunion du groupe de coordination de ATTAC Liège. \nVous êtes les bienvenus si vous voulez vous impliquer dans la vie de notre association !
URL:https://liege.attac.org/event/reunion-de-coordination-2/
LOCATION:Beau-Mur\, Rue du Beau-Mur 48\, Liège\, 4030\, Belgique
CATEGORIES:Réunion Attac
END:VEVENT
BEGIN:VEVENT
DTSTART;TZID=Europe/Brussels:20201007T200000
DTEND;TZID=Europe/Brussels:20201007T220000
DTSTAMP:20260422T154147
CREATED:20201006T124421Z
LAST-MODIFIED:20201006T124421Z
UID:8968-1602100800-1602108000@liege.attac.org
SUMMARY:Rentrée associative
DESCRIPTION:Rentrée asssociative \nMercredi 7 octobre \nAvant-première du film « Un pays qui se tient sage » de David DUFRESNE dans le cadre de la rentrée associative. \n→ Toutes les infos \n \n 
URL:https://liege.attac.org/event/rentree-associative-2/
LOCATION:Le parc\, Rue Paul-Joseph Carpay 22\, Liège\, 4020\, Belgique
CATEGORIES:L'autre Agenda
END:VEVENT
BEGIN:VEVENT
DTSTART;TZID=Europe/Brussels:20201014T190000
DTEND;TZID=Europe/Brussels:20201014T220000
DTSTAMP:20260422T154147
CREATED:20200717T085629Z
LAST-MODIFIED:20201006T145938Z
UID:6615-1602702000-1602712800@liege.attac.org
SUMMARY:Clim'ATTAC - Sauver l'eau\, sauver la vie - Riccardo Petrella
DESCRIPTION:Riccardo Petrella\, politologue et économiste\, professeur émérite à l’université de Louvain\, mettra en évidence le vol de la vie que l’on continuera à perpétuer\, comme démontré une fois de plus par la nouvelle pandémie; aussi longtemps que ne seront pas renversés les trois pouvoirs destructeurs actuels : la technologie conquérante \, qui occulte le sens de la vie en réduisant toute forme de vie à ressource; l’Etat nation(aliste) souverain qui\, au nom la sécurité dite nationale\, empêche le vivre ensemble de l’humanité\, le capitalisme prédateur qui a marchandisé la vie et prétend d’en être le propriétaire absolu pulvérisant toute conception de la communauté globale de la vie de la Terre. Le renversement de ces trois pouvoirs\, dont l’abolition des brevets sur le vivant et de l’intelligence artificielle fait partie des solutions\, n’est pas une option. \nNombre de place limité à 50 personnes \nSoyez à l’heure pour avoir une place ! \n 
URL:https://liege.attac.org/event/climattac-sauver-leau-sauver-la-vie-riccardo-petrella/
LOCATION:Beau-Mur\, Rue du Beau-Mur 48\, Liège\, 4030\, Belgique
CATEGORIES:Conférences
ORGANIZER;CN="Attac Li%C3%A8ge":MAILTO:info@liege.attac.be
END:VEVENT
BEGIN:VEVENT
DTSTART;TZID=Europe/Brussels:20201020T193000
DTEND;TZID=Europe/Brussels:20201020T220000
DTSTAMP:20260422T154147
CREATED:20200924T074932Z
LAST-MODIFIED:20201020T090711Z
UID:8683-1603222200-1603231200@liege.attac.org
SUMMARY:! REPORTE ! Groupe de lecture - Piketty - Séance #2
DESCRIPTION:Nous devons malheureusement reporter cette séance du groupe de lecture. Plus d’informations très bientôt sur la page https://liege.attac.org/groupe-de-lecture-th-piketty/\nLa deuxième séance aura lieu le mardi 20 octobre à 19h30 au Centre Liégeois du Beau-Mur. \nLes chapitres 1\, 2 et 3 de la partie I seront présentés par deux participant.e.s. \nVous avez envie de lire le dernier livre de Th. Piketty « Capital et idéologie » (Seuil) mais vous avez du mal à rentrer dans cette brique de 1.200 pages ? \nVous avez envie de lire en groupe pour partager vos connaissances et profiter de celle des autres ? \nATTAC Liège\, en collaboration avec le CADTM\, vous invite à un groupe de lecture afin de s’approprier le contenu de cet ouvrage. \n→ Toutes les infos \n→ Diaporama de présentation disponible sur le site de Th. Piketty \n→ Table des matières \n 
URL:https://liege.attac.org/event/groupe-de-lecture-piketty-seance-2/
LOCATION:Beau-Mur\, Rue du Beau-Mur 48\, Liège\, 4030\, Belgique
CATEGORIES:Activité annulée
ORGANIZER;CN="Attac Li%C3%A8ge":MAILTO:info@liege.attac.be
END:VEVENT
BEGIN:VEVENT
DTSTART;TZID=Europe/Brussels:20201024T100000
DTEND;TZID=Europe/Brussels:20201024T130000
DTSTAMP:20260422T154147
CREATED:20200903T065149Z
LAST-MODIFIED:20201001T120733Z
UID:7763-1603533600-1603544400@liege.attac.org
SUMMARY:! ANNULE ! Conférence - Italie\, Hégémonie et politique
DESCRIPTION:Nous sommes désolés de devoir une nouvelle fois annuler notre rendez-vous avec Hugues Lepaige. Il doit impérativement se rendre en Italie du Sud\, et l’évolution erratique de la situation sanitaire l’a contraint à modifier ses dates de voyage. Il ne sera donc pas en Belgique fin octobre. Nous vous tiendrons évidemment au courant.\nItalie\, Hégémonie et politique\nConférence par Huges Le Paige\nJournaliste-réalisateur\n\nL’Italie a souvent été considérée comme le laboratoire politique de l’Europe : pour le communisme démocratique il y a un demi siècle\, pour le parti entreprise\, champion du libéralisme débridé avec le Berlusconisme il y a 25 ans\, pour le souverainisme et les populismes (anti-système et/ou d’extrême droite) aujourd’hui. Avec aussi l’irruption imprévu et imprévisible des « sardines »… Une tentative d’analyse de ces différents phénomènes et de leur évolution.
URL:https://liege.attac.org/event/italie-hegemonie-et-politique/
LOCATION:Centre Leonardo Da Vinci\, rue Cockerill 86\, Seraing\, 4100\, Belgique
CATEGORIES:Activité annulée
ORGANIZER;CN="Attac Li%C3%A8ge":MAILTO:info@liege.attac.be
END:VEVENT
BEGIN:VEVENT
DTSTART;TZID=Europe/Brussels:20201027T193000
DTEND;TZID=Europe/Brussels:20201027T213000
DTSTAMP:20260422T154147
CREATED:20200903T070219Z
LAST-MODIFIED:20201020T125135Z
UID:7766-1603827000-1603834200@liege.attac.org
SUMMARY:Reporté !!! Repair Class - La fiscalité des multinationales
DESCRIPTION:Reporté pour l’instant pour cause de Covid !!!\nRepair class de l’économie\nLa fiscalité des multinationales et la lutte contre l’évasion fiscale\nAvec Daniel Puissant\nCovid et crise économique : pour traverser cette crise\, pour refinancer de nombreux secteurs d’utilité publique il nous faut trouver des moyens financiers. Les multinationales continuent à engranger de plantureux bénéfices tout en essayant de payer le moins d’impôts possible dans les pays où elles exercent leur activité quand il ne s’agit pas simplement de pratiquer l’évasion fiscale à grande échelle. \nVoyons quelles méthodes les multinationales utilisent pour payer le minimum d’impôts\, qui sont les fisco-trafiquants et quels services ils proposent\, comment l’administration fiscale peut-elle contrôler l’évasion fiscale ? \nUne séance utile pour comprendre comment certains essaient de ne pas participer à l’effort collectif et comment rendre le système plus juste ! \n 
URL:https://liege.attac.org/event/repair-class-la-fiscalite-des-multinationales/
LOCATION:Beau-Mur\, Rue du Beau-Mur 48\, Liège\, 4030\, Belgique
END:VEVENT
BEGIN:VEVENT
DTSTART;TZID=Europe/Brussels:20201031T100000
DTEND;TZID=Europe/Brussels:20201031T130000
DTSTAMP:20260422T154147
CREATED:20200904T073906Z
LAST-MODIFIED:20201028T081917Z
UID:7825-1604138400-1604149200@liege.attac.org
SUMMARY:! Reporté ! Ciné-débat - Mélancolie ouvrière
DESCRIPTION:  \n!! Cette activité est reportée en raison de la crise sanitaire. !!! \nATTAC Liège et le Cercle Leonardo Da Vinci vous invitent à la projection de Mélancolie ouvrière de Gérard Mordillat ; elle sera suivie d’un débat. \nCe film nous raconte le parcours de Lucie Baud\, française\, ouvrière tisseuse\, première femme syndicaliste\, en lutte non seulement contre les « patrons » mais aussi contre le machisme ambiant. C’est ainsi que finalement\, elle deviendra la porte-parole du féminisme au début du 20 ème siècle. \nMais\, ce film nous montre surtout la réaction des « patrons » face aux revendications sociales\, qui s’en vont chercher des émigrées italiennes pour parer au manque de personnel lors des grèves. La\nfaçon dont sont traitées ces ouvrières de second choix est pire encore et tout à fait inhumaine. \nHeureusement\, certaines de ces « jaunes » se révoltent aussi auprès de leurs camarades.
URL:https://liege.attac.org/event/cine-debat-melancolie-ouvriere/
LOCATION:Centre Leonardo Da Vinci\, rue Cockerill 86\, Seraing\, 4100\, Belgique
CATEGORIES:Activité annulée
ORGANIZER;CN="Attac Li%C3%A8ge":MAILTO:info@liege.attac.be
END:VEVENT
END:VCALENDAR