BEGIN:VCALENDAR
VERSION:2.0
PRODID:-//Attac Liège - ECPv6.6.2//NONSGML v1.0//EN
CALSCALE:GREGORIAN
METHOD:PUBLISH
X-WR-CALNAME:Attac Liège
X-ORIGINAL-URL:https://liege.attac.org
X-WR-CALDESC:évènements pour Attac Liège
REFRESH-INTERVAL;VALUE=DURATION:PT1H
X-Robots-Tag:noindex
X-PUBLISHED-TTL:PT1H
BEGIN:VTIMEZONE
TZID:Europe/Brussels
BEGIN:DAYLIGHT
TZOFFSETFROM:+0100
TZOFFSETTO:+0200
TZNAME:CEST
DTSTART:20200329T010000
END:DAYLIGHT
BEGIN:STANDARD
TZOFFSETFROM:+0200
TZOFFSETTO:+0100
TZNAME:CET
DTSTART:20201025T010000
END:STANDARD
END:VTIMEZONE
BEGIN:VEVENT
DTSTART;TZID=Europe/Brussels:20200608T190000
DTEND;TZID=Europe/Brussels:20200608T220000
DTSTAMP:20260423T085420
CREATED:20200515T062352Z
LAST-MODIFIED:20200518T135849Z
UID:5295-1591642800-1591653600@liege.attac.org
SUMMARY:The Story of Plastic - Ciné-débat
DESCRIPTION:– Première en Wallonie –\nDans le cadre de la journée mondiale des océans\, Attac-Liège vous propose une projection virtuelle UNIQUE du film THE STORY OF PLASTIC !\nConcrètement : \nNous vous donnons rendez-vous à une visioconférence le 8 juin à 19h. Après une brève introduction de la soirée\, nous vous communiquerons le lien pour visionner le film. A la fin du film\, nous vous invitons à rejoindre la visioconférence afin de débattre ensemble du documentaire. \nVersion du film : VO sous-titrée en français \n\n\n  \n→ Rejoindre la visioconférence\n\n\nTHE STORY OF PLASTIC jette un coup d’œil sur la crise de la pollution plastique provoquée par l’homme et sur ses effets mondiaux sur la santé de notre planète et des personnes qui l’habitent. Sur trois continents\, le film illustre la catastrophe en cours : des champs pleins d’ordures\, de véritables montagnes de déchets\, des rivières et des mers obstruées par des déchets\, et un ciel étouffé par les émissions toxiques de la production et de la transformation des plastiques. \n→ www.storyofplastic.org \n\nJournée mondiale des océans\nLa journée mondiale de l’océan est célébrée pour rappeler que les océans jouent un rôle primordial dans notre subsistance. Véritables poumons de notre planète\, ils fournissent\, par exemple\, la plupart de l’oxygène que nous respirons. Ils constituent aussi une source importante de nourriture et de médicaments\, et sont un élément essentiel de la biosphère. Il est donc important de sensibiliser le public sur la place fondamentale qu’ils occupent dans notre écosystème\, mais également sur l’impact de nos activités humaines. \nCette journée vise notamment à mobiliser et unir les populations du monde entier sur un projet de gestion durable des océans. Il s’agit enfin de rendre hommage à leur beauté et à leur richesse. \n→ www.un.org/fr/events/oceansday/
URL:https://liege.attac.org/event/the-story-of-plastic/
CATEGORIES:Ciné-débat
END:VEVENT
BEGIN:VEVENT
DTSTART;TZID=Europe/Brussels:20200609T080000
DTEND;TZID=Europe/Brussels:20200609T170000
DTSTAMP:20260423T085420
CREATED:20200602T124746Z
LAST-MODIFIED:20200602T124746Z
UID:5405-1591689600-1591722000@liege.attac.org
SUMMARY:Comité de rédaction de notre périodique
DESCRIPTION:Comité de rédaction pour le numéro 102 de notre périodique\, le mardi 9 juin à 10h. \nCette séance se fera en visioconférence ; vous pourrez y accéder via ce lien : https://us02web.zoom.us/j/82812231576
URL:https://liege.attac.org/event/comite-de-redaction-de-notre-periodique/
CATEGORIES:Réunion Attac
END:VEVENT
BEGIN:VEVENT
DTSTART;TZID=Europe/Brussels:20200610T200000
DTEND;TZID=Europe/Brussels:20200610T200000
DTSTAMP:20260423T085420
CREATED:20200602T122848Z
LAST-MODIFIED:20200602T124430Z
UID:5396-1591819200-1591819200@liege.attac.org
SUMMARY:Groupe de lecture - Thomas PIKETTY
DESCRIPTION:Capital et idéologie – Thomas PIKETTY \nDans le cadre du groupe de lecture que nous vous proposons pour aborder ensemble le livre de Thomas Piketty\, nous vous invitons à une première séance d’introduction afin de déterminer les attentes de chacun\, de parcourir ensemble la table des matières et déterminer le mode de fonctionnement et le nombre de séances. \nCette séance se fera en visioconférence\, vous pourrez vous connecter avec ce lien : https://us02web.zoom.us/j/84660431873. \n 
URL:https://liege.attac.org/event/groupe-de-lecture-thomas-piketty/
CATEGORIES:Groupe de lecture
ORGANIZER;CN="Attac Li%C3%A8ge":MAILTO:info@liege.attac.be
END:VEVENT
BEGIN:VEVENT
DTSTART;TZID=Europe/Brussels:20200616T193000
DTEND;TZID=Europe/Brussels:20200616T220000
DTSTAMP:20260423T085420
CREATED:20200526T053057Z
LAST-MODIFIED:20200710T104229Z
UID:5378-1592335800-1592344800@liege.attac.org
SUMMARY:Repair Class de l'économie
DESCRIPTION:Attac Liège et FinanCité vous invite à un Repair Class de l’économie en visioconférence\, avec Nicolas Franka : Nécessité de revoir le système monétaire international & les initiatives dangereuses comme la Libra ! \nA l’heure de bouleversements économiques sans précédents\, les systèmes économiques sont mis sous pression.\nC’est dans ce contexte que des initiatives monétaires privées comme la Libra – menée par Facebook et un consortium de géants du numérique – menace la souveraineté de nos systèmes monétaires. Un système monétaire pourtant déjà largement critiqué pour son incapacité à remplir équitablement ses fonctions. \nVenez découvrir ce qui se cache derrière cette initiative sans pareil\, le rôle des acteurs monétaires privées dans d’autres pays et les nombreuses alternatives qui existent pourtant. \nRendez-vous le mardi 16 juin à 19h30 à cette adresse : https://zoom.us/j/93589086429
URL:https://liege.attac.org/event/repair-class-de-leconomie/
CATEGORIES:Groupes de formation
ORGANIZER;CN="Attac Li%C3%A8ge":MAILTO:info@liege.attac.be
END:VEVENT
BEGIN:VEVENT
DTSTART;TZID=Europe/Brussels:20200628T080000
DTEND;TZID=Europe/Brussels:20200628T170000
DTSTAMP:20260423T085420
CREATED:20200602T123114Z
LAST-MODIFIED:20200602T123946Z
UID:5400-1593331200-1593363600@liege.attac.org
SUMMARY:Tax Justice Day
DESCRIPTION:La crise sanitaire l’a montré: chacun doit payer sa juste part d’impôt pour financer des services publics de qualité et la transition écologique. La #JusticeFiscale est une exigence démocratique fondamentale! Le 28 juin prochain\, c’est le TAX JUSTICE DAY ! Mobilisons nous en faveur de la Justice Fiscale ! \n► Comment faire ? Rien de plus facile !\n1. Indiquez que vous participez à l’événement Facebook et invitez vos ami.e.s\n2. Envoyez (jean-gabriel.vermeire@cncd.be) pour le 25 juin au plus tard une photo de vous en bonne résolution exigeant des multinationales qu’elles payent leur juste part d’impôts ! \nLes photos agrandies en portraits géants seront disposées le 28 juin prochain devant la Tour des Finances. \n→ Toutes les infos \n 
URL:https://liege.attac.org/event/tax-justice-day-3/
CATEGORIES:Stands et Animations
END:VEVENT
END:VCALENDAR