BEGIN:VCALENDAR
VERSION:2.0
PRODID:-//Attac Liège - ECPv6.6.2//NONSGML v1.0//EN
CALSCALE:GREGORIAN
METHOD:PUBLISH
X-ORIGINAL-URL:https://liege.attac.org
X-WR-CALDESC:évènements pour Attac Liège
REFRESH-INTERVAL;VALUE=DURATION:PT1H
X-Robots-Tag:noindex
X-PUBLISHED-TTL:PT1H
BEGIN:VTIMEZONE
TZID:Europe/Brussels
BEGIN:DAYLIGHT
TZOFFSETFROM:+0100
TZOFFSETTO:+0200
TZNAME:CEST
DTSTART:20200329T010000
END:DAYLIGHT
BEGIN:STANDARD
TZOFFSETFROM:+0200
TZOFFSETTO:+0100
TZNAME:CET
DTSTART:20201025T010000
END:STANDARD
END:VTIMEZONE
BEGIN:VEVENT
DTSTART;TZID=Europe/Brussels:20200402T190000
DTEND;TZID=Europe/Brussels:20200402T220000
DTSTAMP:20260423T144952
CREATED:20200128T142725Z
LAST-MODIFIED:20200313T084342Z
UID:4565-1585854000-1585864800@liege.attac.org
SUMMARY:! Activité annulée ! Clim'ATTAC - Sauver l'eau\, sauver la vie !
DESCRIPTION:Riccardo Petrella\, politologue et économiste\, professeur émérite à l’université de Louvain\, mettra en évidence le vol de l’eau / de la vie que l’on continuera à perpétrer aussi longtemps que ne seront pas renversés les trois pouvoirs actuels : la technologie\, qui occulte le sens de la vie\, l’Etat nation(aliste) souverain absolu\, le capitalisme prédateur.  Les conflits seront terriblement meurtriers si un tel renversement n’a pas lieu. 
URL:https://liege.attac.org/event/sauver-leau-sauver-la-vie/
LOCATION:ULiège Salle Lumière\, Place du XX Août\, Liège\, 4000\, Belgique
CATEGORIES:Activité annulée
ORGANIZER;CN="Attac Li%C3%A8ge":MAILTO:info@liege.attac.be
END:VEVENT
BEGIN:VEVENT
DTSTART;TZID=Europe/Brussels:20200407T190000
DTEND;TZID=Europe/Brussels:20200407T220000
DTSTAMP:20260423T144952
CREATED:20200129T100942Z
LAST-MODIFIED:20200411T044228Z
UID:4583-1586286000-1586296800@liege.attac.org
SUMMARY:! Activité annulée - Lire Piketty
DESCRIPTION:
URL:https://liege.attac.org/event/lire-piketty-2/
LOCATION:Beau-Mur\, Rue du Beau-Mur 48\, Liège\, 4030\, Belgique
CATEGORIES:Activité annulée
END:VEVENT
BEGIN:VEVENT
DTSTART;TZID=Europe/Brussels:20200418T100000
DTEND;TZID=Europe/Brussels:20200418T130000
DTSTAMP:20260423T144952
CREATED:20200227T133632Z
LAST-MODIFIED:20200411T044219Z
UID:4787-1587204000-1587214800@liege.attac.org
SUMMARY:! Activité annulée - Guerre et démocratie
DESCRIPTION:Par Stan Brabant\, chez de projet armes chez Amnesty International.
URL:https://liege.attac.org/event/guerre-et-democratie/
LOCATION:Centre Leonardo Da Vinci\, rue Cockerill 86\, Seraing\, 4100\, Belgique
CATEGORIES:Activité annulée
ORGANIZER;CN="Attac Li%C3%A8ge":MAILTO:info@liege.attac.be
END:VEVENT
BEGIN:VEVENT
DTSTART;TZID=Europe/Brussels:20200421T140000
DTEND;TZID=Europe/Brussels:20200421T160000
DTSTAMP:20260423T144952
CREATED:20200127T121608Z
LAST-MODIFIED:20200414T110143Z
UID:4556-1587477600-1587484800@liege.attac.org
SUMMARY:! Annulé - Groupe d'évaluation
DESCRIPTION:Groupe d’évaluation de nos ciné-débats (accessible à tous).
URL:https://liege.attac.org/event/groupe-evaluation/
LOCATION:Beau-Mur\, Rue du Beau-Mur 48\, Liège\, 4030\, Belgique
CATEGORIES:Activité annulée
END:VEVENT
BEGIN:VEVENT
DTSTART;TZID=Europe/Brussels:20200421T193000
DTEND;TZID=Europe/Brussels:20200421T220000
DTSTAMP:20260423T144952
CREATED:20200414T110010Z
LAST-MODIFIED:20200710T104626Z
UID:5087-1587497400-1587506400@liege.attac.org
SUMMARY:Visioconférence - Les outils de la finance alternative
DESCRIPTION:Dans le cadre de nos formations « Repair Class de l’économie« \, nous vous proposons une conférence web sur les outils de la finance alternative\, avec Nicolas Franka. \nLa visioconférence vous sera proposée via le système Zoom. Pour y participer\, il vous suffit de cliquer sur le lien ci-dessous et de suivre les indications. \nRejoindre la visioconférence (Meeting ID: 889 9871 2882) \n  \nEn collaboration avec Financité
URL:https://liege.attac.org/event/repair-class-les-outils-de-la-finance-alternative/
CATEGORIES:Groupes de formation
ORGANIZER;CN="Attac Li%C3%A8ge":MAILTO:info@liege.attac.be
END:VEVENT
BEGIN:VEVENT
DTSTART;TZID=Europe/Brussels:20200428T190000
DTEND;TZID=Europe/Brussels:20200428T220000
DTSTAMP:20260423T144952
CREATED:20200129T101045Z
LAST-MODIFIED:20200414T110221Z
UID:4586-1588100400-1588111200@liege.attac.org
SUMMARY:! Annulé - Lire Piketty
DESCRIPTION:
URL:https://liege.attac.org/event/lire-piketty-3/
LOCATION:Beau-Mur\, Rue du Beau-Mur 48\, Liège\, 4030\, Belgique
CATEGORIES:Activité annulée
END:VEVENT
BEGIN:VEVENT
DTSTART;TZID=Europe/Brussels:20200430T180000
DTEND;TZID=Europe/Brussels:20200430T193000
DTSTAMP:20260423T144952
CREATED:20200423T063638Z
LAST-MODIFIED:20200423T063638Z
UID:5150-1588269600-1588275000@liege.attac.org
SUMMARY:Le mouvement social face à l'après-Covid-19
DESCRIPTION:Alors que la plus grande incertitude plane sur la forme que prendront nos sociétés une fois passée la crise sanitaire\, une intense bataille idéologique fait d’ores et déjà rage pour en définir les contours. D’un côté\, les tenants du statu quo néolibéral entendent\, ouvertement ou de manière feutrée\, préserver les hiérarchies sociales existantes\, et préparent le terrain pour de nouvelles offensives antisociales. De l’autre\, associations\, syndicats et forces citoyennes et politiques de gauche espèrent profiter de l’ébranlement des certitudes d’avant pour réorienter notre modèle de développement vers la transition écologique et sociale\, et impulser une nouvelle vague de conquêtes\, à la fois sur le plan de la démocratie\, des droits fondamentaux et de l’égalité. De l’issue de cette confrontation dépendront nombre de choix de sociétés qui présideront aux grandes orientations politiques et socio-économiques de demain. \nAfin de réfléchir à cet enjeu capital pour les forces œuvrant à l’émancipation sociale et penser les perspectives de luttes à venir\, Attac Bruxelles et la Revue politique vous proposent d’en débattre lors d’une conférence virtuelle retransmise en direct sur Zoom et Facebook\, avec : \n– Christine Mahy\, Secrétaire générale et politique du Réseau Wallon de Lutte contre la Pauvreté \n– Nabil Sheikh Hassan\, Chercheur en sciences économiques à l’UCL \n– Arnaud Levêque\, Secrétaire fédéral de la Centrale Générale à la FGTB \nLa visioconférence aura lieu le 30 avril à 18h00. \nElle sera accessible par Facebook en livestream à partir des pages d’Attac Bruxelles et de la Revue Politique\, et par Zoom (lien bientôt disponible sur ce descriptif).
URL:https://liege.attac.org/event/le-mouvement-social-face-a-lapres-covid-19/
CATEGORIES:Conférences
END:VEVENT
END:VCALENDAR