BEGIN:VCALENDAR
VERSION:2.0
PRODID:-//Attac Liège - ECPv6.6.2//NONSGML v1.0//EN
CALSCALE:GREGORIAN
METHOD:PUBLISH
X-WR-CALNAME:Attac Liège
X-ORIGINAL-URL:https://liege.attac.org
X-WR-CALDESC:évènements pour Attac Liège
REFRESH-INTERVAL;VALUE=DURATION:PT1H
X-Robots-Tag:noindex
X-PUBLISHED-TTL:PT1H
BEGIN:VTIMEZONE
TZID:Europe/Brussels
BEGIN:DAYLIGHT
TZOFFSETFROM:+0100
TZOFFSETTO:+0200
TZNAME:CEST
DTSTART:20190331T010000
END:DAYLIGHT
BEGIN:STANDARD
TZOFFSETFROM:+0200
TZOFFSETTO:+0100
TZNAME:CET
DTSTART:20191027T010000
END:STANDARD
END:VTIMEZONE
BEGIN:VEVENT
DTSTART;TZID=Europe/Brussels:20191105T193000
DTEND;TZID=Europe/Brussels:20191105T213000
DTSTAMP:20260425T143034
CREATED:20191014T113833Z
LAST-MODIFIED:20191015T103945Z
UID:4079-1572982200-1572989400@liege.attac.org
SUMMARY:Groupe de lecture - Explorer ensemble des alternatives
DESCRIPTION:Attac-Liège vous propose une lecture commune de ReCommons Europe –  Pour un nouvel internationalisme des peuples. \nExplorer ensemble des alternatives : \n\ntravail emploi et lien sociaux\nquelle transition énergétique\nquelle féminisme\nquelle santé\n…\n\n  \n→ Télécharger le manifeste \n 
URL:https://liege.attac.org/event/groupe-de-lecture-explorer-ensemble-des-alternatives/
LOCATION:Beau-Mur\, Rue du Beau-Mur 48\, Liège\, 4030\, Belgique
CATEGORIES:Groupe de lecture
ORGANIZER;CN="Attac Li%C3%A8ge":MAILTO:info@liege.attac.be
END:VEVENT
BEGIN:VEVENT
DTSTART;TZID=Europe/Brussels:20191107T190000
DTEND;TZID=Europe/Brussels:20191107T213000
DTSTAMP:20260425T143034
CREATED:20190913T100858Z
LAST-MODIFIED:20191003T125540Z
UID:3943-1573153200-1573162200@liege.attac.org
SUMMARY:Ciné-débat - Thermostat climatique
DESCRIPTION:Dans le cadre du cycle Clim’ATTAC – un cycle pour notre avenir\, Attac-Liège vous invite à venir échanger et débattre des enjeux climatiques\, autour du film de Arthur Rifflet. \n\nSous la pression du réchauffement climatique\, la géo-ingénierie\, la modification à grande échelle du climat de la terre\, n’est plus de la science-fiction.Capter le CO2 présent dans l’atmosphère grâce à des forêts d’arbres artificiels\, refléter la lumière du soleil en créant un bouclier dans la mésosphère… Des scientifiques testent de nouvelles technologies qui selon eux seront capables de limiter les effets du réchauffement\, voire de refroidir la planète. \n\nP.A.F. : 3€ \n  \n \n 
URL:https://liege.attac.org/event/cine-debat-thermostat-climatique/
LOCATION:ULiège\, Place du XX Aout\, Pace du 20 aout\, 4000 Liège
CATEGORIES:Ciné-débat
ORGANIZER;CN="Attac Li%C3%A8ge":MAILTO:info@liege.attac.be
END:VEVENT
BEGIN:VEVENT
DTSTART;TZID=Europe/Brussels:20191108T190000
DTEND;TZID=Europe/Brussels:20191108T213000
DTSTAMP:20260425T143034
CREATED:20191008T082731Z
LAST-MODIFIED:20191022T074354Z
UID:4065-1573239600-1573248600@liege.attac.org
SUMMARY:Le progrès contre les citoyens
DESCRIPTION:Le progrès contre les citoyensConférence-débat avec Olivier Rouzet\, thérapeute et essayiste* (Lyon) \nNotre société laisse en chemin les personnes les plus fragiles sous prétexte de modernité. Le fossé se creuse de plus en plus\, engendrant frustrations et rejet de notre système politique. \nEn 2002\, dans un quartier ouvrier de Strasbourg\, le petit Bilal\, un enfant de 4 ans\, chute dans une cage d’ascenseur et décède. Cet accident très médiatisé\, à l’origine de la loi « de Robien »\, nous interpelle. Le progrès technologique est-il vraiment accessible à tous ? L’ascenseur\, solution choisie par notre société moderne\, est-il supérieur à l’escalier\, solution « économique » ? \nÀ travers ce parallèle\, Olivier Rouzet remet en question le concept de progrès\, nous invite à refuser les fausses versions de celui-ci\, à changer nos références culturelles\, notre regard sur le monde et sur nous-mêmes\, et surtout à modifier nos comportements\, car le temps presse… \n * Panne d’ascenseur dans le social – Le progrès contre les citoyens   Éditions Libre & Solidaire\, 2019. \nOrganisé par le mpOC-Liège avec le soutien d’Attac-Liège. \nÀ la salle Lumière de l’ULiège\, place du XX août 7 (2e étage)\, à 19 h 30\, accueil dès 19 h. \nEntrée à prix libre \n  \n \n 
URL:https://liege.attac.org/event/le-progres-contre-les-citoyens/
LOCATION:ULiège\, Place du XX Aout\, Pace du 20 aout\, 4000 Liège
CATEGORIES:Conférences
ORGANIZER;CN="Attac Li%C3%A8ge":MAILTO:info@liege.attac.be
END:VEVENT
BEGIN:VEVENT
DTSTART;TZID=Europe/Brussels:20191109T100000
DTEND;TZID=Europe/Brussels:20191109T130000
DTSTAMP:20260425T143034
CREATED:20191014T114129Z
LAST-MODIFIED:20191104T190640Z
UID:4082-1573293600-1573304400@liege.attac.org
SUMMARY:Ciné-débat - Le meilleur suffit
DESCRIPTION:Attac-Liège et le Cercle Leonardo Da Vinci vous invite à la projection du film « Le meilleur suffit »\, une histoire des coopératives de consommateurs d’avant-hier à demain. \nLa projection sera suivie d’un débat avec Micheline Zanatta\, hitorienne à l’IHOES.
URL:https://liege.attac.org/event/cine-debat-le-meilleur-suffit/
LOCATION:Centre Leonardo Da Vinci\, rue Cockerill 86\, Seraing\, 4100\, Belgique
CATEGORIES:Ciné-débat
ORGANIZER;CN="Attac Li%C3%A8ge":MAILTO:info@liege.attac.be
END:VEVENT
BEGIN:VEVENT
DTSTART;TZID=Europe/Brussels:20191115T090000
DTEND;TZID=Europe/Brussels:20191116T170000
DTSTAMP:20260425T143034
CREATED:20191017T075705Z
LAST-MODIFIED:20191017T075705Z
UID:4098-1573808400-1573923600@liege.attac.org
SUMMARY:La foire du livre politique à Liège
DESCRIPTION:Comme chaque année\, nous serons présents à la Foire du livre politique. \nCette année\, nous partagerons un stand avec le CADTM.  \nPlus d’infos : lafoiredulivre.net \n 
URL:https://liege.attac.org/event/la-foire-du-livre-politique-a-liege/
LOCATION:Cité Miroir\, Place Xavier Neujean\, 22\, Liège\, Belgique
CATEGORIES:Stands et Animations
ORGANIZER;CN="Attac Li%C3%A8ge":MAILTO:info@liege.attac.be
END:VEVENT
BEGIN:VEVENT
DTSTART;TZID=Europe/Brussels:20191116T130000
DTEND;TZID=Europe/Brussels:20191116T190000
DTSTAMP:20260425T143034
CREATED:20191114T135956Z
LAST-MODIFIED:20191114T135956Z
UID:4193-1573909200-1573930800@liege.attac.org
SUMMARY:Verviers - 40 ans de finance alternative et solidaire
DESCRIPTION:Le samedi 16 novembre\, Salle de l’Arc-Verviers asbl\, Place Général Jacques\, 16 à Verviers \nInformations pour les coopératives présentes \nNous vous invitons à un évènement sur la finance citoyenne afin de présenter au grand public les possibilités qui existent de donner un sens nouveau à son épargne : le but est donc de faire connaitre votre projet. Nous proposons 2 formules : une présence fixe à un stand pour faire connaitre votre projet et donner la possibilité aux gens de prendre des données pour y investir éventuellement\, mais aussi une brève prise de parole (5 minutes) en alternance avec les différents intervenants sur la grande scène-débat. \nObjectif : présenter en quoi votre projet s’inscrit dans une démarche de finance alternative. \nDéroulement et programme \nA partir de 13H : installation de votre stand  \n\n\n1 table mise à disposition + grille d’exposition sur demande. Merci de nous confirmer le nombre de grilles souhaité. \n\n\n14H : Accueil et ouverture des stands \n14H15 : Présentation du Pivot et des projets soutenus \n14H30 : Intervention d’Éric NEMES (ATTAC) \n15H15 : Intervention de 4 coopératives \n\n\nFinancité > Vins de Herve \n\n\nBocagen > Vervîcoop \n\n\n15H40 : pause active – rencontres\, découverte des stands \n16H : Intervention de Bernard BAYOT et témoignages vidéo \n17H : intervention de 4 coopératives \n\n\nCourant d’Air > Val’heureux \n\n\nHistoire d’un grain > Habitat InVesdre \n\n\n17H25 : Rencontres et Verre de l’amitié \n18H00 : Buffet ouvert \n18H30 : Gâteau pour l’anniversaire du Pivot.
URL:https://liege.attac.org/event/verviers-40-ans-de-finance-alternative-et-solidaire/
LOCATION:Salle de l’Arc-Verviers asbl\, Salle de l’Arc-Verviers asbl\, Place Général Jacques\, 16\, Verviers\, 4800
CATEGORIES:L'autre Agenda
END:VEVENT
BEGIN:VEVENT
DTSTART;TZID=Europe/Brussels:20191119T193000
DTEND;TZID=Europe/Brussels:20191119T220000
DTSTAMP:20260425T143034
CREATED:20191008T081726Z
LAST-MODIFIED:20200710T104328Z
UID:4058-1574191800-1574200800@liege.attac.org
SUMMARY:Repair Class de l'économie : Comprendre la Libra et les crypto-monnaies
DESCRIPTION:Formation gratuite – 1 séance par mois \n8e séance : Comprendre la Libra et les crypto-monnaies : enjeux monétaires\nDepuis plusieurs mois\, les analystes économiques\, financiers\, comme les politiques s’affairent autour de la nouvelle devise privée créée par Facebook et ses comparses. Et à raison\, car avec 2\,6 milliards d’utilisateurs à portées de main\, les conséquences sociétales de cette monnaie privée sont potentiellement énormes. \nCette présentation visera à clarifier la manière dont la Libra s’intègre sur ce nouveau terrain grandissant des monnaies alternatives. Ses modes d’émission\, les technologies sous-jacentes et les impacts potentiels sur la société.Nous passerons en revue les diverses formes monétaires aux regards des alternatives déjà existantes et nous analyserons la capacité de ces unités de compte à répondre aux besoins économiques et de sociétés traditionnellement associés aux monnaies. \nPar Nicolas Franka \nEn collaboration avec Financité \n 
URL:https://liege.attac.org/event/repair-class-de-leconomie-comprendre-la-libra-et-les-crypto-monnaies/
LOCATION:Beau-Mur\, Rue du Beau-Mur 48\, Liège\, 4030\, Belgique
CATEGORIES:Groupes de formation
ORGANIZER;CN="Attac Li%C3%A8ge":MAILTO:info@liege.attac.be
END:VEVENT
BEGIN:VEVENT
DTSTART;TZID=Europe/Brussels:20191128T190000
DTEND;TZID=Europe/Brussels:20191128T213000
DTSTAMP:20260425T143034
CREATED:20190913T101059Z
LAST-MODIFIED:20191108T082532Z
UID:3946-1574967600-1574976600@liege.attac.org
SUMMARY:Ciné-débat - Le temps des forêts
DESCRIPTION:Dans le cadre du cycle Clim’ATTAC – un cycle pour notre avenir\, Attac-Liège vous invite à venir échanger et débattre des enjeux climatiques\, autour du film de François-Xavier Drouet. \n\nSymbole aux yeux des urbains d’une nature authentique\, la forêt française vit une phase d’industrialisation sans précédent. Mécanisation lourde\, monocultures\, engrais et pesticides\, la gestion forestière suit à vitesse accélérée le modèle agricole intensif. Du Limousin aux Landes\, du Morvan aux Vosges\, Le Temps des forêts propose un voyage au cœur de la sylviculture industrielle et de ses alternatives. Forêt vivante ou désert boisé\, les choix d’aujourd’hui dessineront le paysage de demain. \n\nP.A.F. : 3€
URL:https://liege.attac.org/event/cine-debat-le-temps-des-forets/
LOCATION:ULiège\, Place du XX Aout\, Pace du 20 aout\, 4000 Liège
CATEGORIES:Ciné-débat
ORGANIZER;CN="Attac Li%C3%A8ge":MAILTO:info@liege.attac.be
END:VEVENT
END:VCALENDAR