BEGIN:VCALENDAR
VERSION:2.0
PRODID:-//Attac Liège - ECPv6.6.2//NONSGML v1.0//EN
CALSCALE:GREGORIAN
METHOD:PUBLISH
X-ORIGINAL-URL:https://liege.attac.org
X-WR-CALDESC:évènements pour Attac Liège
REFRESH-INTERVAL;VALUE=DURATION:PT1H
X-Robots-Tag:noindex
X-PUBLISHED-TTL:PT1H
BEGIN:VTIMEZONE
TZID:Europe/Brussels
BEGIN:DAYLIGHT
TZOFFSETFROM:+0100
TZOFFSETTO:+0200
TZNAME:CEST
DTSTART:20190331T010000
END:DAYLIGHT
BEGIN:STANDARD
TZOFFSETFROM:+0200
TZOFFSETTO:+0100
TZNAME:CET
DTSTART:20191027T010000
END:STANDARD
END:VTIMEZONE
BEGIN:VEVENT
DTSTART;TZID=Europe/Brussels:20191001T193000
DTEND;TZID=Europe/Brussels:20191001T220000
DTSTAMP:20260425T171107
CREATED:20190923T125327Z
LAST-MODIFIED:20190926T115357Z
UID:3982-1569958200-1569967200@liege.attac.org
SUMMARY:Karl Marx et les gilets jaunes !
DESCRIPTION:Les gilets jaunes manifestent toujours pour des fins de mois plus faciles\, pour d’autres conditions de travail…Marx parlait déjà\, en 1880\, dans son « Enquête ouvrière » des difficultés pour survivre au jour le jour\, des pertes d’emploi consécutives à l’introduction de machines ou du rapport entre salaires payés aux femmes et aux hommes… Mieux: il invitait travailleuses et travailleurs à prendre eux-mêmes parole sur leur conditions de vie. \nC’est ce qui a amené Erik Rydberg (journaliste et écrivain) à proposer une petite édition de poche de cette « Enquête ouvrière »\, outil de réflexion et d’action pour toutes celles et tous ceux qui aujourd’hui plus que jamais se font exploiter et jeter par le capitalisme.  \nVenez le découvrir et participer à une mise en question collective. \nDétails sur cette édition: www.erikrydberg.net/litpol \n 
URL:https://liege.attac.org/event/karl-marx-et-les-gilets-jaunes/
LOCATION:ULiège Moyen Physique\, Place du XX Aout\, Liège\, 4000\, Belgique
CATEGORIES:Groupe de lecture
ORGANIZER;CN="Attac Li%C3%A8ge":MAILTO:info@liege.attac.be
END:VEVENT
BEGIN:VEVENT
DTSTART;TZID=Europe/Brussels:20191003T200000
DTEND;TZID=Europe/Brussels:20191003T220000
DTSTAMP:20260425T171107
CREATED:20190919T085024Z
LAST-MODIFIED:20190930T120932Z
UID:3963-1570132800-1570140000@liege.attac.org
SUMMARY:Deuxième réunion publique «Watching Alibaba»
DESCRIPTION:Urbagora et Attac-Liège vous invitons à assister à la deuxième réunion plénière de la coordination «Watching Alibaba» qui se déroulera le 3 octobre à partir de 20h (début à 20h30) au Beau-Mur – rue du Beau-Mur 48\, 4030 Liège : https://www.facebook.com/events/399650964046073/ \nToutes les personnes et groupes souhaitant résister à l’arrivée d’Alibaba à Liège sont les bienvenues.
URL:https://liege.attac.org/event/deuxieme-reunion-publique-watching-alibaba/
LOCATION:Beau-Mur\, Rue du Beau-Mur 48\, Liège\, 4030\, Belgique
CATEGORIES:L'autre Agenda
ORGANIZER;CN="Attac Li%C3%A8ge":MAILTO:info@liege.attac.be
END:VEVENT
BEGIN:VEVENT
DTSTART;TZID=Europe/Brussels:20191005T100000
DTEND;TZID=Europe/Brussels:20191005T130000
DTSTAMP:20260425T171107
CREATED:20190705T075359Z
LAST-MODIFIED:20190902T124732Z
UID:3726-1570269600-1570280400@liege.attac.org
SUMMARY:L’évasion fiscale : une spécialité des fisco-trafiquants
DESCRIPTION:Une conférence par Christian Savestre\, membre d’ATTAC Bruxelles et journaliste à POUR. \nL’évasion fiscale ne tombe pas du ciel. Elle est le produit de mécanismes complexes imaginés par les sociétés de consultance et d’audit (notamment les fameux « big 4 ») et d&#39;avocats fiscalistes avec la complicité de banques d’affaires. \nQui sont ces acteurs qui siphonnent littéralement les ressources publiques ? \nQui conseille – moyennant gros budgets – la Commission Européenne pour mettre au point des mesures pour lutter contre la fraude et l’évasion fiscales ? \nSurprise ! Ce sont les mêmes ! \nEt qui prête de l’argent aux Etats après avoir contribué à creuser les déficits publics ? Le secteur bancaire. \nVous disiez « financement des services publics » ?
URL:https://liege.attac.org/event/evasion-et-fraude-fiscale/
LOCATION:Centre Leonardo Da Vinci\, rue Cockerill 86\, Seraing\, 4100\, Belgique
CATEGORIES:Conférences
ORGANIZER;CN="Attac Li%C3%A8ge":MAILTO:info@liege.attac.be
END:VEVENT
BEGIN:VEVENT
DTSTART;TZID=Europe/Brussels:20191010T190000
DTEND;TZID=Europe/Brussels:20191010T213000
DTSTAMP:20260425T171107
CREATED:20190910T073416Z
LAST-MODIFIED:20191003T125426Z
UID:3902-1570734000-1570743000@liege.attac.org
SUMMARY:Ciné-débat - On a 20 ans pour changer le monde
DESCRIPTION:Dans le cadre du cycle Clim’ATTAC – un cycle pour notre avenir\, Attac-Liège vous invite à venir échanger et débattre des enjeux climatiques\, autour du film de Hélène Médique. \n\nOn a 20 ans pour changer le monde…et tout commence par la terre qui nous nourrit. Le constat est là : 60 % des sols sont morts\, et le mode de production actuel ne nourrit pas la planète. Mais des hommes et des femmes relèvent le défi et démontrent que l’on peut se passer des pesticides et des intrants chimiques pour toute notre alimentation. Grâce à leur énergie communicative qui bouscule les discours et les habitudes\, un autre monde est possible ! \n\nP.A.F. : 3€  \n \n 
URL:https://liege.attac.org/event/cine-debat-on-a-20-ans-pour-changer-le-monde/
LOCATION:ULiège\, Place du XX Aout\, Pace du 20 aout\, 4000 Liège
CATEGORIES:Ciné-débat
ORGANIZER;CN="Attac Li%C3%A8ge":MAILTO:info@liege.attac.be
END:VEVENT
BEGIN:VEVENT
DTSTART;TZID=Europe/Brussels:20191010T200000
DTEND;TZID=Europe/Brussels:20191010T220000
DTSTAMP:20260425T171107
CREATED:20191007T110949Z
LAST-MODIFIED:20191007T110949Z
UID:4048-1570737600-1570744800@liege.attac.org
SUMMARY:Ciné-débat : Wikileaks\, enquête sur un contre-pouvoir
DESCRIPTION:«La peine de mort ou la détention à vie» : telle est la sépulture pénale qui l’attend s’il est jugé en Amérique. Depuis le 11 avril dernier\, Julian Assange –incarcéré dans le pénitencier londonien de Belmarsh– passe ses journées et ses nuits dans l’attente fébrile d’une probable extradition vers les Etats-Unis. Pour la Grande-Bretagne\, la décision va de soi. Avant même tout jugement prononcé par la Haute Cour de Westminster en février prochain\, les autorités politiques britanniques ont déjà fait part de leur volonté expresse. Le 12 juin\, le ministre de l’Intérieur Sajid Javid a révélé avoir signé et certifié l’ordre d’extradition du fondateur de WikiLeaks. \nPour l’Administration Trump\, évidemment\, la question ne se pose pas. Qualifié d’«ennemi « numéro un » des Etats-Unis»\, Assange est poursuivi par le gouvernement US au titre de 18 chefs d’inculpation –relevant tous de l’«Espionage Act» qui\, dans le droit américain\, sont passibles de la peine capitale. «Londres\, à qui nous en avons fait la demande\, va extrader Julian Assange»\, a tenu à réaffirmer le Secrétaire d’Etat Mike Pompeo. Preuve de cette conviction ? L’Etat américain de Virginie a constitué\, depuis plusieurs mois\, un Grand Jury dans le but avoué de délivrer contre le journaliste australien un verdict de culpabilité absolue. Le 24 mai 2019\, le Département de la Justice l’a encore répété : pour avoir constitué «une association de malfaiteurs en vue de recevoir des informations confidentielles relevant de la défense nationale\, à l’avantage d’une nation étrangère» [sic]\, Assange sera condamné à –au moins– 175 années d’emprisonnement… \nWIKILEAKS. C’est en 2010 que le site WikiLeaks s’est fait vraiment connaître. Plus précisément\, le 5 avril 2010 avec la diffusion de Collateral Murder… Sur cette vidéo\, de quelques minutes seulement\, on voit des militaires américains exécuter délibérément des civils irakiens «sans défense». Lors de ce raid\, qui a eu lieu trois années plus tôt (le 12 juillet 2007) à Bagdad\, dix-huit personnes –dont deux reporters de l’agence Reuters– sont «assassinées» en pleine rue\, sans aucuns motifs. Outre des images d’apocalypse\, la vidéo laisse entendre le dialogue mené entre le pilote de l’hélicoptère Apache et son supérieur qui\, à plusieurs milliers de kilomètres du front de guerre irakien\, l’encourage à mitrailler «tout ce qui bouge». Les réactions à la diffusion de Collateral Murder ne tarderont pas. Les premiers à sonner l’hallali contre Assange ? Les éditorialistes politiques de la chaîne ultra Fox News\, pour qui «un homme mort ne peut plus divulguer quoi que ce soit. Assange est un traître\, et il a désobéi à toutes les lois des États-Unis. Il n’y a qu’une chose à faire\, tirer sur ce fils de pute. Illégalement».  \nJuillet 2010\, nouveau scoop sensationnel. WikiLeaks –en partenariat avec vingt des plus grands journaux occidentaux– rend publics 91.000 documents compromettants : les Afghan War Diaries. Parmi les innombrables rapports militaires internes et notes de service de l’armée américaine\, une série de documents font particulièrement scandale. Ils révèlent l’existence d’un escadron de la mort au sein des forces spéciales US\, la Task Force 373. Cette unité a pour mission d’exécuter méthodiquement 2.000 personnes. Des assassinats ciblés («bavures» comprises) pour lesquels les membres du gouvernement Obama mériteraient d’être jugés pour «crimes de guerre».  \nEn novembre de la même année\, WikiLeaks diffuse les CableGate qui vont faire du hacker australien la bête noire de l’Administration américaine. Les CableGate regroupent plus de 250.000 télégrammes diplomatiques\, la plupart «top secret». Puis de nouvelles «fuites» vont se succéder : les Syria Files ; les Kissinger Cables ; l’espionnage des trois Présidents français Chirac\, Sarkozy\, Hollande et de la Chancelière Angela Merkel (tous mis sur écoute par les services de renseignements de l’armée américaine); les méthodes barbares recommandées pour faire parler les prisonniers détenus à Guantanamo ; les défauts\, sciemment cachés\, de la centrale nucléaire de Fukushima ; le rôle joué par la Fondation Clinton\, financée avec largesse par l’Arabie Saoudite ; les demandes réitérées de la Secrétaire d’Etat\, Hillary Clinton\, pour que Riyad fournisse encore plus d’armes aux combattants de Daesh («l’Etat Islamique»)… \nCette projection a lieu grâce à l’appui de \n«Premières lignes» / «ARTE» / «LCP Assemblée Nationale» 2013 \n  \nLe film sera suivi d’un débat avec  Clare DALY\, Eurodéputée irlandaise\, affiliée au groupe de «la Gauche unitaire européenne » \n  \nWIKILEAKS\, ENQUÊTE SUR UN CONTRE-POUVOIR \nFrance 2013 / 55 minutes \nL’Aventure \nGalerie du Centre\, 57 rue des Fripiers à Bruxelles \n[entre la Monnaie et l’arrière de la Bourse]\n  \n bxl1@attac.be      http://bxl.attac.be       tél : 0494 808 854 \n 
URL:https://liege.attac.org/event/cine-debat-wikileaks-enquete-sur-un-contre-pouvoir/
LOCATION:L’Aventure\, Bruxelles
CATEGORIES:L'autre Agenda
END:VEVENT
BEGIN:VEVENT
DTSTART;TZID=Europe/Brussels:20191011T200000
DTEND;TZID=Europe/Brussels:20191011T220000
DTSTAMP:20260425T171107
CREATED:20190923T103027Z
LAST-MODIFIED:20190923T103027Z
UID:3968-1570824000-1570831200@liege.attac.org
SUMMARY:Les communs économiques - Conférence-débat
DESCRIPTION: \n\n\n\n\nFinancité est heureux de vous inviter à une soirée remue-méninges exceptionnelle. \nUne soirée qui s’inscrit dans la perspective d’une réflexion générale sur la transition et la création de biens communs économiques. \nEn partenariat avec l’Accélérateur de Transitions et Novacitis nous vous proposons une conférence-débat avec: \n– Prof. Philippe de Leener\, auteur de « Transitions économiques – En finir avec les alternatives dérisoires » \n– Eric Dewaele\, coordinateur axe éducation Financité\, Administrateur Novacitis \n– Et Evelyne Dodeur\, conseillère en Intelligence Collective. \nAprès l’intervention de nos invités\, nous procéderons à une animation découverte suivi d’un fish-bowl (ou bocal) afin que tout le monde puisse participer: poser ses questions et enrichir le débat. \nLa soirée se terminera autour d’un bon verre.
URL:https://liege.attac.org/event/les-communs-economiques-conference-debat/
LOCATION:Novacitis
CATEGORIES:L'autre Agenda
END:VEVENT
BEGIN:VEVENT
DTSTART;TZID=Europe/Brussels:20191015T193000
DTEND;TZID=Europe/Brussels:20191015T220000
DTSTAMP:20260425T171107
CREATED:20190722T133612Z
LAST-MODIFIED:20200710T104332Z
UID:3799-1571167800-1571176800@liege.attac.org
SUMMARY:Repair Class : D’autres banques ? Pourquoi NewB est nécessaire ?
DESCRIPTION:Repair class de l’économie\n\n\nFormation gratuite – 1 séance par mois\n\n\n \n\n\n8e séance : D’autres banques ? Pourquoi NewB est nécessaire ?\n\n\n\n\nDans cette séance de nos ‘Repair-Classes’\, venez en découvrir plus sur ce que fait votre banque !\n« Banque\, dis-moi ce que tu fais et je te dirai qui tu es. »\nQuel est le rôle d’une banque ? Que fait-elle au quotidien ?\nQuels objectifs poursuit-elle ? Quels outils sont à sa disposition ?\nProtège-t-elle votre épargne\, la fait-elle fructifier et si oui comment ?\nCette séance complète la première sur l’histoire du secteur bancaire belge. Elle envisage l’avenir du paysage bancaire\, notamment en Belgique.\nQuelles solutions existent ? Comment les mettre en place ? Quelles sont les alternatives au modèle dominant ?\n \n\n\nPar Nicolas Franka\n\n\n \n\n\nEn collaboration avec Financité\n\n\n\n\n\n\n 
URL:https://liege.attac.org/event/repair-class-la-banque-daujourdhui-et-de-demain/
LOCATION:Beau-Mur\, Rue du Beau-Mur 48\, Liège\, 4030\, Belgique
CATEGORIES:Groupes de formation
ORGANIZER;CN="Attac Li%C3%A8ge":MAILTO:info@liege.attac.be
END:VEVENT
BEGIN:VEVENT
DTSTART;TZID=Europe/Brussels:20191024T190000
DTEND;TZID=Europe/Brussels:20191024T213000
DTSTAMP:20260425T171107
CREATED:20190910T083314Z
LAST-MODIFIED:20191003T125518Z
UID:3906-1571943600-1571952600@liege.attac.org
SUMMARY:Ciné-débat - L'illusion verte
DESCRIPTION:Dans le cadre du cycle Clim’ATTAC – un cycle pour notre avenir\, Attac-Liège vous invite à venir échanger et débattre des enjeux climatiques\, autour du film de Werner Boote. \n\nAujourd’hui\, les industriels investissent beaucoup de temps et d’argent à « verdir » leur image : voitures électriques\, huile de palme labellisée bio\, ou encore produits issus du commerce équitable… tout est fait pour nous déculpabiliser et expliquer que nous pourrions sauver le monde en consommant ces produits. Une pratique dangereusement populaire nommée greenwashing ou éco-blanchiment. Mais si à défaut de sauver le monde\, ces achats responsables ne faisaient qu’enrichir les multinationales ? Werner Boote et Kathrin Hartmann parcourent le monde pour révéler l’envers du décor. \n\nP.A.F. : 3€ \n \n 
URL:https://liege.attac.org/event/cine-debat-lillusion-verte/
LOCATION:ULiège\, Place du XX Aout\, Pace du 20 aout\, 4000 Liège
CATEGORIES:Ciné-débat
ORGANIZER;CN="Attac Li%C3%A8ge":MAILTO:info@liege.attac.be
END:VEVENT
BEGIN:VEVENT
DTSTART;TZID=Europe/Brussels:20191026T100000
DTEND;TZID=Europe/Brussels:20191026T130000
DTSTAMP:20260425T171107
CREATED:20191001T072931Z
LAST-MODIFIED:20191014T122759Z
UID:4015-1572084000-1572094800@liege.attac.org
SUMMARY:Réseaux numériques et information : danger pour la démocratie ou danger de la démocratie
DESCRIPTION:Une conférence par Jean jacques Jespers\, journaliste\, peofesseur à l’ULB \nDéjà\, une grande majorité de médias\, pour attirer lecteurs\, auditeurs ou spectateurs\, tirent de plus en plus sur la corde de l’émotion. Dans un but de retentissement rapide et rentable. Jean jacques Jespers\, dans un article parlait d’ « émocratie ». \nIl décrit là l’attrait du sensationnalisme\, l’individualisme\, la peur\, le voyeurisme\, la compassion…..Tous sentiments accrus dernièrement par les différents réseaux sociaux\, facteurs de réactions et d’opinion. Et que penser d’un tweet à la place d’un communiqué officiel ? Quel sérieux leur prêter ? \nSi l’on ne peut leur nier des interactions positives\, quelle influence peuvent-ils avoir sur certaines fractions de la population ? Et comme nous le dira JJ Jespers sont-ils un danger pour la démocratie et/ou un danger de la démocratie.
URL:https://liege.attac.org/event/les-reseaux-numeriques-et-informations-danger-pour-le-democratie-ou-danger-de-la-democratie/
LOCATION:Centre Leonardo Da Vinci\, rue Cockerill 86\, Seraing\, 4100\, Belgique
CATEGORIES:Conférences
ORGANIZER;CN="Attac Li%C3%A8ge":MAILTO:info@liege.attac.be
END:VEVENT
BEGIN:VEVENT
DTSTART;TZID=Europe/Brussels:20191027T150000
DTEND;TZID=Europe/Brussels:20191027T180000
DTSTAMP:20260425T171107
CREATED:20191025T110819Z
LAST-MODIFIED:20191025T110926Z
UID:4150-1572188400-1572199200@liege.attac.org
SUMMARY:Théâtre/Débat "Combat de pauvres"
DESCRIPTION:Depuis près de 50 ans\, la mauvaise redistribution des richesses en Europe ne cesse d’accroître les inégalités. Les chiffres de la pauvreté explosent…Dans le cadre du lancement de la campagne sur la justice fiscale du CNCD-11.11.11\, nous vous proposons un moment de rencontre autour de la pièce « Combat de pauvres » (Cie Art & tça)\, avec Christine MAHY (Réseau Wallon de Lutte contre la Pauvreté)\, Daniel PUISSANT (Réseau pour la Justice Fiscale)\, modéré par Giovanni LENTINI (Citoyens Actifs pour la Solidarité).  \nProgramme:  \nA 15h\, « Combat De Pauvres » : Représentation théâtrale par la Cie Art & tça. A partir de témoignages récoltés sur le terrain\, la pièce dresse un portrait de ces figures quotidiennes de la pauvreté du simple « clodo » à la famille monoparentale\, et se fait porte-parole des « sans-voix ». \nA 16h30\, « La justice fiscale comme outil de lutte contre la pauvreté » : Débat introduit par Laura Lentini (CNCD-11.11.11) en présence des comédiens et de différents intervenants : avec Christine MAHY (Réseau wallon de lutte contre la pauvreté)\, avec Daniel PUISSANT (Réseau pour la justice fiscale )\, et modéré par Giovanni LENTINI (Citoyens actifs pour la solidarité)  \nLe débat sera suivi d’un temps informel de rencontre avec des associations actives et concernées par la pauvreté sur le territoire ansois. \nPrix: 4€ en prévente\, 5€ sur place\, 1€ pour les article 27Réservation: https://www.weezevent.com/combat-de-pauvres \nUn événement proposé dans le cadre du lancement de la campagne du CNCD-11.11.11 pour la Justice fiscale\, en collaboration avec la Commission Communale Consultative Ans Nord/Sud et le Centre culturel d’Ans.
URL:https://liege.attac.org/event/theatre-debat-combat-de-pauvres/
LOCATION:Centre culturel d’Ans
CATEGORIES:L'autre Agenda
END:VEVENT
END:VCALENDAR