BEGIN:VCALENDAR
VERSION:2.0
PRODID:-//Attac Liège - ECPv6.6.2//NONSGML v1.0//EN
CALSCALE:GREGORIAN
METHOD:PUBLISH
X-WR-CALNAME:Attac Liège
X-ORIGINAL-URL:https://liege.attac.org
X-WR-CALDESC:évènements pour Attac Liège
REFRESH-INTERVAL;VALUE=DURATION:PT1H
X-Robots-Tag:noindex
X-PUBLISHED-TTL:PT1H
BEGIN:VTIMEZONE
TZID:Europe/Brussels
BEGIN:DAYLIGHT
TZOFFSETFROM:+0100
TZOFFSETTO:+0200
TZNAME:CEST
DTSTART:20190331T010000
END:DAYLIGHT
BEGIN:STANDARD
TZOFFSETFROM:+0200
TZOFFSETTO:+0100
TZNAME:CET
DTSTART:20191027T010000
END:STANDARD
END:VTIMEZONE
BEGIN:VEVENT
DTSTART;TZID=Europe/Brussels:20190831T110000
DTEND;TZID=Europe/Brussels:20190901T170000
DTSTAMP:20260425T211812
CREATED:20190619T075437Z
LAST-MODIFIED:20190619T075437Z
UID:3676-1567249200-1567357200@liege.attac.org
SUMMARY:Retrouvailles 2019
DESCRIPTION:Comme chaque année\, nous serons présents à Retrouvailles au parc de la Boverie à Liège ! \nC’est l’occasion de venir nous rencontrer et découvrir nos activités et publications. \n→ Toutes les infos
URL:https://liege.attac.org/event/retrouvailles-2019/
LOCATION:Parc de la Boverie\, Parc de la Boverie\, Liège
CATEGORIES:Stands et Animations
ORGANIZER;CN="Attac Li%C3%A8ge":MAILTO:info@liege.attac.be
END:VEVENT
BEGIN:VEVENT
DTSTART;TZID=Europe/Brussels:20190917T193000
DTEND;TZID=Europe/Brussels:20190917T220000
DTSTAMP:20260425T211812
CREATED:20190722T133424Z
LAST-MODIFIED:20200710T104443Z
UID:3795-1568748600-1568757600@liege.attac.org
SUMMARY:Repair Class : Notre Sécu face aux défis actuels
DESCRIPTION:Repair class de l’économie\n\n\nFormation gratuite – 1 séance par mois\n\n\n \n\n\n7e séance : Notre Sécu face aux défis actuels\n\n\n \n\n\nLa Sécurité sociale\, chef d’œuvre collectif construit par les salariés\, est confrontée à la privatisation\, l’individualisation\, la régionalisation\, la mondialisation\,…
URL:https://liege.attac.org/event/repair-class-notre-secu-face-aux-defis-actuels/
LOCATION:Beau-Mur\, Rue du Beau-Mur 48\, Liège\, 4030\, Belgique
CATEGORIES:Groupes de formation
ORGANIZER;CN="Attac Li%C3%A8ge":MAILTO:info@liege.attac.be
END:VEVENT
BEGIN:VEVENT
DTSTART;TZID=Europe/Brussels:20190919T200000
DTEND;TZID=Europe/Brussels:20190919T220000
DTSTAMP:20260425T211812
CREATED:20190701T121223Z
LAST-MODIFIED:20190702T084121Z
UID:3712-1568923200-1568930400@liege.attac.org
SUMMARY:Ciné-débat - La terre vue du cœur
DESCRIPTION:Attac-Liège et le Centre Culturel de Verviers vous invitent à la projection du film « La terre vue du cœur »  de Iolande Cadrin-Rossignol. La projection sera suivie d’un échange sur les actions belges pour le climat. \n  \n\nAutour de Hubert Reeves et Frédéric Lenoir\, des scientifiques\, auteurs et artistes nous interpellent : la biodiversité est aujourd’hui menacée. Si certains humains sont à l’origine de la crise\, d’autres\, de plus en plus nombreux\, s’y attaquent à bras le corps et créent des solutions. \nEnsemble\, dans ce film dédié aux générations futures\, ils nous rappellent à quel point le vivant sous toutes ses formes est­ un fascinant et touchant mystère… qu’il ne tient qu’à nous de préserver ! \n[Source : www.laterrevueducoeur.com]\n  \n\nLes documentaires sur l’état inquiétant de notre planète ont été nombreux ces dernières années. Mais tous ont leur importance face à l’urgence d’éveiller les consciences…. Le dernier en lice s’inscrit dans cette démarche\, mais en misant cette fois sur la beauté et sur la richesse de notre fragile vaisseau. \nDevant la caméra de la réalisatrice Iolande Cadrin-Rossignol\, ils sont une douzaine de personnalités à défiler\, toutes de divers horizons et ayant en commun leur implication dans la sauvegarde de l’environnement. Au premier rang\, le réputé astrophysicien Hubert Reeves\, mais également l’océanographe américaine Edith Widder\, le philosophe et sociologue français Frédéric Lenoir\, le conservateur du Jardin botanique de Montréal Michel Labrecque\, le « cinéaste des profondeurs » Mario Cyr\, et le bassiste des Cowboys Fringants\, également professeur au Département des sciences naturelles de l’Université du Québec\, Jérôme Dupras. \nÀ tour de rôle\, ces intervenants exposent leurs craintes face à la dégradation des écosystèmes\, mais aussi devant l’importance pour l’espèce humaine de ne plus regarder la nature du haut de son piédestal. Le documentaire séduit par son approche humaniste. Au message apocalyptique\, son auteure préfère faire appel à l’intelligence du cœur devant les merveilles qui risquent de disparaître si chacun garde la tête dans le sable. \nTARIF : 3€DURÉE : 1h30′▾▾▾▾▾▾▾▾▾▾▾▾▾▾▾▾▾▾▾▾▾▾▾▾▾▾▾▾▾▾▾ \nTHÈME DU DÉBAT :« Les actions belges pour le climat » \n▾▾▾▾▾▾▾▾▾▾▾▾▾▾▾▾▾▾▾▾▾▾▾▾▾▾▾▾▾▾▾ \nCE QU’ILS EN DISENT : \nhttps://plus.lesoir.be/158068/article/2018-05-22/la-terre-vue-du-coeur-veut-recreer-le-rapport-affectif-entre-les-humains-les \nhttps://www.sciencesetavenir.fr/decouvrir/tele-cinema/hubert-reeves-la-terre-vue-du-coeur_124290 \nhttps://www.revuesequences.org/2018/04/la-terre-vue-du-coeur/ \nhttps://mrmondialisation.org/la-terre-vue-du-coeur/▾▾▾▾▾▾▾▾▾▾▾▾▾▾▾▾▾▾▾▾▾▾▾▾▾▾▾▾▾▾▾ \nSUR LE NET : Retrouvez « La terre vue du cœur » sur : \n► Le site : https://www.laterrevueducoeur.com/► La page Facebook : https://www.facebook.com/laterrevueducoeur/▾▾▾▾▾▾▾▾▾▾▾▾▾▾▾▾▾▾▾▾▾▾▾▾▾▾▾▾▾▾▾ \nHORAIRE : \nLe Centre culturel ouvrira ses portes à partir de 19h.Les tickets réservés par tél seront disponibles à partir de 19h.Bar ouvert à partir de 19h.Début du film à 20h.▾▾▾▾▾▾▾▾▾▾▾▾▾▾▾▾▾▾▾▾▾▾▾▾▾▾▾▾▾▾▾ \nINFOS & RÉSERVATIONS : \nBilletterie du Centre culturel de VerviersDu lundi au vendredi de 10h à 12h30\, et de 13h30 à 17h30Boulevard de Gérardchamps 7c – 4800 Verviers☏ 087/39.30.60 ✉ billetterie@ccverviers.be💻 www.ccverviers.be▾▾▾▾▾▾▾▾▾▾▾▾▾▾▾▾▾▾▾▾▾▾▾▾▾▾▾▾▾▾▾
URL:https://liege.attac.org/event/cine-debat-la-terre-vue-du-coeur/
LOCATION:Espace Dueberg rue de Gérardchamps Verviers\, rue de Gérardchamps\, Verviers\, 4800\, Belgique
CATEGORIES:Ciné-débat
ORGANIZER;CN="Attac Li%C3%A8ge":MAILTO:info@liege.attac.be
END:VEVENT
BEGIN:VEVENT
DTSTART;TZID=Europe/Brussels:20190921T093000
DTEND;TZID=Europe/Brussels:20190921T200000
DTSTAMP:20260425T211812
CREATED:20190909T123939Z
LAST-MODIFIED:20190909T123939Z
UID:3899-1569058200-1569096000@liege.attac.org
SUMMARY:Tempo Color
DESCRIPTION:21/09/2019 petit-déjeuner & mobilisation solidaires\nUne journée en espaces publics pour découvrir des interpellations et mobilisations solidaires\, pour rencontrer d’autres manières de penser et d’appréhender le monde et des alternatives citoyennes ou associatives\, pour s’adonner à des ateliers\, pour visiter une exposition\, pour découvrir des propositions artistiques et citoyennes surprenantes et enthousiasmantes … \nAccès gratuit à toutes les activités du samedi 21/09/2019. \nPlus d’infos \n 
URL:https://liege.attac.org/event/tempo-color-2/
LOCATION:Place Cathédrale à Liège\, Place Cathédrale\, Liège
CATEGORIES:L'autre Agenda
ORGANIZER;CN="Attac Li%C3%A8ge":MAILTO:info@liege.attac.be
END:VEVENT
BEGIN:VEVENT
DTSTART;TZID=Europe/Brussels:20190924T193000
DTEND;TZID=Europe/Brussels:20190924T213000
DTSTAMP:20260425T211812
CREATED:20190906T073542Z
LAST-MODIFIED:20190906T074021Z
UID:3839-1569353400-1569360600@liege.attac.org
SUMMARY:Soirée de présentation - Attac\, c'est qui\, c'est quoi ?
DESCRIPTION:Le mouvement Attac % Nos valeurs % Nos actions % Notre agenda % Nos perspectives % Verre de l’amitié\nCette soirée est l’occasion pour nous de présenter l’association\, ses actions\, ses objectifs\, … \, d’accueillir les nouveaux membres et sympathisants\, d’échanger\, de discuter autour d’un verre de l’amitié et d’autre surprises !
URL:https://liege.attac.org/event/soiree-de-presentation-attac-cest-qui-cest-quoi/
LOCATION:ULiège Moyen Physique\, Place du XX Aout\, Liège\, 4000\, Belgique
CATEGORIES:Réunion Attac
ORGANIZER;CN="Attac Li%C3%A8ge":MAILTO:info@liege.attac.be
END:VEVENT
END:VCALENDAR