BEGIN:VCALENDAR
VERSION:2.0
PRODID:-//Attac Liège - ECPv6.6.2//NONSGML v1.0//EN
CALSCALE:GREGORIAN
METHOD:PUBLISH
X-ORIGINAL-URL:https://liege.attac.org
X-WR-CALDESC:évènements pour Attac Liège
REFRESH-INTERVAL;VALUE=DURATION:PT1H
X-Robots-Tag:noindex
X-PUBLISHED-TTL:PT1H
BEGIN:VTIMEZONE
TZID:Europe/Brussels
BEGIN:DAYLIGHT
TZOFFSETFROM:+0100
TZOFFSETTO:+0200
TZNAME:CEST
DTSTART:20190331T010000
END:DAYLIGHT
BEGIN:STANDARD
TZOFFSETFROM:+0200
TZOFFSETTO:+0100
TZNAME:CET
DTSTART:20191027T010000
END:STANDARD
END:VTIMEZONE
BEGIN:VEVENT
DTSTART;TZID=Europe/Brussels:20190712T120000
DTEND;TZID=Europe/Brussels:20190714T190000
DTSTAMP:20260423T070153
CREATED:20190606T084647Z
LAST-MODIFIED:20190606T084647Z
UID:3657-1562932800-1563130800@liege.attac.org
SUMMARY:Festival LaSemo
DESCRIPTION:Pour la troisième année\, nous serons présents au village associatif du festival LaSemo et nous vous y présenterons notre nouvelle animation « Notre monde à changer ! » \n 
URL:https://liege.attac.org/event/festival-lasemo/
LOCATION:Parc d’Enghien
CATEGORIES:Stands et Animations
ORGANIZER;CN="Attac Li%C3%A8ge":MAILTO:info@liege.attac.be
END:VEVENT
END:VCALENDAR