BEGIN:VCALENDAR
VERSION:2.0
PRODID:-//Attac Liège - ECPv6.6.2//NONSGML v1.0//EN
CALSCALE:GREGORIAN
METHOD:PUBLISH
X-ORIGINAL-URL:https://liege.attac.org
X-WR-CALDESC:évènements pour Attac Liège
REFRESH-INTERVAL;VALUE=DURATION:PT1H
X-Robots-Tag:noindex
X-PUBLISHED-TTL:PT1H
BEGIN:VTIMEZONE
TZID:Europe/Brussels
BEGIN:DAYLIGHT
TZOFFSETFROM:+0100
TZOFFSETTO:+0200
TZNAME:CEST
DTSTART:20190331T010000
END:DAYLIGHT
BEGIN:STANDARD
TZOFFSETFROM:+0200
TZOFFSETTO:+0100
TZNAME:CET
DTSTART:20191027T010000
END:STANDARD
END:VTIMEZONE
BEGIN:VEVENT
DTSTART;TZID=Europe/Brussels:20190426T090000
DTEND;TZID=Europe/Brussels:20190428T170000
DTSTAMP:20260423T135441
CREATED:20190321T093147Z
LAST-MODIFIED:20190409T120020Z
UID:3405-1556269200-1556470800@liege.attac.org
SUMMARY:Climaction - Village des solutions climatiques
DESCRIPTION:Durant trois jour Attac-Liège participe au Village des solutions climatiques ! \nVenez nous rencontrer ! \nDurant 3 jours : Actions et animations autour de 15 défis : « je suis locavore »\, « j’opte pour une énergie verte et locale »\, « je réduis et trie mes déchets »\, « je soutiens les circuits courts »\, « je me déplace en mobilité douce »… \n🥗 Petite restauration et bières locales à l’éco-quinguette tous les jours 🍺 \nOuverture le vendredi de 13h à 18hLa samedi de 10h à 19hLe dimanche de 9h à 18h \n🍴🥕 Masterclass de cuisine anti gaspi le vendredi de 13h à 18h \nhttps://www.facebook.com/events/371914766731592/ \n🌍 Grande Journée CLIMACTION le samedi 27 avril : \nPetit déjeuner en circuit court.Ateliers participatifs\, animations musicales\, donnerie\, stands des associations et actions climatiques :Plus chauds que le climat : https://www.facebook.com/events/255385898738378/ Climat\, nucléaire et décroissance : https://www.facebook.com/events/795654637477901/ \n🚴 Journée « douce mobilité » le dimanche 28 avril : Petit dejeuner Oxfam\, inscription souhaitée https://www.facebook.com/events/579280852575510/ Atelier gravure vélo et possibilité de tester de vélos électriquesBalades à vélo https://www.facebook.com/events/1175072689326764/Balade à pieds https://www.facebook.com/events/2285288165128635/ Atelier portage bébé https://www.facebook.com/events/1073976092787685/  \nAvec : Cociter\, Step entreprendre\, Credal\, NewB\, Financité\, le Val’heureux\, CNCD-11.11.11\, Novacitis\, Intradel\, Oxfam\, Le Babibar\, la Coopérative Ardente\, Attac\, Pro Vélo\, Livre aux Trésors… \n>Programme détaillé : http://www.lesjourneesimagine.be//fr/climaction
URL:https://liege.attac.org/event/climaction-village-des-solutions-climatiques/
CATEGORIES:Stands et Animations
END:VEVENT
END:VCALENDAR