BEGIN:VCALENDAR
VERSION:2.0
PRODID:-//Attac Liège - ECPv6.6.2//NONSGML v1.0//EN
CALSCALE:GREGORIAN
METHOD:PUBLISH
X-ORIGINAL-URL:https://liege.attac.org
X-WR-CALDESC:évènements pour Attac Liège
REFRESH-INTERVAL;VALUE=DURATION:PT1H
X-Robots-Tag:noindex
X-PUBLISHED-TTL:PT1H
BEGIN:VTIMEZONE
TZID:Europe/Brussels
BEGIN:DAYLIGHT
TZOFFSETFROM:+0100
TZOFFSETTO:+0200
TZNAME:CEST
DTSTART:20190331T010000
END:DAYLIGHT
BEGIN:STANDARD
TZOFFSETFROM:+0200
TZOFFSETTO:+0100
TZNAME:CET
DTSTART:20191027T010000
END:STANDARD
END:VTIMEZONE
BEGIN:VEVENT
DTSTART;TZID=Europe/Brussels:20190228T200000
DTEND;TZID=Europe/Brussels:20190228T220000
DTSTAMP:20260423T210636
CREATED:20190201T135044Z
LAST-MODIFIED:20200629T140641Z
UID:3171-1551384000-1551391200@liege.attac.org
SUMMARY:Vernissage et débat
DESCRIPTION:Attac Liège et le Beau-Mur vous invitent au vernissage de l’exposition « Notre monde à changer » !\nLa présentation de l’exposition sera suivie d’un débat sur chacune des 6 thématiques abordées dans l’exposition.\nNotre monde change\, mais pas dans la bonne direction. Le fossé ne cesse de s’élargir entre riches et pauvres\, entre puissants et précaires. Le climat et la nature se dérèglent chaque année davantage sous l’avalanche des pollutions. Avec la politique de la peur et les attentats terroristes\, les démagogues désignent de faux coupables (les étrangers\, les musulmans…) et gagnent même des élections. \nMais se lamenter ne sert à rien. Ce dont nous avons besoin\, c’est\, tout d’abord\, d’une vision nouvelle pour un avenir désirable. Un mouvement citoyen et un institut de recherche en design\, Attac France et Civic city\, ont uni leurs forces pour raconter ce vieux monde qui va si mal et dessiner les propositions innovantes qui pourraient nous en sortir\, des propositions déjà portées par des milliers d’initiatives citoyennes dans le monde entier. \nCes propositions ont fait l’objet d’un ouvrage et d’une exposition créé par Attac France et Civic City. Les montants de l’évasion fiscale\, la répartition des richesses et les inégalités dans le monde ou encore les conséquences des dérèglements climatique sont mis en images grâce à un système numérique de représentation de figurines créé par l’atelier Intégral Ruedi Baur en hommage au système Isotype développé en 1925 par le socio-économiste autrichien Otto Neurath et le graphiste allemand Gerd Arntz. \nCe jeudi 28 février\, nous vous invitons à venir les découvrir cette exposition qui va prendre place au Beau-Mur de façon permanente. \n 
URL:https://liege.attac.org/event/vernissage-de-lexposition-notre-monde-a-changer/
LOCATION:ULiège\, Salle S 50\, Quai Roosevelt 1B\, Liège\, 4000\, Belgique
CATEGORIES:Stands et Animations
ORGANIZER;CN="Attac Li%C3%A8ge":MAILTO:info@liege.attac.be
END:VEVENT
END:VCALENDAR