BEGIN:VCALENDAR
VERSION:2.0
PRODID:-//Attac Liège - ECPv6.6.2//NONSGML v1.0//EN
CALSCALE:GREGORIAN
METHOD:PUBLISH
X-WR-CALNAME:Attac Liège
X-ORIGINAL-URL:https://liege.attac.org
X-WR-CALDESC:évènements pour Attac Liège
REFRESH-INTERVAL;VALUE=DURATION:PT1H
X-Robots-Tag:noindex
X-PUBLISHED-TTL:PT1H
BEGIN:VTIMEZONE
TZID:Europe/Brussels
BEGIN:DAYLIGHT
TZOFFSETFROM:+0100
TZOFFSETTO:+0200
TZNAME:CEST
DTSTART:20190331T010000
END:DAYLIGHT
BEGIN:STANDARD
TZOFFSETFROM:+0200
TZOFFSETTO:+0100
TZNAME:CET
DTSTART:20191027T010000
END:STANDARD
END:VTIMEZONE
BEGIN:VEVENT
DTSTART;TZID=Europe/Brussels:20190501T120000
DTEND;TZID=Europe/Brussels:20190501T220000
DTSTAMP:20260423T082638
CREATED:20190415T115554Z
LAST-MODIFIED:20190415T115818Z
UID:3536-1556712000-1556748000@liege.attac.org
SUMMARY:Fête du travail
DESCRIPTION:Comme chaque année\, venez-nous rencontrer Place Saint Paul à l’occasion de la « Fête du travail » ! \nNous vous proposerons notre nouvelle animation. \nVenez nombreux à cet événement festif et engagé ! \n[fgtb-liege.be]\nComme chaque année\, nous prenons possession de la place Saint-Paul ! \nDès 12h\, ouverture du village associatif avec des animations musicales\, des jeux pour les enfants et une multitude de stands associatifs qui vous proposeront réflexion\, animation\, boissons exotiques et bons petits plats. \nLes concerts commenceront à 17h avec : \n** LOS PEPES \n** JOHN L – Band \n** CHICOS Y MENDEZ \n 
URL:https://liege.attac.org/event/1er-mai/
LOCATION:Place Saint Paul\, Liège\, Place Saint Paul\, Liège\, 4000\, Belgique
CATEGORIES:Stands et Animations
ORGANIZER;CN="Attac Li%C3%A8ge":MAILTO:info@liege.attac.be
END:VEVENT
BEGIN:VEVENT
DTSTART;TZID=Europe/Brussels:20190509T063000
DTEND;TZID=Europe/Brussels:20190509T090000
DTSTAMP:20260423T082638
CREATED:20190402T074234Z
LAST-MODIFIED:20190402T074234Z
UID:3453-1557383400-1557392400@liege.attac.org
SUMMARY:TAX JUSTICE DAY
DESCRIPTION:Vous voulez la justice sociale?Votez pour la justice fiscale\n\nA partir de 6 H 30 et jusque 9 H\, distribution de flyers devant les gares de Bruxelles-Nord\, Bruxelles-Central\, Charleroi-Sud\, Liège-Guillemins\, Marloie\, Namur\, Tournai et Verviers-Central. \nLe 9 mai 2019\, le RJF (Réseau pour la Justice Fiscale) organise sa neuvième journée de la justice fiscale. \nDepuis 40 ans\, la richesse se concentre. En Belgique\, 1% des ménages les plus riches détient près de 20% des patrimoines. \nEn même temps\, les impôts sur les revenus sont mal répartis. Les très riches échappent à l’impôt grâce à l’évasion fiscale\, notamment via la constitution de holdings. Comme les grosses multinationales qui ne sont que très peu taxées sur leurs bénéfices. \nUne autre fiscalité est possible \nPourquoi prendre dans la poche du contribuable faible et moyen (salarié ou indépendant) la contribution dont les grosses sociétés et les gros patrimoines devraient s’acquitter si les gouvernements faisaient de la justice fiscale une priorité ? \nNOUS COMPTONS SUR VOTRE PARTICIPATION !\n \nPersonnes de contact :\n\nBruxelles-Central: François GOBBE  Tél : 02/762 39 20  – francois.gobbe@belgacom.net\nBruxelles-Nord : Anne-Thérèse DESTREBECQ  Tél : 0479/38 01 34 – anne-therese.destrebecq@acv-csc.be\nLiège: Daniel PUISSANT Tél. : 0257/56066 – 04/ 252 85 94 – puissantd@gmail.com\nCharleroi: José VERMANDERE  Tél.: 064/44 56 60 GSM: 0495/28 16 84 – jose.vermandere@moc-ct.be\nMarloie : Crina COSTACHE Tél : 0495/46 50 26 –  c.costache@miroirvagabond.be\nNamur : Anne DE MUELENAERE Tél. : 0497/07 18 51 annedemuele@gmail.com\nTournai : Emeline BROUILLARD  Tél. 0497/33 14 97 – brouillard@equipespopulaires.be\nVerviers : Jean-Louis PETERS Tél. : 087/63 96 52 – Jean-louis.peters@fgtb.be
URL:https://liege.attac.org/event/tax-justice-day-2/
CATEGORIES:L'autre Agenda,Stands et Animations
END:VEVENT
END:VCALENDAR