BEGIN:VCALENDAR
VERSION:2.0
PRODID:-//Attac Liège - ECPv6.6.2//NONSGML v1.0//EN
CALSCALE:GREGORIAN
METHOD:PUBLISH
X-WR-CALNAME:Attac Liège
X-ORIGINAL-URL:https://liege.attac.org
X-WR-CALDESC:évènements pour Attac Liège
REFRESH-INTERVAL;VALUE=DURATION:PT1H
X-Robots-Tag:noindex
X-PUBLISHED-TTL:PT1H
BEGIN:VTIMEZONE
TZID:Europe/Brussels
BEGIN:DAYLIGHT
TZOFFSETFROM:+0100
TZOFFSETTO:+0200
TZNAME:CEST
DTSTART:20240331T010000
END:DAYLIGHT
BEGIN:STANDARD
TZOFFSETFROM:+0200
TZOFFSETTO:+0100
TZNAME:CET
DTSTART:20241027T010000
END:STANDARD
END:VTIMEZONE
BEGIN:VEVENT
DTSTART;TZID=Europe/Brussels:20241119T190000
DTEND;TZID=Europe/Brussels:20241119T210000
DTSTAMP:20260420T062220
CREATED:20240820T092505Z
LAST-MODIFIED:20241118T073645Z
UID:22112-1732042800-1732050000@liege.attac.org
SUMMARY:Groupe de lecture – Mangez les riches
DESCRIPTION:[Inscriptions clôturées]\nDans le cadre de Nourrir Seraing\, nous vous invitons à un groupe de lecture et de réflexion autour du livre de Nora BOUAZZOUNI « Mangez le riches ». \nLors de cette séance nous partirons du livre de Nora Bouazzouni « Mangez les riches » pour analyser les causes des inégalités autour de l’alimentation. Grâce à divers documents d’actualité\, nous chercherons par ailleurs à comprendre et expliquer les causes de l’inflation alimentaire que nous connaissons en Europe ces dernières années. A qui cela profite-t-il ? Comment en sortir ? Quelles pistes de solutions pouvons-nous envisager ? \nSi le battement d’ailes du papillon au Brésil peut provoquer une tornade au Texas\, celui du jet privé au Bourget a des répercussions sur un riziculteur en Thaïlande… Notre alimentation\, mondialisée et marchandisée\, est à la merci d’un système de pénurie organisée qui donne l’illusion de l’abondance\, et où la surproduction profite à une minorité\, appuyée par la classe politique\, qui se gave sur le dos des classes laborieuses. La maison brûle\, eux surveillent le minuteur pour savoir quand ce sera cuit ! L’alimentation est pourtant un outil de transformation sociale puissant\, essentiel à la lutte des classes qui est aussi une lutte des casseroles.\nDes festins de ministres aux aides alimentaires\, des burgers à la truffe à l’accaparement des terres\, du brevetage du vivant au monopole du bon goût\, en passant par la grossophobie\, l’agro-business\, le Nutri-score ou les scandales sanitaires\, la nourriture est un plaisir pour qui en a les moyens\, mais aussi un instrument de pouvoir et de coercition\, qui laisse sur leur faim les plus démuni·es… Après Faiminisme (2017) et Steaksisme (2021)\, Nora Bouazzouni pose la question qui tue : et si le temps était venu de manger les riches ?\nManger les riches\, c’est faire ripaille de leurs privilèges\, s’attaquer à la maladie plutôt qu’aux symptômes\, trouver la recette d’un monde plus juste\, pour tout le monde. Et en plus\, c’est zéro déchet.
URL:https://liege.attac.org/event/groupe-de-lecture-mangez-les-riches-2/
LOCATION:Centre Culturel de Seraing\, Rue Renaud Strivay 44\, Seraing\, Belgique
CATEGORIES:Groupe de lecture
END:VEVENT
BEGIN:VEVENT
DTSTART;TZID=Europe/Brussels:20241121T190000
DTEND;TZID=Europe/Brussels:20241121T210000
DTSTAMP:20260420T062220
CREATED:20241105T135016Z
LAST-MODIFIED:20241105T135039Z
UID:22324-1732215600-1732222800@liege.attac.org
SUMMARY:Groupe écoféministe mixte
DESCRIPTION:ATTAC-Liège et Angélique de Waha vous proposent :\n Nouveau groupe de découverte écoféministe à Liège Suite au succès de nos précédents groupes de lecture écoféministe\, nous avons décidé de voir plus grand ! \nAvec Attac Liège\, nous sommes ravi·es de vous inviter à rejoindre notre nouveau groupe écoféministe. Afin de refléter au mieux la pluralité des voix écoféministes\, nous ne nous limiterons plus uniquement à la lecture. Cette fois\, nous explorerons les écoféminismes sous différentes formes : Lectures stimulantes\, Écoute de podcasts\, Visionnage de documentaires\, Débats et discussions\, Expressions artistiques\,et bien d’autres formats participatifs pour nourrir nos réflexions et échanger sur les enjeux actuels.\n\nSi vous êtes intéressé·es mais que les dates ne vous conviennent pas\, faites-le nous savoir afin d’éventuellement trouver une formule qui convienne au plus grand nombre!
URL:https://liege.attac.org/event/groupe-ecofeministe-mixte/
LOCATION:Casa Nicaragua\, Rue Pierreuse\, Liège
CATEGORIES:Groupe de lecture
END:VEVENT
BEGIN:VEVENT
DTSTART;TZID=Europe/Brussels:20241127T190000
DTEND;TZID=Europe/Brussels:20241127T210000
DTSTAMP:20260420T062220
CREATED:20241112T074821Z
LAST-MODIFIED:20241112T074821Z
UID:22332-1732734000-1732741200@liege.attac.org
SUMMARY:Groupe de lecture
DESCRIPTION:Troisième séance de notre groupe de lecture. \nLe livre qui a été retenu lors de la première séance est Tim Jackson\, Post-Croissance. Vivre après le capitalisme (traduit de l’anglais par Jocelyn Blériot\, Actes Sud\, 2024\, 292 p.\, 23 €) \nCe mercredi\, nous nous retrouvons chez Anne-Marie (écrivez un mail si vous coulez connaître l’adresse).
URL:https://liege.attac.org/event/groupe-de-lecture-4/
CATEGORIES:Groupe de lecture
END:VEVENT
END:VCALENDAR