BEGIN:VCALENDAR
VERSION:2.0
PRODID:-//Attac Liège - ECPv6.6.2//NONSGML v1.0//EN
CALSCALE:GREGORIAN
METHOD:PUBLISH
X-ORIGINAL-URL:https://liege.attac.org
X-WR-CALDESC:évènements pour Attac Liège
REFRESH-INTERVAL;VALUE=DURATION:PT1H
X-Robots-Tag:noindex
X-PUBLISHED-TTL:PT1H
BEGIN:VTIMEZONE
TZID:Europe/Brussels
BEGIN:DAYLIGHT
TZOFFSETFROM:+0100
TZOFFSETTO:+0200
TZNAME:CEST
DTSTART:20200329T010000
END:DAYLIGHT
BEGIN:STANDARD
TZOFFSETFROM:+0200
TZOFFSETTO:+0100
TZNAME:CET
DTSTART:20201025T010000
END:STANDARD
END:VTIMEZONE
BEGIN:VEVENT
DTSTART;TZID=Europe/Brussels:20200922T193000
DTEND;TZID=Europe/Brussels:20200922T223000
DTSTAMP:20260421T070737
CREATED:20200717T085146Z
LAST-MODIFIED:20200924T074705Z
UID:6609-1600803000-1600813800@liege.attac.org
SUMMARY:Groupe de lecture - Piketty
DESCRIPTION:Vous avez envie de lire le dernier livre de Th. Piketty « Capital et idéologie » (Seuil) mais vous avez du mal à rentrer dans cette brique de 1.200 pages ?\nVous avez envie de lire en groupe pour partager vos connaissances et profiter de celle des autres ?\nATTAC Liège vous invite à un groupe de lecture afin de s’approprier le contenu de cet ouvrage.\nLa première séance aura lieu le mardi 22 septembre à 19h30 au Centre Liégeois du Beau-Mur. \n→ Un petit mot fléché mot se mettre en jambe \n→ Diaporama de présentation disponible sur le site de Th. Piketty \n→ Table des matières \n 
URL:https://liege.attac.org/event/groupe-de-lecture-piketty/
LOCATION:Beau-Mur\, Rue du Beau-Mur 48\, Liège\, 4030\, Belgique
CATEGORIES:Groupe de lecture
ORGANIZER;CN="Attac Li%C3%A8ge":MAILTO:info@liege.attac.be
END:VEVENT
END:VCALENDAR