BEGIN:VCALENDAR
VERSION:2.0
PRODID:-//Attac Liège - ECPv6.6.2//NONSGML v1.0//EN
CALSCALE:GREGORIAN
METHOD:PUBLISH
X-WR-CALNAME:Attac Liège
X-ORIGINAL-URL:https://liege.attac.org
X-WR-CALDESC:évènements pour Attac Liège
REFRESH-INTERVAL;VALUE=DURATION:PT1H
X-Robots-Tag:noindex
X-PUBLISHED-TTL:PT1H
BEGIN:VTIMEZONE
TZID:Europe/Brussels
BEGIN:DAYLIGHT
TZOFFSETFROM:+0100
TZOFFSETTO:+0200
TZNAME:CEST
DTSTART:20200329T010000
END:DAYLIGHT
BEGIN:STANDARD
TZOFFSETFROM:+0200
TZOFFSETTO:+0100
TZNAME:CET
DTSTART:20201025T010000
END:STANDARD
END:VTIMEZONE
BEGIN:VEVENT
DTSTART;TZID=Europe/Brussels:20200304T190000
DTEND;TZID=Europe/Brussels:20200304T220000
DTSTAMP:20260421T200736
CREATED:20200123T141108Z
LAST-MODIFIED:20200123T141108Z
UID:4515-1583348400-1583359200@liege.attac.org
SUMMARY:Sortir des impasses du capitalisme avec la décroissance ?
DESCRIPTION:Conférence-débat avec Renaud Duterme \n\nUrgence écologique\, crises financières\, explosion des inégalités\, chômage de masse\, replis identitaires… Et si tous ces phénomènes étaient le résultat de l’expansion du capitalisme à l’échelle mondiale ? Ce système peut-il sortir de ses contradictions ? Et surtout\, peut-on envisager une sortie de ses impasses sans remettre en cause ce système ? Quel rôle jouera le projet sociopolitique de la décroissance ? \nRenaud Duterme est enseignant\, actif au sein du CADTM Belgique\, il est l’auteur de Rwanda\, une histoire volée (éditions Tribord\, 2013)\, co-auteur avec Éric De Ruest de La dette cachée de l’économie (Les Liens qui Libèrent\, 2014) et auteur de De quoi l’effondrement est-il le nom ? (éditions Utopia\, 2016). Dernière publication en janvier 2020 : Manuel pour une géographie de combat (La Découverte). \n\nOrganisé par le mpOC-Liège avec le soutien d’Attac-Liège.À la salle Lumière de l’ULiège\, place du XX août 7 (2e étage)\, à 19 h 30\, accueil dès 19 h. Entrée à prix libre.
URL:https://liege.attac.org/event/sortir-des-impasses-du-capitalisme-avec-la-decroissance/
LOCATION:ULiège Salle Lumière\, Place du XX Août\, Liège\, 4000\, Belgique
CATEGORIES:Conférences
ORGANIZER;CN="Attac Li%C3%A8ge":MAILTO:info@liege.attac.be
END:VEVENT
END:VCALENDAR