BEGIN:VCALENDAR
VERSION:2.0
PRODID:-//Attac Liège - ECPv6.6.2//NONSGML v1.0//EN
CALSCALE:GREGORIAN
METHOD:PUBLISH
X-WR-CALNAME:Attac Liège
X-ORIGINAL-URL:https://liege.attac.org
X-WR-CALDESC:évènements pour Attac Liège
REFRESH-INTERVAL;VALUE=DURATION:PT1H
X-Robots-Tag:noindex
X-PUBLISHED-TTL:PT1H
BEGIN:VTIMEZONE
TZID:Europe/Brussels
BEGIN:DAYLIGHT
TZOFFSETFROM:+0100
TZOFFSETTO:+0200
TZNAME:CEST
DTSTART:20200329T010000
END:DAYLIGHT
BEGIN:STANDARD
TZOFFSETFROM:+0200
TZOFFSETTO:+0100
TZNAME:CET
DTSTART:20201025T010000
END:STANDARD
END:VTIMEZONE
BEGIN:VEVENT
DTSTART;TZID=Europe/Brussels:20200229T100000
DTEND;TZID=Europe/Brussels:20200229T130000
DTSTAMP:20260422T134315
CREATED:20200127T112939Z
LAST-MODIFIED:20200206T100537Z
UID:4536-1582970400-1582981200@liege.attac.org
SUMMARY:5G\, 5e génération des normes de la téléphonie mobile : une révolution ?
DESCRIPTION:Attac-Liège et le MPoc-Liège vous invitent à une conférence de Francis Leboutte. \nAu-delà des problèmes fondamentaux de santé publique dus à la multiplication des faisceaux d’ondes\, et des possibilités augmentées de surveillance et de flicage\, entrainant des risques de conflits\, la technologie 5G\, du fait de la croissance sans limite des transferts de données\, entrainera une accélération significative de la consommation d’énergie et des ressources (eaux\, métaux rares\, ..).A ce titre\, elle va à l’encontre d’une politique écologiquement responsable telle que la prône l’Union Européenne\, la Cop 21 et la majorité des gouvernements. Schizophrénie\, vous avez dit ?
URL:https://liege.attac.org/event/5g-5e-generation-des-normes-de-la-telephonie-mobile-une-revolution/
LOCATION:Centre Leonardo Da Vinci\, rue Cockerill 86\, Seraing\, 4100\, Belgique
CATEGORIES:Conférences
ORGANIZER;CN="Attac Li%C3%A8ge":MAILTO:info@liege.attac.be
END:VEVENT
END:VCALENDAR