BEGIN:VCALENDAR
VERSION:2.0
PRODID:-//Attac Liège - ECPv6.6.2//NONSGML v1.0//EN
CALSCALE:GREGORIAN
METHOD:PUBLISH
X-WR-CALNAME:Attac Liège
X-ORIGINAL-URL:https://liege.attac.org
X-WR-CALDESC:évènements pour Attac Liège
REFRESH-INTERVAL;VALUE=DURATION:PT1H
X-Robots-Tag:noindex
X-PUBLISHED-TTL:PT1H
BEGIN:VTIMEZONE
TZID:Europe/Brussels
BEGIN:DAYLIGHT
TZOFFSETFROM:+0100
TZOFFSETTO:+0200
TZNAME:CEST
DTSTART:20190331T010000
END:DAYLIGHT
BEGIN:STANDARD
TZOFFSETFROM:+0200
TZOFFSETTO:+0100
TZNAME:CET
DTSTART:20191027T010000
END:STANDARD
END:VTIMEZONE
BEGIN:VEVENT
DTSTART;TZID=Europe/Brussels:20191005T100000
DTEND;TZID=Europe/Brussels:20191005T130000
DTSTAMP:20260423T003233
CREATED:20190705T075359Z
LAST-MODIFIED:20190902T124732Z
UID:3726-1570269600-1570280400@liege.attac.org
SUMMARY:L’évasion fiscale : une spécialité des fisco-trafiquants
DESCRIPTION:Une conférence par Christian Savestre\, membre d’ATTAC Bruxelles et journaliste à POUR. \nL’évasion fiscale ne tombe pas du ciel. Elle est le produit de mécanismes complexes imaginés par les sociétés de consultance et d’audit (notamment les fameux « big 4 ») et d&#39;avocats fiscalistes avec la complicité de banques d’affaires. \nQui sont ces acteurs qui siphonnent littéralement les ressources publiques ? \nQui conseille – moyennant gros budgets – la Commission Européenne pour mettre au point des mesures pour lutter contre la fraude et l’évasion fiscales ? \nSurprise ! Ce sont les mêmes ! \nEt qui prête de l’argent aux Etats après avoir contribué à creuser les déficits publics ? Le secteur bancaire. \nVous disiez « financement des services publics » ?
URL:https://liege.attac.org/event/evasion-et-fraude-fiscale/
LOCATION:Centre Leonardo Da Vinci\, rue Cockerill 86\, Seraing\, 4100\, Belgique
CATEGORIES:Conférences
ORGANIZER;CN="Attac Li%C3%A8ge":MAILTO:info@liege.attac.be
END:VEVENT
END:VCALENDAR