BEGIN:VCALENDAR
VERSION:2.0
PRODID:-//Attac Liège - ECPv6.6.2//NONSGML v1.0//EN
CALSCALE:GREGORIAN
METHOD:PUBLISH
X-WR-CALNAME:Attac Liège
X-ORIGINAL-URL:https://liege.attac.org
X-WR-CALDESC:évènements pour Attac Liège
REFRESH-INTERVAL;VALUE=DURATION:PT1H
X-Robots-Tag:noindex
X-PUBLISHED-TTL:PT1H
BEGIN:VTIMEZONE
TZID:Europe/Brussels
BEGIN:DAYLIGHT
TZOFFSETFROM:+0100
TZOFFSETTO:+0200
TZNAME:CEST
DTSTART:20190331T010000
END:DAYLIGHT
BEGIN:STANDARD
TZOFFSETFROM:+0200
TZOFFSETTO:+0100
TZNAME:CET
DTSTART:20191027T010000
END:STANDARD
END:VTIMEZONE
BEGIN:VEVENT
DTSTART;TZID=Europe/Brussels:20190514T190000
DTEND;TZID=Europe/Brussels:20190514T210000
DTSTAMP:20260423T111017
CREATED:20190402T081326Z
LAST-MODIFIED:20190510T083614Z
UID:3463-1557860400-1557867600@liege.attac.org
SUMMARY:Festival Resistance
DESCRIPTION:Attac-Liège vous propose un débat « Continuité des luttes »\, touchant au mouvement des Gilets jaunes et aux marches pour le climat\, à partir de courtes vidéos :\n\nVidéo de Geneviève Azam \nAction d’ATTAC France devant HSBC \nLes interventions de Christian Savestre contre les Big Four\n\n 
URL:https://liege.attac.org/event/festival-des-resistances/
LOCATION:Centre culturel de Dison\, Rue des Écoles\, 2\, DISON\, 4820\, Belgique
CATEGORIES:Conférences
END:VEVENT
END:VCALENDAR