BEGIN:VCALENDAR
VERSION:2.0
PRODID:-//Attac Liège - ECPv6.6.2//NONSGML v1.0//EN
CALSCALE:GREGORIAN
METHOD:PUBLISH
X-ORIGINAL-URL:https://liege.attac.org
X-WR-CALDESC:évènements pour Attac Liège
REFRESH-INTERVAL;VALUE=DURATION:PT1H
X-Robots-Tag:noindex
X-PUBLISHED-TTL:PT1H
BEGIN:VTIMEZONE
TZID:Europe/Brussels
BEGIN:DAYLIGHT
TZOFFSETFROM:+0100
TZOFFSETTO:+0200
TZNAME:CEST
DTSTART:20190331T010000
END:DAYLIGHT
BEGIN:STANDARD
TZOFFSETFROM:+0200
TZOFFSETTO:+0100
TZNAME:CET
DTSTART:20191027T010000
END:STANDARD
END:VTIMEZONE
BEGIN:VEVENT
DTSTART;TZID=Europe/Brussels:20190307T193000
DTEND;TZID=Europe/Brussels:20190307T220000
DTSTAMP:20260423T095009
CREATED:20190215T083001Z
LAST-MODIFIED:20190215T083001Z
UID:3253-1551987000-1551996000@liege.attac.org
SUMMARY:Contre le totalitarisme transhumaniste
DESCRIPTION:Conférence-débat avec Michel Weber\, à propos de son dernier livre\, Contre le totalitarisme transhumaniste. Les enseignements philosophiques du sens commun (FYP éditions\, novembre 2018). Philosophe et essayiste\, Michel Weber est directeur du Centre de philosophie pratique (Bruxelles) et professeur adjoint à l’Université du Saskatchewan (Canada). Ses recherches actuelles portent principalement sur la philosophie politique et la philosophie de la psychiatrie. Il a publié une cinquantaine d’ouvrages scientifiques\, dont quinze monographies. \nLe transhumanisme s’impose comme une nouvelle croyance à grand renfort de promesse de jeunesse éternelle et de conférences TED. Il préconise l’utilisation d’innovations technico-médicales\, afin d’améliorer les caractéristiques physiques et mentales des humains\, pour concrétiser l’espérance prométhéenne : guérir\, améliorer\, transcender.Mais quels sont ses fondements idéologiques ? Pourquoi ses partisans veulent-ils l’installer comme une véritable croyance ? Quels sont leurs intérêts et motivations ? Michel Weber montre que même si ce courant de pensée est souvent présenté comme apolitique\, une autre réalité se cache sous les prétextes émancipateurs d’outils techniques : la volonté de tout prévoir\, de tout anticiper et de tout contrôler. Cette société fondée sur l’hypercontrôle et la maîtrise absolue du cours de nos vies nous plonge encore davantage dans l’hyperindividualisme\, sous l’emprise quasi totale de la technologie. Cela conduit à une nouvelle forme de totalitarisme. Le transhumanisme apparaît alors comme l’aboutissement logique d’une doctrine technocapitaliste\, terme d’un long processus de destruction des conditions de possibilité de la vie authentique en général et de la démocratie en particulier. À travers une approche philosophique\, Michel Weber nous livre dans cet essai un solide contre-argumentaire aux thèses transhumanistes et interroge la place actuelle et future de la technique dans l’évolution de nos sociétés et de l’humanité. \nOrganisé par le mpOC-Liège avec le soutien d’Attac-Liège. \nÀ la salle Lumière de l’ULiège\, place du XX août 7 (2e étage)\, à 19 h 30\, accueil dès 19 h. \nEntrée à prix libre.
URL:https://liege.attac.org/event/contre-le-totalitarisme-transhumaniste/
LOCATION:ULiège Salle Lumière\, Place du XX Août\, Liège\, 4000\, Belgique
CATEGORIES:Conférences
ORGANIZER;CN="Attac Li%C3%A8ge":MAILTO:info@liege.attac.be
END:VEVENT
END:VCALENDAR