BEGIN:VCALENDAR
VERSION:2.0
PRODID:-//Attac Liège - ECPv6.6.2//NONSGML v1.0//EN
CALSCALE:GREGORIAN
METHOD:PUBLISH
X-WR-CALNAME:Attac Liège
X-ORIGINAL-URL:https://liege.attac.org
X-WR-CALDESC:évènements pour Attac Liège
REFRESH-INTERVAL;VALUE=DURATION:PT1H
X-Robots-Tag:noindex
X-PUBLISHED-TTL:PT1H
BEGIN:VTIMEZONE
TZID:Europe/Brussels
BEGIN:DAYLIGHT
TZOFFSETFROM:+0100
TZOFFSETTO:+0200
TZNAME:CEST
DTSTART:20180325T010000
END:DAYLIGHT
BEGIN:STANDARD
TZOFFSETFROM:+0200
TZOFFSETTO:+0100
TZNAME:CET
DTSTART:20181028T010000
END:STANDARD
END:VTIMEZONE
BEGIN:VEVENT
DTSTART;TZID=Europe/Brussels:20181211T193000
DTEND;TZID=Europe/Brussels:20181211T223000
DTSTAMP:20260424T000459
CREATED:20181115T110446Z
LAST-MODIFIED:20181206T125533Z
UID:2834-1544556600-1544567400@liege.attac.org
SUMMARY:Numérique\, transhumanisme et dette écologique
DESCRIPTION:Dans le cadre de notre cycle « Nos vies en numériquesé\, rencontre avec Robin Delobel (CADTM)\, auteur d’un article dans Illimitations\, n° spécial 4 du magazine Kairos\nQuel lien entre le numérique et la dette écologique ? Le numérique c’est de l’immatériel entend-on depuis des années\, économie de la connaissance paraît-il. Malgré quelques sensibilisations sur l’impact écologique d’internet et plus spécifiquement des datacenters\, le numérique apparaît rarement comme un ensemble\, polluant\, aliénant et que l’on pourrait refuser.
URL:https://liege.attac.org/event/cycle-nos-vies-en-numerique/
LOCATION:ULiège\, Salle S 50\, Quai Roosevelt 1B\, Liège\, 4000\, Belgique
CATEGORIES:Conférences
END:VEVENT
END:VCALENDAR