BEGIN:VCALENDAR
VERSION:2.0
PRODID:-//Attac Liège - ECPv6.6.2//NONSGML v1.0//EN
CALSCALE:GREGORIAN
METHOD:PUBLISH
X-ORIGINAL-URL:https://liege.attac.org
X-WR-CALDESC:évènements pour Attac Liège
REFRESH-INTERVAL;VALUE=DURATION:PT1H
X-Robots-Tag:noindex
X-PUBLISHED-TTL:PT1H
BEGIN:VTIMEZONE
TZID:Europe/Brussels
BEGIN:DAYLIGHT
TZOFFSETFROM:+0100
TZOFFSETTO:+0200
TZNAME:CEST
DTSTART:20180325T010000
END:DAYLIGHT
BEGIN:STANDARD
TZOFFSETFROM:+0200
TZOFFSETTO:+0100
TZNAME:CET
DTSTART:20181028T010000
END:STANDARD
END:VTIMEZONE
BEGIN:VEVENT
DTSTART;TZID=Europe/Brussels:20181205T190000
DTEND;TZID=Europe/Brussels:20181205T220000
DTSTAMP:20260423T212503
CREATED:20181025T112113Z
LAST-MODIFIED:20181126T113521Z
UID:2736-1544036400-1544047200@liege.attac.org
SUMMARY:Nous\, les communs et l'environnement
DESCRIPTION:Nous\, les communs et l’environnement\, une réflexion conduite par Christiane Herman. \nFabuleux Règne végétal ! \n\n\n\n\nPourquoi faire appel aux arbres pour lutter contre le changement climatique ?\nPourquoi parler de la couverture végétale – la temporisatrice du climat ?\nSur les continents\, quelle est l’épaisseur de la biosphère ?\nEn quoi l’agriculture dite conventionnelle est-elle mortifère\, d’abord pour les sols et les aquifères ?\nQue faire pour dépolluer la seconde nappe phréatique de Wallonie\, aux portes de Liège\, celle de Hesbaye qui abreuve 450 000 personnes ?\nQui est encore responsable des Communs (sol\, air\, eau\, flore\, faune\, paysage\, patrimoine et liens sociaux) ?\nAu lieu de milliards pour l’armée\, des millions pour reconstruire la résilience de nos milieux et reconstituer ce service public essentiel : des gardiens pour nos communs.\n\n 
URL:https://liege.attac.org/event/nous-les-communes-et-lenvironnement/
LOCATION:ULiège\, Salle S 50\, Quai Roosevelt 1B\, Liège\, 4000\, Belgique
CATEGORIES:Conférences
ORGANIZER;CN="Attac Li%C3%A8ge":MAILTO:info@liege.attac.be
END:VEVENT
END:VCALENDAR