BEGIN:VCALENDAR
VERSION:2.0
PRODID:-//Attac Liège - ECPv6.6.2//NONSGML v1.0//EN
CALSCALE:GREGORIAN
METHOD:PUBLISH
X-ORIGINAL-URL:https://liege.attac.org
X-WR-CALDESC:évènements pour Attac Liège
REFRESH-INTERVAL;VALUE=DURATION:PT1H
X-Robots-Tag:noindex
X-PUBLISHED-TTL:PT1H
BEGIN:VTIMEZONE
TZID:Europe/Brussels
BEGIN:DAYLIGHT
TZOFFSETFROM:+0100
TZOFFSETTO:+0200
TZNAME:CEST
DTSTART:20180325T010000
END:DAYLIGHT
BEGIN:STANDARD
TZOFFSETFROM:+0200
TZOFFSETTO:+0100
TZNAME:CET
DTSTART:20181028T010000
END:STANDARD
END:VTIMEZONE
BEGIN:VEVENT
DTSTART;TZID=Europe/Brussels:20181110T203000
DTEND;TZID=Europe/Brussels:20181110T223000
DTSTAMP:20260424T082936
CREATED:20181108T125454Z
LAST-MODIFIED:20181108T125454Z
UID:2790-1541881800-1541889000@liege.attac.org
SUMMARY:Le CETA\, l’Europe\, le Canada\, la Wallonie\, et moi dans tout cela ?
DESCRIPTION:Le CETA\, l’Europe\, le Canada\, la Wallonie\, et moi dans tout cela ?\n!!! Le samedi 10 novembre\, après le spectacle : Interventions de Michel Cermak (CNCD) et de Didier Palange (Attac-Charleroi et Collectif “Libre et Change”)\, puis débat organisé en partenariat avec ATTAC\nLe spectacle se propose de faire un retour sur cet épisode mondialement médiatisé de l’automne 2016 qui vit l’opposition du Parlement Wallon à la ratification du traité commercial entre l’UE et le Canada\, l’Accord Economique et Commercial Global (AECG)\, mieux connu – tiens ! – sous son acronyme anglais\, le CETA (Comprehensive Economic and Trade Agreement). De quoi s’agit-il ? Quelle en est la recette? Et qu’est-ce que l’Europe aujourd’hui et quelles en seraient les perspectives pour demain ? Une occasion aussi de se réinterroger sur les grandes questions sociétales des rapports entre la société civile\, le monde politique et les médias. \nUn spectacle monté suivant un processus de travail privilégiant la recherche critique d’informations ainsi que l’improvisation et l’implication individuelle de chacun des participants sur le sujet. A l’issue de chaque représentation\, il est prévu un bord de scène avec l’équipe du spectacle et des acteurs de la société civile ou du monde politique engagés dans ce débat autour du CETA ou autres traités commerciaux dits de nouvelle génération (programme à confirmer). \n\nCréation collective\nMise en scène d’Alain Chevalier\nAvec… (distribution en cours)\nRégie : Benjamin Devillers et David Dupuis\n\n  \n→ Plus d’infos
URL:https://liege.attac.org/event/le-ceta-leurope-le-canada-la-wallonie-et-moi-dans-tout-cela/
LOCATION:Théâtre de Liège\, Place du 20-Août\, 16\, Liege\, 4000\, Belgique
CATEGORIES:Conférences
END:VEVENT
END:VCALENDAR