BEGIN:VCALENDAR
VERSION:2.0
PRODID:-//Attac Liège - ECPv6.6.2//NONSGML v1.0//EN
CALSCALE:GREGORIAN
METHOD:PUBLISH
X-WR-CALNAME:Attac Liège
X-ORIGINAL-URL:https://liege.attac.org
X-WR-CALDESC:évènements pour Attac Liège
REFRESH-INTERVAL;VALUE=DURATION:PT1H
X-Robots-Tag:noindex
X-PUBLISHED-TTL:PT1H
BEGIN:VTIMEZONE
TZID:Europe/Brussels
BEGIN:DAYLIGHT
TZOFFSETFROM:+0100
TZOFFSETTO:+0200
TZNAME:CEST
DTSTART:20180325T010000
END:DAYLIGHT
BEGIN:STANDARD
TZOFFSETFROM:+0200
TZOFFSETTO:+0100
TZNAME:CET
DTSTART:20181028T010000
END:STANDARD
END:VTIMEZONE
BEGIN:VEVENT
DTSTART;TZID=Europe/Brussels:20180929T100000
DTEND;TZID=Europe/Brussels:20180929T130000
DTSTAMP:20260424T173009
CREATED:20180903T123741Z
LAST-MODIFIED:20180921T121738Z
UID:2610-1538215200-1538226000@liege.attac.org
SUMMARY:L’abeille sentinelle de l’environnement…..  et de l’humanité
DESCRIPTION:Attac et le Léonardo da Vinci vous invitent\, ce samedi 29 septembre à 10 h au Léonardo à Seraing\, à une conférence qui vous fera découvrir le monde fascinant des abeilles et qui traitera de l’ensemble de la problématique du phénomène de dépérissement des colonies. \nDepuis plusieurs années\, l’actualité met régulièrement en avant l’inquiétant phénomène de disparition des abeilles et des autres pollinisateurs. Rappelons au passage leur rôle capital puisqu’ils assurent 80% de la diversité de nos aliments et 30% du contenu de nos assiettes ! \nSur les continents américain et européen : les pesticides utilisés aujourd’hui dans l’enrobage des semences ou en pulvérisation provoquent des mortalités sans précédent\, que ce soit directement en intoxiquant l’abeille\, ou indirectement en la privant de toute flore mellifère ! \nNous aussi\, devenons les acteurs du changement. Que ce soit pour dénoncer les méfaits des pesticides sur la santé\, pour soutenir une agriculture locale et biologique\, mais aussi pour montrer l’exemple en terme de limitation des émissions de gaz à effet de serre et ainsi réduire l’impact du réchauffement climatique qui pose déjà des soucis à nos colonies dans certaines régions du monde. Bref\, à penser localement avec nos abeilles et à agir globalement avec le monde agricole aujourd’hui durement éprouvé par un système qui ne l’a pas épargné. \nCette conférence sera présentée par Didier Brick\, apiculteur et biologiste collaborateur du Service d’Ethologie de l’ULg. Actif au sein des Amis de la Terre depuis une vingtaine d’année\, notre orateur travaille comme consultant auprès des communes et de la Province de Liège dans le cadre du plan Maya. Il est l’initiateur du verger conservatoire des variétés fruitières du Pays de Herve et de son jardin mellifère à Soumagne. De plus\, il assure la formation d’apiculteurs au rucher école de Wégimont de la Fédération Liégeoise d’Apiculture\, à la promotion sociale de\nBlégny et au domaine de Palogne. \nNous aborderons également d’autres causes de disparition des abeilles régulièrement évoquées comme l’appauvrissement de la flore mellifère\, les traitements réalisés par les apiculteurs eux-mêmes\, le réchauffement climatique\, les ondes GSM\, … \nNous réfléchirons sur les moyens d’agir de chacun et nous terminerons par une dégustation de miel.
URL:https://liege.attac.org/event/labeille-sentinelle-de-lenvironnement-et-de-lhumanite/
LOCATION:Centre Leonardo Da Vinci\, rue Cockerill 86\, Seraing\, 4100\, Belgique
CATEGORIES:Conférences
END:VEVENT
END:VCALENDAR