BEGIN:VCALENDAR
VERSION:2.0
PRODID:-//Attac Liège - ECPv6.6.2//NONSGML v1.0//EN
CALSCALE:GREGORIAN
METHOD:PUBLISH
X-WR-CALNAME:Attac Liège
X-ORIGINAL-URL:https://liege.attac.org
X-WR-CALDESC:évènements pour Attac Liège
REFRESH-INTERVAL;VALUE=DURATION:PT1H
X-Robots-Tag:noindex
X-PUBLISHED-TTL:PT1H
BEGIN:VTIMEZONE
TZID:Europe/Brussels
BEGIN:DAYLIGHT
TZOFFSETFROM:+0100
TZOFFSETTO:+0200
TZNAME:CEST
DTSTART:20180325T010000
END:DAYLIGHT
BEGIN:STANDARD
TZOFFSETFROM:+0200
TZOFFSETTO:+0100
TZNAME:CET
DTSTART:20181028T010000
END:STANDARD
END:VTIMEZONE
BEGIN:VEVENT
DTSTART;TZID=Europe/Brussels:20180524T193000
DTEND;TZID=Europe/Brussels:20180524T223000
DTSTAMP:20260425T035656
CREATED:20180330T112323Z
LAST-MODIFIED:20180508T112037Z
UID:2346-1527190200-1527201000@liege.attac.org
SUMMARY:Conférence-débat avec Didier Harpagès
DESCRIPTION:Conférence-débat « Repenser le travail » avec Didier Harpagès\, professeur de sciences économiques et sociales\, coauteur du Temps de la décroissance avec Serge Latouche (2010). \nOrganisé en partenariat avec le mpOC-Liège.
URL:https://liege.attac.org/event/conference-debat-didier-harpages/
LOCATION:ULiège Salle Lumière\, Place du XX Août\, Liège\, 4000\, Belgique
CATEGORIES:Conférences
ORGANIZER;CN="Attac Li%C3%A8ge":MAILTO:info@liege.attac.be
END:VEVENT
END:VCALENDAR