BEGIN:VCALENDAR
VERSION:2.0
PRODID:-//Attac Liège - ECPv6.6.2//NONSGML v1.0//EN
CALSCALE:GREGORIAN
METHOD:PUBLISH
X-WR-CALNAME:Attac Liège
X-ORIGINAL-URL:https://liege.attac.org
X-WR-CALDESC:évènements pour Attac Liège
REFRESH-INTERVAL;VALUE=DURATION:PT1H
X-Robots-Tag:noindex
X-PUBLISHED-TTL:PT1H
BEGIN:VTIMEZONE
TZID:Europe/Brussels
BEGIN:DAYLIGHT
TZOFFSETFROM:+0100
TZOFFSETTO:+0200
TZNAME:CEST
DTSTART:20200329T010000
END:DAYLIGHT
BEGIN:STANDARD
TZOFFSETFROM:+0200
TZOFFSETTO:+0100
TZNAME:CET
DTSTART:20201025T010000
END:STANDARD
END:VTIMEZONE
BEGIN:VEVENT
DTSTART;TZID=Europe/Brussels:20200107T190000
DTEND;TZID=Europe/Brussels:20200107T220000
DTSTAMP:20260422T133215
CREATED:20191212T090225Z
LAST-MODIFIED:20191212T093338Z
UID:4293-1578423600-1578434400@liege.attac.org
SUMMARY:La décroissance comme projet politique : plus fort que l’effet de la Reine Rouge ?
DESCRIPTION:Conférence avec Vincent Mignerot\, essayiste\, chercheur indépendant et fondateur de l’association Adrastia. \nAu-delà des alertes historiques sur les risques\, le constat de plus en plus irrévocable sur la destruction de l’équilibre écologique vital ainsi que la manifestation dans l’économie des premiers effets des limites physiques à la croissance doivent interroger sur la souveraineté du politique dans la gestion des interactions entre l’espèce humaine et son milieu. Quels choix avons-nous ? Dans quelle mesure sont-ils conditionnés par des paramètres sur lesquels nous n’aurions pas de prise ? De quelle marge de manœuvre disposons-nous vraiment ? \nLa mise en œuvre d’une adaptation en contexte contraint implique d’estimer quelles sont les capacités réelles de l’humanité à influencer son devenir. \nUne organisation du mpOC Liège avec le soutien d’ATTAC Liège.
URL:https://liege.attac.org/event/la-decroissance-comme-projet-politique-plus-fort-que-leffet-de-la-reine-rouge/
LOCATION:ULiège\, Place du XX Août\, Liège\, 4000\, Belgique
CATEGORIES:Conférences
END:VEVENT
BEGIN:VEVENT
DTSTART;TZID=Europe/Brussels:20200111T100000
DTEND;TZID=Europe/Brussels:20200111T130000
DTSTAMP:20260422T133215
CREATED:20191213T122604Z
LAST-MODIFIED:20191213T123453Z
UID:4307-1578736800-1578747600@liege.attac.org
SUMMARY:Où va le travail ? Tous évalués\, tous menacés !
DESCRIPTION:Dans son livre Travailler aujourd’hui\, Nicolas Latteur\, sociologue\, formateur au CEPAG\, entend parler du travail à partir de la parole des salariés. Plus de quarante personnes issues de secteurs d’activité très divers y témoignent. \nLeurs récits décrivent les pénibilités du travail. On y rencontre des travailleurs surchargés\, pressurés\, obligés de cumuler 2 « jobs » pour finir le mois\, amenés à frauder avec leur propre éthique pour conserver leur boulot\, forcés à prendre des risques avec la sécurité… Surveillés\, évalués à chaque minute\, au moindre geste\, dans des conditions de travail insupportables\, fragilisés par des appréciations rarement positives… Les conditions de surveillance numérique qui touchent tous les aspects de la vie\, envahissent également le monde du travail et permettent des évaluations toujours plus arbitraires par les « patrons » mais aussi par les clients ou les « utilisateurs ». Que deviennent le petit hôtelier dont le client n’est pas satisfait\, le médecin qui n’a pas voulu faire une ordonnance\, l’ « auto-entrepreneur » ubérisé qui reçoit une note de 1 à 2 par un client de mauvais poil… Ils sont seuls face à une plate-forme ! \nCette évaluation constante au travail\, la précarité et les atteintes à la santé produisent une profonde dégradation des conditions de travail. \nCependant dans ces témoignages\, des voies sont tracées pour construire des résistances au travail intenable. Des individus et des collectifs tentent d’intervenir et d’échapper à leurs conditions de salarié exploité. De nouvelles perspectives se dessinent pour les combats d’aujourd’hui et de demain. Elles permettent d’enrichir le débat sur une question essentielle que nous ne manquerons pas d’aborder : comment lutter ? \n l
URL:https://liege.attac.org/event/ou-va-le-travail-tous-evalues-tous-menaces/
LOCATION:Centre Leonardo Da Vinci\, rue Cockerill 86\, Seraing\, 4100\, Belgique
CATEGORIES:Conférences
ORGANIZER;CN="Attac Li%C3%A8ge":MAILTO:info@liege.attac.be
END:VEVENT
BEGIN:VEVENT
DTSTART;TZID=Europe/Brussels:20200128T190000
DTEND;TZID=Europe/Brussels:20200128T220000
DTSTAMP:20260422T133215
CREATED:20200102T143730Z
LAST-MODIFIED:20200121T124727Z
UID:4396-1580238000-1580248800@liege.attac.org
SUMMARY:Clim'ATTAC - Conférence : industrie de l'armement et environnement
DESCRIPTION:Dans le cadre de son cycle Clim’ATTAC\, Attac Liège vous invite à une conférence-débat « Impact de l’industrie de l’armement sur l’environnement » avec Stéphanie DEMBLON de Agir pour la Paix. \n« Guerre au climat ou climat de guerre ? »\nVoitures\, avions\, énergies fossiles\, mode de vie\, industries\, pesticides\,…ce ne sont pas les causes du changement climatiques qui manquent. Mais saviez-vous que le monde dépense au moins 12 fois plus pour les forces armées que pour combattre le changement climatique ? Que les émissions de gaz à effet de serre provenant des activités militaires ne sont pas prises en compte dans les négociations sur le climat ? Que les dépenses totales prévues des États-Unis pour la guerre en Irak pourraient couvrir tous les investissements mondiaux dans la production d’énergie renouvelable qui sont nécessaires d’ici 2030 afin de stopper les tendances actuelles au réchauffement ?Un atelier qui vous plongera dans les effets méconnus du complexe militaro-industriel. Désarmons-les tous ! \n 
URL:https://liege.attac.org/event/climattac-conference-industrie-de-larmement-et-environnement/
LOCATION:ULiège\, Place du XX Aout\, Pace du 20 aout\, 4000 Liège
CATEGORIES:Conférences
ORGANIZER;CN="Attac Li%C3%A8ge":MAILTO:info@liege.attac.be
END:VEVENT
END:VCALENDAR