BEGIN:VCALENDAR
VERSION:2.0
PRODID:-//Attac Liège - ECPv6.6.2//NONSGML v1.0//EN
CALSCALE:GREGORIAN
METHOD:PUBLISH
X-WR-CALNAME:Attac Liège
X-ORIGINAL-URL:https://liege.attac.org
X-WR-CALDESC:évènements pour Attac Liège
REFRESH-INTERVAL;VALUE=DURATION:PT1H
X-Robots-Tag:noindex
X-PUBLISHED-TTL:PT1H
BEGIN:VTIMEZONE
TZID:Europe/Brussels
BEGIN:DAYLIGHT
TZOFFSETFROM:+0100
TZOFFSETTO:+0200
TZNAME:CEST
DTSTART:20190331T010000
END:DAYLIGHT
BEGIN:STANDARD
TZOFFSETFROM:+0200
TZOFFSETTO:+0100
TZNAME:CET
DTSTART:20191027T010000
END:STANDARD
END:VTIMEZONE
BEGIN:VEVENT
DTSTART;TZID=Europe/Brussels:20191207T100000
DTEND;TZID=Europe/Brussels:20191207T130000
DTSTAMP:20260422T133209
CREATED:20191105T093940Z
LAST-MODIFIED:20191119T095145Z
UID:4171-1575712800-1575723600@liege.attac.org
SUMMARY:Traités de «libre échange» : quand les multinationales négocient la démocratie !
DESCRIPTION:Attac Liège vous propose une conférence par Didier PALANGE\, membre d’ATTAC Charleroi et du collectif «libre&Change» \nLes objectifs avoués des traités dits de  « libre échange » dépassent de loin les simples règles commerciales entre États. Sous prétexte de favoriser la « libre concurrence »\, la démocratie est mise hors jeu. En effet\, les négociations secrètes attribuées à des non élus·es et l’absence quasi totale de transparence permettent de faire voter des textes explicitement favorables aux multinationales; ces traités ont aussi de nombreux effets indirects sur la démocratie qui poussent les gouvernements et les politiques à écouter la voix des lobbies plutôt que celles des électeurs·trices. Et donc à favoriser les intérêts de quelques-uns par rapport à l’intérêt collectif.
URL:https://liege.attac.org/event/traites-de-libre-echange-quand-les-multinationales-negocient-la-democratie/
LOCATION:Centre Leonardo Da Vinci\, rue Cockerill 86\, Seraing\, 4100\, Belgique
CATEGORIES:Conférences
ORGANIZER;CN="Attac Li%C3%A8ge":MAILTO:info@liege.attac.be
END:VEVENT
BEGIN:VEVENT
DTSTART;TZID=Europe/Brussels:20191208T150000
DTEND;TZID=Europe/Brussels:20191208T173000
DTSTAMP:20260422T133209
CREATED:20191122T083017Z
LAST-MODIFIED:20191122T083017Z
UID:4211-1575817200-1575826200@liege.attac.org
SUMMARY:Théâtre - Le CETA\, l'Europe\, le Canada\, la Wallonie\, et moi dans tout cela ?
DESCRIPTION:Ce spectacle se propose de faire un retour sur cet épisode mondialement médiatisé de l’automne 2016 qui vit l’opposition politique du Parlement Wallon à la ratification du traité commercial entre l’UE et le Canada : l’Accord Economique et Commercial Global (AECG)\, mieux connu – tiens ! – sous son acronyme anglais\, le CETA (Comprehensive Economic and Trade Agreement). Sans oublier\, l’un n’allant pas sans l’autre\, la mobilisation citoyenne sans précédent qui eut lieu dans le cadre de la campagne « STOP CETA ! ». \n\nLe CETA\, de quoi s’agit-il ?\nQuelle en est la recette ?\nQu’est-ce que l’Europe aujourd’hui et quelles en seraient les perspectives pour demain ?\nQue nous préparent aussi ces autres traités de libre échange\, les TTIP\, JEFTA et autre Mercosur ?\nEt puis\, que reste-t-il aussi de cet automne 2016 ?\nOù en sommes-nous trois ans plus tard ? Quel bilan en tirer ?\n\nSalle du TURLg\, Quai Roosevelt 1b\, 4000 Liège \nP.A.F. : 9€ mais – Tarif préférentiel pour les membres d’Attac : 6€ \n→ Toutes les infos
URL:https://liege.attac.org/event/theatre-le-ceta-leurope-le-canada-la-wallonie-et-moi-dans-tout-cela/
LOCATION:Salle du TURLg\, Quai Roosevelt 1b\, Liège\, 4000\, Belgique
CATEGORIES:Conférences
END:VEVENT
END:VCALENDAR