BEGIN:VCALENDAR
VERSION:2.0
PRODID:-//Attac Liège - ECPv6.6.2//NONSGML v1.0//EN
CALSCALE:GREGORIAN
METHOD:PUBLISH
X-WR-CALNAME:Attac Liège
X-ORIGINAL-URL:https://liege.attac.org
X-WR-CALDESC:évènements pour Attac Liège
REFRESH-INTERVAL;VALUE=DURATION:PT1H
X-Robots-Tag:noindex
X-PUBLISHED-TTL:PT1H
BEGIN:VTIMEZONE
TZID:Europe/Brussels
BEGIN:DAYLIGHT
TZOFFSETFROM:+0100
TZOFFSETTO:+0200
TZNAME:CEST
DTSTART:20190331T010000
END:DAYLIGHT
BEGIN:STANDARD
TZOFFSETFROM:+0200
TZOFFSETTO:+0100
TZNAME:CET
DTSTART:20191027T010000
END:STANDARD
END:VTIMEZONE
BEGIN:VEVENT
DTSTART;TZID=Europe/Brussels:20190406T100000
DTEND;TZID=Europe/Brussels:20190406T130000
DTSTAMP:20260423T070217
CREATED:20190308T120625Z
LAST-MODIFIED:20190315T080236Z
UID:3355-1554544800-1554555600@liege.attac.org
SUMMARY:Cycle capitalisme et démocratie
DESCRIPTION:« Le transhumanisme\, un projet antidémocratique (mais pas seulement) » exposé de Bernard Legros \nRepérable sur la Toile dès le milieu de la décennie précédente\, aujourd’hui de plus en plus relayée par des médias et des politiques séduits\, la doctrine transhumaniste est née dans la Silicon Valley au début des années 1980. Dans une première étape\, elle recommande l’« augmentation » physique et cognitive de l’être humain par le recours aux nanotechnologies\, aux biotechnologies\, à l’informatique et aux sciences de la cognition (dites « technologies NBIC »)\, dont la convergence est recherchée et scientifiquement réalisable. Dans une seconde étape\, l’humain devra s’hybrider avec la machine\, sous peine de déclassement\, voire d’extinction. Le tout à grand renforcement d’intelligence artificielle. Ce projet concernera directement une minorité fortunée qui atteindra le statut de « surhommes »\, alors que la masse des non augmentés représenteront\, eux\, les « chimpanzés du futur ». La lutte des espèces viendra-t-elle remplacer la lutte des classes ? \nBernard Legros est enseignant\, essayiste\, collaborateur à Kairos et à La décroissance et militant au Mouvement politique des objecteurs de croissance et à l’association Fin du nucléaire.
URL:https://liege.attac.org/event/cycle-capitalisme-et-democratie-2/
LOCATION:Centre Leonardo Da Vinci\, rue Cockerill 86\, Seraing\, 4100\, Belgique
CATEGORIES:Conférences
ORGANIZER;CN="Attac Li%C3%A8ge":MAILTO:info@liege.attac.be
END:VEVENT
END:VCALENDAR