BEGIN:VCALENDAR
VERSION:2.0
PRODID:-//Attac Liège - ECPv6.6.2//NONSGML v1.0//EN
CALSCALE:GREGORIAN
METHOD:PUBLISH
X-WR-CALNAME:Attac Liège
X-ORIGINAL-URL:https://liege.attac.org
X-WR-CALDESC:évènements pour Attac Liège
REFRESH-INTERVAL;VALUE=DURATION:PT1H
X-Robots-Tag:noindex
X-PUBLISHED-TTL:PT1H
BEGIN:VTIMEZONE
TZID:Europe/Brussels
BEGIN:DAYLIGHT
TZOFFSETFROM:+0100
TZOFFSETTO:+0200
TZNAME:CEST
DTSTART:20190331T010000
END:DAYLIGHT
BEGIN:STANDARD
TZOFFSETFROM:+0200
TZOFFSETTO:+0100
TZNAME:CET
DTSTART:20191027T010000
END:STANDARD
END:VTIMEZONE
BEGIN:VEVENT
DTSTART;TZID=Europe/Brussels:20190209T100000
DTEND;TZID=Europe/Brussels:20190209T130000
DTSTAMP:20260423T110810
CREATED:20190111T105525Z
LAST-MODIFIED:20190208T083448Z
UID:2970-1549706400-1549717200@liege.attac.org
SUMMARY:Exposé de Julien Dohet : Voyage dans l’histoire de l’extrême droite
DESCRIPTION:Dans le cadre d’un cycle sur le capitalisme et la démocratie\, Attac Liège vous propose un exposé de Julien Dohet : Voyage dans l’histoire de l’extrême droite.  Au Cercle Leonardo Da Vinci\, rue Cockerill 86\, 4100 Seraing \nNe nous fions pas à une caricature de l’extrême droite.Cette idéologie est bien insidieuse et si l’on n’y prend garde\, en écoutant certainsrésonnements\, on pourrait se dire : « oui\, mais tous comptes faits … ! »Soyons attentifs que déjà\, au début du 19è siècle\, se font jour des théoriesantirévolutionnaires\, nostalgiques de l’ordre ancien\, nationalistes et antiparlementaristes.A la fin du 19è siècle\, elle se cristallise autour de l’affaire Dreyfus\, puis au cours des années20/30\, s’installent le fascisme et le nazisme.L’extrême droite se caractérise par un ensemble de valeurs\, la nostalgie de l’ « âge d’or »\,l’autoritarisme\, l’apologie des sociétés élitaires\, la peur du métissage\, le racisme\, laxénophobie\, le nationalisme\, l’anti-intellectualisme\, la censure des mœurs et bien surl’antisémitisme.Alors qu’elle semblait un temps neutralisée grâce aux conquêtes démocratiques et sociales\, lescrises successives et leurs conséquences rendent vigueur à cette idéologie un peu partout\, enEurope et Outre Atlantique (Etats-Unis\, Brésil …)Quelques noms importants du début du 20è siècle : Maurras et l’Action Française\, JacquesDoriot et le parti Populaire français… En Belgique\, Léon Degrelle …. Etc.
URL:https://liege.attac.org/event/expose-de-julien-dohet-la-montee-de-lextreme-droite-historique/
LOCATION:Centre Leonardo Da Vinci\, rue Cockerill 86\, Seraing\, 4100\, Belgique
CATEGORIES:Conférences
ORGANIZER;CN="Attac Li%C3%A8ge":MAILTO:info@liege.attac.be
END:VEVENT
BEGIN:VEVENT
DTSTART;TZID=Europe/Brussels:20190219T193000
DTEND;TZID=Europe/Brussels:20190219T220000
DTSTAMP:20260423T110810
CREATED:20190111T100957Z
LAST-MODIFIED:20190211T132443Z
UID:2960-1550604600-1550613600@liege.attac.org
SUMMARY:Social et écologie : contradictoires ? Exposé de Jean-Marie Harribey
DESCRIPTION:Social et écologie : contradictoires ?\nAttac Liège vous invite\, à l’occasion du 50e anniversaire de l’occupation de la salle académique par les étudiants de l’ULg en 1969\, à un exposé du professeur Jean-Marie HARRIBEY (Agrégé en sciences économiques et sociales\, Professeur à l’Université de Bordeaux-IV\, Ex président d’ATTAC France\, Fondateur de la revue Les Possibles). \nLe débat sera animé par Robert Neys. \nLe groupe vocal « C’est des canailles » nous fera l’honneur de venir chanter au cours de la soirée. \nLe PAF est fixé à 8€ en prévente et à 10€ le jour-même. Numéro de compte pour les préventes BE70 0013 3246 2425 en mentionnant vos NOM et Prénom en communication. \n  \n 
URL:https://liege.attac.org/event/social-et-ecologie-contradictoires-expose-de-jean-marie-harribey/
LOCATION:ULiège salle académique\, Place du XX Août\, Liège\, 4000\, Belgique
CATEGORIES:Conférences
ORGANIZER;CN="Attac Li%C3%A8ge":MAILTO:info@liege.attac.be
END:VEVENT
END:VCALENDAR