BEGIN:VCALENDAR
VERSION:2.0
PRODID:-//Attac Liège - ECPv6.6.2//NONSGML v1.0//EN
CALSCALE:GREGORIAN
METHOD:PUBLISH
X-ORIGINAL-URL:https://liege.attac.org
X-WR-CALDESC:évènements pour Attac Liège
REFRESH-INTERVAL;VALUE=DURATION:PT1H
X-Robots-Tag:noindex
X-PUBLISHED-TTL:PT1H
BEGIN:VTIMEZONE
TZID:Europe/Brussels
BEGIN:DAYLIGHT
TZOFFSETFROM:+0100
TZOFFSETTO:+0200
TZNAME:CEST
DTSTART:20190331T010000
END:DAYLIGHT
BEGIN:STANDARD
TZOFFSETFROM:+0200
TZOFFSETTO:+0100
TZNAME:CET
DTSTART:20191027T010000
END:STANDARD
END:VTIMEZONE
BEGIN:VEVENT
DTSTART;TZID=Europe/Brussels:20190119T100000
DTEND;TZID=Europe/Brussels:20190119T130000
DTSTAMP:20260423T140926
CREATED:20181210T133917Z
LAST-MODIFIED:20190115T081856Z
UID:2916-1547892000-1547902800@liege.attac.org
SUMMARY:Histoire du capitalisme et son influence sur la démocratie
DESCRIPTION:Première séance d’un cycle sur le capitalisme et la démocratie.\nExposé de Micheline Zanatta\, historienne à l’IHOES\, sur l’histoire du capitalisme et son influence sur la démocratie. \nLe capitalisme se déploie depuis des siècles en Occident ; aujourd’hui il exerce une emprise profonde sur presque toutes les sociétés humaines\, organisées démocratiquement ou non.\nAprès le succès du « Musée du capitalisme » et les questions qu’il a suscitées\, il nous a paru intéressant de comprendre comment il peut bouleverser une société à visée démocratique et sociale.\nPar le détour de son histoire et de son évolution\, Micheline Zanatta va analyser les ressorts et les enjeux de ces changements insidieux. \nAu Cercle Leonardo Da Vinci\, rue Cockerill\, 4100 Seraing
URL:https://liege.attac.org/event/cycle-capitalisme-et-democratie/
LOCATION:Centre Leonardo Da Vinci\, rue Cockerill 86\, Seraing\, 4100\, Belgique
CATEGORIES:Conférences,Cycles
END:VEVENT
BEGIN:VEVENT
DTSTART;TZID=Europe/Brussels:20190124T190000
DTEND;TZID=Europe/Brussels:20190124T220000
DTSTAMP:20260423T140926
CREATED:20190111T104017Z
LAST-MODIFIED:20190115T104852Z
UID:2967-1548356400-1548367200@liege.attac.org
SUMMARY:Technologies sans fil\, ondes électromagnétiques\, … Et notre santé ?
DESCRIPTION:Technologies sans fil\, ondes électromagnétiques\, … Et notre santé ?\nLe mpOC\, Attac Liège\, Nature et Progrès et Livre aux trésors vous proposent une conférence-débat avec Wendy DE HEMPTINNE. \nTéléphones mobiles et autres appareils connectés sont devenus des objets d’usage courant… à la maison\, au travail\, à l’école\, dans les transports et les lieux publics. Les technologies de télécommunication sans fil génèrent des rayonnements électromagnétiques non ionisants inédits pour les êtres vivants. Et si cet « électrosmog » invisible\, inodore et silencieux avait néanmoins un impact sur nos cellules et\, ce faisant\, sur notre santé ? La science n’a pas encore dissipé toutes les inconnues mais elle a clairement établi que les êtres humains\, la faune et la flore sont impactés\, même quand l’intensité du rayonnement est faible. Que penser alors des effets cumulatifs de l’exposition multiple et quasi-permanente que nous subissons ?\nWendy de Hemptinne est physicienne indépendante et donne régulièrement des conférences sur cette question vitale\, à destination du grand public\, des professionnels de la santé\, des professionnels de la construction\, des parents et du personnel enseignant dans des écoles. \n 
URL:https://liege.attac.org/event/technologies-sans-fil-ondes-electromagnetiques-et-notre-sante/
LOCATION:ULiège Salle Lumière\, Place du XX Août\, Liège\, 4000\, Belgique
CATEGORIES:Conférences
ORGANIZER;CN="Attac Li%C3%A8ge":MAILTO:info@liege.attac.be
END:VEVENT
END:VCALENDAR