BEGIN:VCALENDAR
VERSION:2.0
PRODID:-//Attac Liège - ECPv6.6.2//NONSGML v1.0//EN
CALSCALE:GREGORIAN
METHOD:PUBLISH
X-ORIGINAL-URL:https://liege.attac.org
X-WR-CALDESC:évènements pour Attac Liège
REFRESH-INTERVAL;VALUE=DURATION:PT1H
X-Robots-Tag:noindex
X-PUBLISHED-TTL:PT1H
BEGIN:VTIMEZONE
TZID:Europe/Brussels
BEGIN:DAYLIGHT
TZOFFSETFROM:+0100
TZOFFSETTO:+0200
TZNAME:CEST
DTSTART:20180325T010000
END:DAYLIGHT
BEGIN:STANDARD
TZOFFSETFROM:+0200
TZOFFSETTO:+0100
TZNAME:CET
DTSTART:20181028T010000
END:STANDARD
END:VTIMEZONE
BEGIN:VEVENT
DTSTART;TZID=Europe/Brussels:20180613T193000
DTEND;TZID=Europe/Brussels:20180613T193000
DTSTAMP:20260424T192729
CREATED:20180409T130348Z
LAST-MODIFIED:20180604T120745Z
UID:2381-1528918200-1528918200@liege.attac.org
SUMMARY:Conférences : Compteur communicants\, compteurs intelligent ?
DESCRIPTION:Conférences « Compteur communicants\, compteurs intelligent ? » par Paul Lannoye\, docteur en physique\, président du Grappe et membre fondateur de « Fin du nucléaire ». \nOrganisé en collaboration avec : Grappe\, Fin du nucléaire\, Attac-Liège\, mpOC-Liège et Barricade.
URL:https://liege.attac.org/event/conferences-compteur-communicants-compteurs-intelligent/
LOCATION:Barricade\, Rue Pierreuse 21\, 4000 Liège\, 4000
CATEGORIES:Conférences
END:VEVENT
BEGIN:VEVENT
DTSTART;TZID=Europe/Brussels:20180627T190000
DTEND;TZID=Europe/Brussels:20180627T220000
DTSTAMP:20260424T192729
CREATED:20180309T115841Z
LAST-MODIFIED:20180620T121133Z
UID:2263-1530126000-1530136800@liege.attac.org
SUMMARY:Conférence : « Labels bio\, mais encore ? »
DESCRIPTION:« Labels bio\, mais encore ? »\, avec Chloé Andries\, journaliste chez Médor. \nLa conférence sera suivie de notre souper estival. \nVenez nombreux pour ce moment convivial de la vie de notre association ! \nL’Aquilone vous propose : le fameux boulet-frites ou une lasagne végétarienne. \nPour participer au repas (repas + dessert pour 15€)\, vous devez réserver en nous écrivant un email ou en téléphonant au 04/349.19.02 et en mentionnant votre nom\, le nombre de personnes à inscrire et les plats choisis.
URL:https://liege.attac.org/event/conference-labels-bio/
LOCATION:Aquilone\, Bd Saucy 25\, Liège\, 4000\, Belgique
CATEGORIES:Conférences
END:VEVENT
END:VCALENDAR