BEGIN:VCALENDAR
VERSION:2.0
PRODID:-//Attac Liège - ECPv6.6.2//NONSGML v1.0//EN
CALSCALE:GREGORIAN
METHOD:PUBLISH
X-ORIGINAL-URL:https://liege.attac.org
X-WR-CALDESC:évènements pour Attac Liège
REFRESH-INTERVAL;VALUE=DURATION:PT1H
X-Robots-Tag:noindex
X-PUBLISHED-TTL:PT1H
BEGIN:VTIMEZONE
TZID:Europe/Brussels
BEGIN:DAYLIGHT
TZOFFSETFROM:+0100
TZOFFSETTO:+0200
TZNAME:CEST
DTSTART:20180325T010000
END:DAYLIGHT
BEGIN:STANDARD
TZOFFSETFROM:+0200
TZOFFSETTO:+0100
TZNAME:CET
DTSTART:20181028T010000
END:STANDARD
END:VTIMEZONE
BEGIN:VEVENT
DTSTART;TZID=Europe/Brussels:20180512T100000
DTEND;TZID=Europe/Brussels:20180512T130000
DTSTAMP:20260425T022143
CREATED:20180309T115315Z
LAST-MODIFIED:20180508T111653Z
UID:2260-1526119200-1526130000@liege.attac.org
SUMMARY:Nucléaire ! Une des solutions contre le changement climatique ?
DESCRIPTION:Nucléaire ! Une des solutions contre le changement climatique ?\nPar Francis Leboutte\, ingénieur civil\, membre de l’ASBL « fin du nucléaire » \nCette séance veut démythifier les idées reçues selon lesquelles\, il n’y aurait d’autre issue pour contrer le changement climatique. \nEn effet\, Francis Leboutte\, chiffres et graphiques à l’appui viendra nous démontrer toute la part de CO2 qu’engendre cette industrie\, par ailleurs extrêmement dangereuse à tous points de vue. \nAu programme : \n\nProjection du film « Tchernobyl\, le monde d’après » de Marc Petitjean.\nLa projection sera suivie d’un court exposé « Le nucléaire\, une des solutions au bouleversement climatique ? » par Francis Leboutte\, ingénieur civil\, membre fondateur de l’asbl Fin du nucléaire.\nÉchange sur le film et l’exposé
URL:https://liege.attac.org/event/conference-de-francis-leboutte/
LOCATION:Centre Leonardo Da Vinci\, rue Cockerill 86\, Seraing\, 4100\, Belgique
CATEGORIES:Conférences
END:VEVENT
BEGIN:VEVENT
DTSTART;TZID=Europe/Brussels:20180522T190000
DTEND;TZID=Europe/Brussels:20180522T220000
DTSTAMP:20260425T022143
CREATED:20180508T112312Z
LAST-MODIFIED:20180508T112504Z
UID:2445-1527015600-1527026400@liege.attac.org
SUMMARY:Conférence-débat : Que faire des banques ?
DESCRIPTION:Pour débattre des banques\, rendez-vous le mardi 22 mai 2018 à 19h avec Jeanne Chevalier (responsable du livret Banques de La France insoumise) et Éric Toussaint (porte-parole du CADTM International). \n→ Événement Facebook
URL:https://liege.attac.org/event/que-faire-des-banques/
LOCATION:ULiège Salle Lumière\, Place du XX Août\, Liège\, 4000\, Belgique
CATEGORIES:Conférences
ORGANIZER;CN="Attac Li%C3%A8ge":MAILTO:info@liege.attac.be
END:VEVENT
BEGIN:VEVENT
DTSTART;TZID=Europe/Brussels:20180524T193000
DTEND;TZID=Europe/Brussels:20180524T223000
DTSTAMP:20260425T022143
CREATED:20180330T112323Z
LAST-MODIFIED:20180508T112037Z
UID:2346-1527190200-1527201000@liege.attac.org
SUMMARY:Conférence-débat avec Didier Harpagès
DESCRIPTION:Conférence-débat « Repenser le travail » avec Didier Harpagès\, professeur de sciences économiques et sociales\, coauteur du Temps de la décroissance avec Serge Latouche (2010). \nOrganisé en partenariat avec le mpOC-Liège.
URL:https://liege.attac.org/event/conference-debat-didier-harpages/
LOCATION:ULiège Salle Lumière\, Place du XX Août\, Liège\, 4000\, Belgique
CATEGORIES:Conférences
ORGANIZER;CN="Attac Li%C3%A8ge":MAILTO:info@liege.attac.be
END:VEVENT
END:VCALENDAR