BEGIN:VCALENDAR
VERSION:2.0
PRODID:-//Attac Liège - ECPv6.6.2//NONSGML v1.0//EN
CALSCALE:GREGORIAN
METHOD:PUBLISH
X-ORIGINAL-URL:https://liege.attac.org
X-WR-CALDESC:évènements pour Attac Liège
REFRESH-INTERVAL;VALUE=DURATION:PT1H
X-Robots-Tag:noindex
X-PUBLISHED-TTL:PT1H
BEGIN:VTIMEZONE
TZID:Europe/Brussels
BEGIN:DAYLIGHT
TZOFFSETFROM:+0100
TZOFFSETTO:+0200
TZNAME:CEST
DTSTART:20190331T010000
END:DAYLIGHT
BEGIN:STANDARD
TZOFFSETFROM:+0200
TZOFFSETTO:+0100
TZNAME:CET
DTSTART:20191027T010000
END:STANDARD
END:VTIMEZONE
BEGIN:VEVENT
DTSTART;TZID=Europe/Brussels:20190212T193000
DTEND;TZID=Europe/Brussels:20190212T213000
DTSTAMP:20260423T022252
CREATED:20190129T133032Z
LAST-MODIFIED:20190129T133032Z
UID:3129-1549999800-1550007000@liege.attac.org
SUMMARY:Chomsky  & Cie
DESCRIPTION:À l’heure où impuissance et résignation l’emportent\, le travail de Noam Chomsky est un antidote radical pour tous ceux qui veulent en finir avec la fabrique de l’impuissance et ses chiens de garde intello-médiatiques. De Boston à Bruxelles\, nous rencontrons chercheurs\, journalistes\, activistes tels que Jean Bricmont\, ou encore Normand Baillargeon\, auteur du « Petit cours d’autodéfense intellectuelle »\, ce qui pourrait être le sous-titre de ce film engagé contre le cynisme conformiste et la pensée molle des faux rebelles.
URL:https://liege.attac.org/event/chomsky-cie/
LOCATION:ULiège\, Salle S 50\, Quai Roosevelt 1B\, Liège\, 4000\, Belgique
CATEGORIES:Ciné-débat
ORGANIZER;CN="Attac Li%C3%A8ge":MAILTO:info@liege.attac.be
END:VEVENT
END:VCALENDAR