BEGIN:VCALENDAR
VERSION:2.0
PRODID:-//Attac Liège - ECPv6.6.2//NONSGML v1.0//EN
CALSCALE:GREGORIAN
METHOD:PUBLISH
X-ORIGINAL-URL:https://liege.attac.org
X-WR-CALDESC:évènements pour Attac Liège
REFRESH-INTERVAL;VALUE=DURATION:PT1H
X-Robots-Tag:noindex
X-PUBLISHED-TTL:PT1H
BEGIN:VTIMEZONE
TZID:Europe/Brussels
BEGIN:DAYLIGHT
TZOFFSETFROM:+0100
TZOFFSETTO:+0200
TZNAME:CEST
DTSTART:20180325T010000
END:DAYLIGHT
BEGIN:STANDARD
TZOFFSETFROM:+0200
TZOFFSETTO:+0100
TZNAME:CET
DTSTART:20181028T010000
END:STANDARD
END:VTIMEZONE
BEGIN:VEVENT
DTSTART;TZID=Europe/Brussels:20180914T090000
DTEND;TZID=Europe/Brussels:20180916T170000
DTSTAMP:20260424T023325
CREATED:20180622T063523Z
LAST-MODIFIED:20180911T070720Z
UID:2542-1536915600-1537117200@liege.attac.org
SUMMARY:Weekend : Contrôlons la finance !
DESCRIPTION:Vendredi 14\nVernissage du Musée du Capitalisme\nA 19h au Centre Liégeois du Beau-Mur – Rue du Beau-Mur 48 à Grivegnée. \n  \nSamedi 15\nActions\, chants & pique-nique urbain\nA 11h au centre-ville (Galerie Saint Lambert) \nConférence-débat de E. Toussaint (CADTM) & A. Zacharie (CNCD 11.11.11)\nA 15h à l’Aquilone – Boulevard Saucy 25 à Liège \nThéâtre : projection de la captation de Money!\nDébat avec les acteurs et la metteuse en scène\nA 19h au TURLG \n  \nDimanche 16\nBrunch « Les dé-croissants de l’anti-crise » avec trois courts métrages sur la finance – « Au festin des rapaces »\, « Merci BNP » et l’interview de Deneault sur le recours aux paradis fiscaux.\nA 11h au Centre Liégeois du Beau-Mur – Rue du Beau-Mur 48 à Grivegnée. \n  \n→ www.changefinance.org
URL:https://liege.attac.org/event/weekend-controlons-finance/
CATEGORIES:Ciné-débat,Conférences,Stands et Animations
END:VEVENT
END:VCALENDAR