BEGIN:VCALENDAR
VERSION:2.0
PRODID:-//Attac Liège - ECPv6.6.2//NONSGML v1.0//EN
CALSCALE:GREGORIAN
METHOD:PUBLISH
X-ORIGINAL-URL:https://liege.attac.org
X-WR-CALDESC:évènements pour Attac Liège
REFRESH-INTERVAL;VALUE=DURATION:PT1H
X-Robots-Tag:noindex
X-PUBLISHED-TTL:PT1H
BEGIN:VTIMEZONE
TZID:Europe/Brussels
BEGIN:DAYLIGHT
TZOFFSETFROM:+0100
TZOFFSETTO:+0200
TZNAME:CEST
DTSTART:20180325T010000
END:DAYLIGHT
BEGIN:STANDARD
TZOFFSETFROM:+0200
TZOFFSETTO:+0100
TZNAME:CET
DTSTART:20181028T010000
END:STANDARD
END:VTIMEZONE
BEGIN:VEVENT
DTSTART;TZID=Europe/Brussels:20180308T193000
DTEND;TZID=Europe/Brussels:20180308T220000
DTSTAMP:20260424T080121
CREATED:20180214T091244Z
LAST-MODIFIED:20180306T130403Z
UID:2193-1520537400-1520546400@liege.attac.org
SUMMARY:Ciné-débat : Sortir des stéréotypes
DESCRIPTION:Dans le cadre de la Journée Internationale des droits des femmes\, nous organisons un ciné-débat : \nprojection de « Sortir des stéréotypes »\, documentaire de Philippe Thomine\, \nsuivi d’une rencontre avec Annick Cornet (FERULG)
URL:https://liege.attac.org/event/journee-internationale-droits-femmes/
LOCATION:ULiège\, Salle S 50\, Quai Roosevelt 1B\, Liège\, 4000\, Belgique
CATEGORIES:Ciné-débat
END:VEVENT
END:VCALENDAR