BEGIN:VCALENDAR
VERSION:2.0
PRODID:-//Attac Liège - ECPv6.6.2//NONSGML v1.0//EN
CALSCALE:GREGORIAN
METHOD:PUBLISH
X-WR-CALNAME:Attac Liège
X-ORIGINAL-URL:https://liege.attac.org
X-WR-CALDESC:évènements pour Attac Liège
REFRESH-INTERVAL;VALUE=DURATION:PT1H
X-Robots-Tag:noindex
X-PUBLISHED-TTL:PT1H
BEGIN:VTIMEZONE
TZID:Europe/Brussels
BEGIN:DAYLIGHT
TZOFFSETFROM:+0100
TZOFFSETTO:+0200
TZNAME:CEST
DTSTART:20180325T010000
END:DAYLIGHT
BEGIN:STANDARD
TZOFFSETFROM:+0200
TZOFFSETTO:+0100
TZNAME:CET
DTSTART:20181028T010000
END:STANDARD
END:VTIMEZONE
BEGIN:VEVENT
DTSTART;TZID=Europe/Brussels:20180228T190000
DTEND;TZID=Europe/Brussels:20180228T220000
DTSTAMP:20260424T080040
CREATED:20171219T132132Z
LAST-MODIFIED:20180206T085836Z
UID:2002-1519844400-1519855200@liege.attac.org
SUMMARY:Ciné-débat : L'audit\, enquête sur la dette grecque
DESCRIPTION:Nous vous proposons la projection du documentaire « L’audit\, enquête sur la dette grecque » de Maxime Kouvaras\, produit par ZinTV et le CADTM. \nCelle-ci sera suivie d’un débat avec Marie-Laure Coulmin du CADTM.
URL:https://liege.attac.org/event/cine-debat-laudit-enquete-dette-grecque/
LOCATION:ULiège\, Salle S 50\, Quai Roosevelt 1B\, Liège\, 4000\, Belgique
CATEGORIES:Ciné-débat
ORGANIZER;CN="Attac Li%C3%A8ge":MAILTO:info@liege.attac.be
END:VEVENT
END:VCALENDAR