BEGIN:VCALENDAR
VERSION:2.0
PRODID:-//Attac Liège - ECPv6.6.2//NONSGML v1.0//EN
CALSCALE:GREGORIAN
METHOD:PUBLISH
X-WR-CALNAME:Attac Liège
X-ORIGINAL-URL:https://liege.attac.org
X-WR-CALDESC:évènements pour Attac Liège
REFRESH-INTERVAL;VALUE=DURATION:PT1H
X-Robots-Tag:noindex
X-PUBLISHED-TTL:PT1H
BEGIN:VTIMEZONE
TZID:Europe/Brussels
BEGIN:DAYLIGHT
TZOFFSETFROM:+0100
TZOFFSETTO:+0200
TZNAME:CEST
DTSTART:20180325T010000
END:DAYLIGHT
BEGIN:STANDARD
TZOFFSETFROM:+0200
TZOFFSETTO:+0100
TZNAME:CET
DTSTART:20181028T010000
END:STANDARD
END:VTIMEZONE
BEGIN:VEVENT
DTSTART;TZID=Europe/Brussels:20180117T190000
DTEND;TZID=Europe/Brussels:20180117T223000
DTSTAMP:20260424T154706
CREATED:20180108T150424Z
LAST-MODIFIED:20180110T142216Z
UID:2036-1516215600-1516228200@liege.attac.org
SUMMARY:Ciné-débat : Espagne à contre-courant
DESCRIPTION:Ce documentaire inédit en Belgique présente différents projets et initiatives qui ont émergé dans le contexte de la crise économique en Espagne et dessinent des alternatives dans des domaines comme la finance\, les communications\, la politique etc. La détresse que suscite la crise mène aussi à expérimenter des voies nouvelles. Des citoyens prennent les choses en main et proposent les alternatives possibles présentées dans le film. \nCe document n’a encore fait l’objet que de quelques projections dans le cadre de festivals (au Chili\, au Panama\, en Italie et en Grèce) et dans une série de petites salles en Allemagne\, Autriche\, Suède et Espagne. \nLa séance sera suivie d’un débat autour des initiatives locales ici à Liège. \n 
URL:https://liege.attac.org/event/cine-debat-espagne-a-contre-courant/
LOCATION:ULiège\, Salle S 50\, Quai Roosevelt 1B\, Liège\, 4000\, Belgique
CATEGORIES:Ciné-débat
END:VEVENT
END:VCALENDAR