BEGIN:VCALENDAR
VERSION:2.0
PRODID:-//Attac Liège - ECPv6.6.2//NONSGML v1.0//EN
CALSCALE:GREGORIAN
METHOD:PUBLISH
X-ORIGINAL-URL:https://liege.attac.org
X-WR-CALDESC:évènements pour Attac Liège
REFRESH-INTERVAL;VALUE=DURATION:PT1H
X-Robots-Tag:noindex
X-PUBLISHED-TTL:PT1H
BEGIN:VTIMEZONE
TZID:Europe/Brussels
BEGIN:DAYLIGHT
TZOFFSETFROM:+0100
TZOFFSETTO:+0200
TZNAME:CEST
DTSTART:20170326T010000
END:DAYLIGHT
BEGIN:STANDARD
TZOFFSETFROM:+0200
TZOFFSETTO:+0100
TZNAME:CET
DTSTART:20171029T010000
END:STANDARD
END:VTIMEZONE
BEGIN:VEVENT
DTSTART;TZID=Europe/Brussels:20170928T200000
DTEND;TZID=Europe/Brussels:20170928T200000
DTSTAMP:20260425T131709
CREATED:20170911T102321Z
LAST-MODIFIED:20170911T103434Z
UID:1169-1506628800-1506628800@liege.attac.org
SUMMARY:Rentrée associative
DESCRIPTION:Rentrée associative aux Grignoux \nDix ans après le docu choc Une vérité qui dérange\, Al Gore continue plus que jamais à sensibiliser au changement climatique. L’urgence est encore plus aiguë\, et le combat plus ardu avec l’effervescence   des climato-sceptiques aux plus hauts niveaux de pouvoir…   Une indispensable secousse pour faire bouger nos consciences collectives. \nAl Gore in Greenland as seen in An Inconvenient Sequel: Truth To Power from Paramount Pictures and Participant Media. \nAl Gore est un type assez fascinant. Bien sûr c’est un personnage médiatique qui a très bien compris l’importance de se mettre en scène\, et sa manière de conscientiser a parfois des airs un peu « ringards » (il nous refait une ou deux fois le coup du Powerpoint avec graphique qui part dans les limbes pour nous montrer à quel point le changement climatique tape vite et fort – efficace\, mais un chouia désuet). Mais\, en fait\, ça n’a pas beaucoup d’importance devant la qualité de la réflexion\, l’énergie et le sens stratégique hors pair que nous voyons se déployer devant nous. \nLa projection sera suivie d’une  rencontre sur le thème du climat \navec Pierre Ozer\, climatologue de l’Ulg  et Dominique Perrin\, Agence wallonne de l’air et du climat. \nDès 19 h : accès aux stands associatifs et verre de l’amitié offert par Al’Binète \nPrix d’entrée habituels\, places en prévente à partir du mercredi 30 août
URL:https://liege.attac.org/event/rentree-associative/
LOCATION:Le parc\, Rue Paul-Joseph Carpay 22\, Liège\, 4020\, Belgique
CATEGORIES:Ciné-débat
END:VEVENT
END:VCALENDAR