BEGIN:VCALENDAR
VERSION:2.0
PRODID:-//Attac Liège - ECPv6.6.2//NONSGML v1.0//EN
CALSCALE:GREGORIAN
METHOD:PUBLISH
X-ORIGINAL-URL:https://liege.attac.org
X-WR-CALDESC:évènements pour Attac Liège
REFRESH-INTERVAL;VALUE=DURATION:PT1H
X-Robots-Tag:noindex
X-PUBLISHED-TTL:PT1H
BEGIN:VTIMEZONE
TZID:Europe/Brussels
BEGIN:DAYLIGHT
TZOFFSETFROM:+0100
TZOFFSETTO:+0200
TZNAME:CEST
DTSTART:20180325T010000
END:DAYLIGHT
BEGIN:STANDARD
TZOFFSETFROM:+0200
TZOFFSETTO:+0100
TZNAME:CET
DTSTART:20181028T010000
END:STANDARD
END:VTIMEZONE
BEGIN:VEVENT
DTSTART;TZID=Europe/Brussels:20181121T193000
DTEND;TZID=Europe/Brussels:20181121T223000
DTSTAMP:20260423T070802
CREATED:20180917T125216Z
LAST-MODIFIED:20181112T133641Z
UID:2638-1542828600-1542839400@liege.attac.org
SUMMARY:Ciné-débat : Malaria Business
DESCRIPTION:Dans le cadre du mois du documentaire\, nous vous proposons la projection du film « Malaria Business » (un film de Bernard Crutzen). \n——————————- \nEn racontant l’histoire de l’Artemisia et de ceux qui se battent pour que cette plante soit largement diffusée\, Malaria Business met au pied du mur les institutions qui tentent de lutter contre le paludisme depuis 50 ans. \nEn 2017\, la maladie continue de tuer un enfant toute les deux minutes\, le parasite qui la provoque devient résistant aux médicaments\, les moustiques contournent les moustiquaires\, et le vaccin promis pour 2018 s’avère décevant. Pendant ce temps\, des chercheurs africains\, américains et européens révèlent qu’une simple tisane d’Artemisia peut prévenir et soigner le paludisme. Utilisée depuis deux millénaires en Chine\, cette plante est pourtant déconseillée par l’OMS et interdite en Belgique. \n \n \nTEASER Malaria Business from Zistoires on Vimeo. \n 
URL:https://liege.attac.org/event/malaria-business/
LOCATION:ULiège\, Salle S 50\, Quai Roosevelt 1B\, Liège\, 4000\, Belgique
CATEGORIES:Ciné-débat
END:VEVENT
BEGIN:VEVENT
DTSTART;TZID=Europe/Brussels:20181124T100000
DTEND;TZID=Europe/Brussels:20181124T130000
DTSTAMP:20260423T070802
CREATED:20181022T134858Z
LAST-MODIFIED:20181022T135208Z
UID:2723-1543053600-1543064400@liege.attac.org
SUMMARY:Ciné-débat - L'or vert
DESCRIPTION:L’Or Vert : importance de la couverture végétale\n\n\n \n\n\nAu départ du documentaire d’investigation « L’Or Vert » de Sergio Ghizzardi qui dénonce la destruction des forêts primaires pour en faire des agro carburants\, Stephane Desgain\, chargé de recherche sur la souveraineté alimentaire au CNCD 11.11.11\, après nous avoir rapidement commenté le film\, élargira le débat sur l’importance d’une couverture végétale en bon état pour sauvegarder les sols\, le climat et la biodiversité\, en fait les éléments indispensables à notre survie.
URL:https://liege.attac.org/event/cine-debat-lor-vert/
LOCATION:Centre Leonardo Da Vinci\, rue Cockerill 86\, Seraing\, 4100\, Belgique
CATEGORIES:Ciné-débat
ORGANIZER;CN="Attac Li%C3%A8ge":MAILTO:info@liege.attac.be
END:VEVENT
BEGIN:VEVENT
DTSTART;TZID=Europe/Brussels:20181127T193000
DTEND;TZID=Europe/Brussels:20181127T223000
DTSTAMP:20260423T070802
CREATED:20181022T135519Z
LAST-MODIFIED:20181113T073635Z
UID:2725-1543347000-1543357800@liege.attac.org
SUMMARY:Ciné-débat - The cleaners
DESCRIPTION:«Supprimer. Ignorer. Supprimer. Supprimer. Ignorer.» Cette litanie qui rythme les Nettoyeurs du Web\, premier documentaire des Allemands Hans Block et Moritz Riesewieck\, c’est le quotidien des «petites mains» chargées d’inspecter les contenus signalés par les utilisateurs sur les réseaux sociaux. «J’examine 25 000 images par jour\, assez pour entrer dans le Guinness»\, explique un jeune homme\, employé depuis six ans d’une de ces sociétés payées par les mastodontes de la Silicon Valley pour supprimer les textes\, images ou vidéos contraires aux fameux «standards de la communauté». Quatre ans après la longue enquête du magazine américain Wired\, qui levait le voile sur cette sous-traitance dont les commanditaires se vantent d’autant moins qu’elle concerne souvent les pays du Sud\, Block et Riesewieck se sont rendu à Manille\, aux Philippines\, pour y rencontrer une poignée de modérateurs. Tous témoignent de manière anonyme – ils sont «tenus au secret» – et ceux et celles qui apparaissent à visage découvert avaient démissionné avant la première diffusion du film\, en janvier dernier au festival de Sundance. \n[liberation.fr]
URL:https://liege.attac.org/event/cine-debat-the-cleaners/
LOCATION:ULiège\, Salle S 50\, Quai Roosevelt 1B\, Liège\, 4000\, Belgique
CATEGORIES:Ciné-débat
ORGANIZER;CN="Attac Li%C3%A8ge":MAILTO:info@liege.attac.be
END:VEVENT
END:VCALENDAR