BEGIN:VCALENDAR
VERSION:2.0
PRODID:-//Attac Liège - ECPv6.6.2//NONSGML v1.0//EN
CALSCALE:GREGORIAN
METHOD:PUBLISH
X-WR-CALNAME:Attac Liège
X-ORIGINAL-URL:https://liege.attac.org
X-WR-CALDESC:évènements pour Attac Liège
REFRESH-INTERVAL;VALUE=DURATION:PT1H
X-Robots-Tag:noindex
X-PUBLISHED-TTL:PT1H
BEGIN:VTIMEZONE
TZID:Europe/Brussels
BEGIN:DAYLIGHT
TZOFFSETFROM:+0100
TZOFFSETTO:+0200
TZNAME:CEST
DTSTART:20180325T010000
END:DAYLIGHT
BEGIN:STANDARD
TZOFFSETFROM:+0200
TZOFFSETTO:+0100
TZNAME:CET
DTSTART:20181028T010000
END:STANDARD
END:VTIMEZONE
BEGIN:VEVENT
DTSTART;TZID=Europe/Brussels:20180503T193000
DTEND;TZID=Europe/Brussels:20180503T223000
DTSTAMP:20260424T035322
CREATED:20180330T090526Z
LAST-MODIFIED:20180423T122116Z
UID:2332-1525375800-1525386600@liege.attac.org
SUMMARY:Ciné-club : Et quoi\, Cuba ?
DESCRIPTION:Attac-Liège vous propose un ciné-débat autour du film de Renaud Schaack : Cuba\, rouges années. \nIl y a exactement 50 ans\, le monde apprenait la mort du Che… Que reste-t-il aujourd’hui de l’utopie cubaine ? Cuba\, rouges années revient sur cet âge d’or de la révolution cubaine\, ses idéaux\, l’espoir et la solidarité qui la porte\, mais aussi ses dérives. \nLa projection sera suivie d’un débat avec Marc Tondeur.
URL:https://liege.attac.org/event/cine-club-quoi-cuba/
LOCATION:ULiège\, Salle S 50\, Quai Roosevelt 1B\, Liège\, 4000\, Belgique
CATEGORIES:Ciné-débat
ORGANIZER;CN="Attac Li%C3%A8ge":MAILTO:info@liege.attac.be
END:VEVENT
BEGIN:VEVENT
DTSTART;TZID=Europe/Brussels:20180530T200000
DTEND;TZID=Europe/Brussels:20180530T220000
DTSTAMP:20260424T035322
CREATED:20180330T113203Z
LAST-MODIFIED:20180409T105225Z
UID:2349-1527710400-1527717600@liege.attac.org
SUMMARY:Ciné-débat : Finance et résistance :  10 ans après
DESCRIPTION:Dans le cadre de festival de Résistance : 4 mini-films (drôles) sur la finance. \nEt un débat avec Maud BAILLY du CADTM \nCentre Culturel de Dison\nRue des écoles\, 2 – 4820 DISON \n 
URL:https://liege.attac.org/event/cine-debat-cadre-de-festival-de-resistance/
LOCATION:Dison\, rue des ecoles\, Rue des écoles 2\, Dison\, Belgique
CATEGORIES:Ciné-débat
ORGANIZER;CN="Attac Li%C3%A8ge":MAILTO:info@liege.attac.be
END:VEVENT
END:VCALENDAR