BEGIN:VCALENDAR
VERSION:2.0
PRODID:-//Attac Liège - ECPv6.6.2//NONSGML v1.0//EN
CALSCALE:GREGORIAN
METHOD:PUBLISH
X-WR-CALNAME:Attac Liège
X-ORIGINAL-URL:https://liege.attac.org
X-WR-CALDESC:évènements pour Attac Liège
REFRESH-INTERVAL;VALUE=DURATION:PT1H
X-Robots-Tag:noindex
X-PUBLISHED-TTL:PT1H
BEGIN:VTIMEZONE
TZID:Europe/Brussels
BEGIN:DAYLIGHT
TZOFFSETFROM:+0100
TZOFFSETTO:+0200
TZNAME:CEST
DTSTART:20180325T010000
END:DAYLIGHT
BEGIN:STANDARD
TZOFFSETFROM:+0200
TZOFFSETTO:+0100
TZNAME:CET
DTSTART:20181028T010000
END:STANDARD
END:VTIMEZONE
BEGIN:VEVENT
DTSTART;TZID=Europe/Brussels:20180424T190000
DTEND;TZID=Europe/Brussels:20180424T220000
DTSTAMP:20260424T051908
CREATED:20180309T110656Z
LAST-MODIFIED:20180419T115252Z
UID:2252-1524596400-1524607200@liege.attac.org
SUMMARY:Ciné-débat : "L’Intelligence des arbres"
DESCRIPTION:[ ATTENTION – changement de lieu ! ] ————————————-\n\n\n\nLa projection se fera à l’ULiège\, place Cockerill\, 5e étage\, A2/5/11.\n\n————————————————————————————–\nDans le cadre du cycle sur la finance et l’environnement « Capitalisme : insoutenable »\, ATTAC Liège vous invite à la projection du film « L’Intelligence des arbres » de Julia Dordel et Guido Tölke\, d’après le livre de Peter Wohlleben « La vie secrète des arbres ». \nLa projection sera suivie d’une interview de Christiane Herman (biologiste).
URL:https://liege.attac.org/event/cine-debat-traitons-couverture-vegetale/
LOCATION:ULiège 5ème étage\, Place Cockerill\, Liège\, 4000
CATEGORIES:Ciné-débat
END:VEVENT
END:VCALENDAR