BEGIN:VCALENDAR
VERSION:2.0
PRODID:-//Attac Liège - ECPv6.6.2//NONSGML v1.0//EN
CALSCALE:GREGORIAN
METHOD:PUBLISH
X-WR-CALNAME:Attac Liège
X-ORIGINAL-URL:https://liege.attac.org
X-WR-CALDESC:évènements pour Attac Liège
REFRESH-INTERVAL;VALUE=DURATION:PT1H
X-Robots-Tag:noindex
X-PUBLISHED-TTL:PT1H
BEGIN:VTIMEZONE
TZID:Europe/Brussels
BEGIN:DAYLIGHT
TZOFFSETFROM:+0100
TZOFFSETTO:+0200
TZNAME:CEST
DTSTART:20180325T010000
END:DAYLIGHT
BEGIN:STANDARD
TZOFFSETFROM:+0200
TZOFFSETTO:+0100
TZNAME:CET
DTSTART:20181028T010000
END:STANDARD
END:VTIMEZONE
BEGIN:VEVENT
DTSTART;TZID=Europe/Brussels:20180207T190000
DTEND;TZID=Europe/Brussels:20180207T220000
DTSTAMP:20260424T075957
CREATED:20171219T131042Z
LAST-MODIFIED:20180125T073901Z
UID:1998-1518030000-1518040800@liege.attac.org
SUMMARY:Ciné-débat : Le Tribunal sur le Congo
DESCRIPTION:Nous vous proposons lors de ce ciné-débat la projection du film de Milo Rau « Le Tribunal sur le Congo ». \nUne guerre qui dure depuis des décennies ; des millions de morts ; un pillage des ressources minières en dehors de tout contrôle. Une détresse sans fond ; un espoir indompté. \nL’écrivain suisse Milo Rau a plongé au cœur de cette violence alimentée par des multinationales. Il a enquêté\, réuni des témoins\, des acteurs\, sollicité des sociologues et des magistrats. Il a réussi cette chose à peine croyable : un tribunal qui siège trois jours durant à Bukavu\, à côté de la zone de guerre et à Berlin\, la capitale de la mise en pièce du continent africain par les puissances occidentales. \nC’est de cette horreur et de cette espérance que le film est le témoin. \nLa projection du film sera suivie d’un débat avec Bob Kabamba. \nRendez-vous à l’ULiège\, Place Cockerill\, 5ème étage\, A2/5/11 ! \n \n \n 
URL:https://liege.attac.org/event/cine-debat-tribunal-congo/
LOCATION:ULiège 5ème étage\, Place Cockerill\, Liège\, 4000
CATEGORIES:Ciné-débat
END:VEVENT
BEGIN:VEVENT
DTSTART;TZID=Europe/Brussels:20180217T100000
DTEND;TZID=Europe/Brussels:20180217T130000
DTSTAMP:20260424T075957
CREATED:20171113T094009Z
LAST-MODIFIED:20171113T094009Z
UID:1462-1518861600-1518872400@liege.attac.org
SUMMARY:
DESCRIPTION:Ciné-débat  » Les enfants du hasard »\, de Thierry Michel et Pascal Colson\nAvec B. Kinet\, et d’autres témoins de l’expérience;
URL:https://liege.attac.org/event/1462/
CATEGORIES:Ciné-débat
END:VEVENT
BEGIN:VEVENT
DTSTART;TZID=Europe/Brussels:20180217T100000
DTEND;TZID=Europe/Brussels:20180217T130000
DTSTAMP:20260424T075957
CREATED:20171211T140858Z
LAST-MODIFIED:20180206T085958Z
UID:1916-1518861600-1518872400@liege.attac.org
SUMMARY:Ciné-débat : Enfants du hasard
DESCRIPTION:Ciné-débat : « Les enfants du hasard »\, de Thierry Michel et Pascal Colson avec Bernadette Kinet et d’autres témoins.
URL:https://liege.attac.org/event/cine-debat-enfants-hasard/
LOCATION:Centre Leonardo Da Vinci\, rue Cockerill 86\, Seraing\, 4100\, Belgique
CATEGORIES:Ciné-débat
END:VEVENT
BEGIN:VEVENT
DTSTART;TZID=Europe/Brussels:20180221T193000
DTEND;TZID=Europe/Brussels:20180221T223000
DTSTAMP:20260424T075957
CREATED:20180110T135936Z
LAST-MODIFIED:20180126T082255Z
UID:2061-1519241400-1519252200@liege.attac.org
SUMMARY:Ciné-débat : Green Gold
DESCRIPTION:Projection du film de Sergio Ghizzardi\, L’Or vert (sur les agrocarburants)\, dans le cadre du cycle « Capitalisme : insoutenable ». \nLa projection sera suivie d’un débat avec Noé Lecocq (Chargé de mission Energie et Climat – Inter-Environnement Wallonie). \n 
URL:https://liege.attac.org/event/cine-debat-green-gold/
LOCATION:ULiège\, Salle S 50\, Quai Roosevelt 1B\, Liège\, 4000\, Belgique
CATEGORIES:Ciné-débat
ORGANIZER;CN="Attac Li%C3%A8ge":MAILTO:info@liege.attac.be
END:VEVENT
BEGIN:VEVENT
DTSTART;TZID=Europe/Brussels:20180228T190000
DTEND;TZID=Europe/Brussels:20180228T220000
DTSTAMP:20260424T075957
CREATED:20171219T132132Z
LAST-MODIFIED:20180206T085836Z
UID:2002-1519844400-1519855200@liege.attac.org
SUMMARY:Ciné-débat : L'audit\, enquête sur la dette grecque
DESCRIPTION:Nous vous proposons la projection du documentaire « L’audit\, enquête sur la dette grecque » de Maxime Kouvaras\, produit par ZinTV et le CADTM. \nCelle-ci sera suivie d’un débat avec Marie-Laure Coulmin du CADTM.
URL:https://liege.attac.org/event/cine-debat-laudit-enquete-dette-grecque/
LOCATION:ULiège\, Salle S 50\, Quai Roosevelt 1B\, Liège\, 4000\, Belgique
CATEGORIES:Ciné-débat
ORGANIZER;CN="Attac Li%C3%A8ge":MAILTO:info@liege.attac.be
END:VEVENT
END:VCALENDAR