BEGIN:VCALENDAR
VERSION:2.0
PRODID:-//Attac Liège - ECPv6.6.2//NONSGML v1.0//EN
CALSCALE:GREGORIAN
METHOD:PUBLISH
X-ORIGINAL-URL:https://liege.attac.org
X-WR-CALDESC:évènements pour Attac Liège
REFRESH-INTERVAL;VALUE=DURATION:PT1H
X-Robots-Tag:noindex
X-PUBLISHED-TTL:PT1H
BEGIN:VTIMEZONE
TZID:Europe/Brussels
BEGIN:DAYLIGHT
TZOFFSETFROM:+0100
TZOFFSETTO:+0200
TZNAME:CEST
DTSTART:20180325T010000
END:DAYLIGHT
BEGIN:STANDARD
TZOFFSETFROM:+0200
TZOFFSETTO:+0100
TZNAME:CET
DTSTART:20181028T010000
END:STANDARD
END:VTIMEZONE
BEGIN:VEVENT
DTSTART;TZID=Europe/Brussels:20180313T080000
DTEND;TZID=Europe/Brussels:20180317T170000
DTSTAMP:20260425T131342
CREATED:20180108T131124Z
LAST-MODIFIED:20180108T131445Z
UID:2030-1520928000-1521306000@liege.attac.org
SUMMARY:Forum Social Mondial 2018
DESCRIPTION:Le Collectif Brésilien du FSM 2018 a lancé vendredi le 18 août\, une LETTRE OUVERTE pour inviter les personnes\, les organisations\, les mouvements sociaux\, réseaux et plateformes de mouvements du Brésil\, d´Amérique Latine et du Monde à s´incorporer au processus d´organisation et de réalisation du Forum social mondial 2018 qui sera réalisé au Brésil\, du 13 au 17 mars 2018\, à Salvador de Bahia. \nLa proposition de ce forum\, au milieu de tant de revers\, de perte de droits\, de garanties démocratiques et de libertés à travers le monde\, est de penser ensemble à des issues communes pour l´humanité\, dans une optique solidaire\, démocratique\, de respect des diversités\, qui puissent affronter les causes des diverses formes de violence et des inégalités sociales et régionales. \nLa lettre ouverte souligne qu’au Brésil et à Bahia\, en particulier\, la résistance s’est développée ces derniers mois\, face aux attaques des secteurs conservateurs. Le champ démocratique et populaire évalue les stratégies adoptées au cours de la dernière période historique\, les erreurs et aussi les stratégies qui sont nécessaires maintenant \nPour cela\, une édition du FSM à Salvador sera une occasion singulière d´unir les diverses expériences de résistance pour pouvoir\, de façon fraternelle et engagée\, penser ensemble à des actions efficaces pour affronter les pensées autoritaires qui prennent corps au Brésil et dans le monde. \nLe thème\, Résister c’est Créer\, Résister c’est Transformer indique le besoin d’alternatives pour un autre monde possible. \nLes systèmes qui dominent le monde jusqu’ici n’ont pas travaillé pour les gens ou la planète. Pour cela\, le Conseil International du FSM et le Comité Facilitateur du FSM 2018 CONVOQUENT à tous de rejoindre la construction du Forum Social Mondial 2018 ; \nQuand ? Du 13 au 17 mars 2018 \nOù ? à Salvador de Bahia\, Brésil. \nLes adhésions peuvent être envoyées à l’adresse forumsocialmundial@fsm2018.org ou via le site http://fsm2018.org/fr/. Mentionnez dans le titre : Adhésion à la convocation du FSM et indiquez votre nom et votre organisation. Téléchargez la lettre ici. \nInformation : info@fsm2018.org \n  \n[Source : fsm2016.org]
URL:https://liege.attac.org/event/forum-social-mondial-2018/
LOCATION:Salvador de Bahia\, Brésil
CATEGORIES:Attac International
END:VEVENT
END:VCALENDAR