BEGIN:VCALENDAR
VERSION:2.0
PRODID:-//Attac Liège - ECPv6.6.2//NONSGML v1.0//EN
CALSCALE:GREGORIAN
METHOD:PUBLISH
X-WR-CALNAME:Attac Liège
X-ORIGINAL-URL:https://liege.attac.org
X-WR-CALDESC:évènements pour Attac Liège
REFRESH-INTERVAL;VALUE=DURATION:PT1H
X-Robots-Tag:noindex
X-PUBLISHED-TTL:PT1H
BEGIN:VTIMEZONE
TZID:Europe/Brussels
BEGIN:DAYLIGHT
TZOFFSETFROM:+0100
TZOFFSETTO:+0200
TZNAME:CEST
DTSTART:20260329T010000
END:DAYLIGHT
BEGIN:STANDARD
TZOFFSETFROM:+0200
TZOFFSETTO:+0100
TZNAME:CET
DTSTART:20261025T010000
END:STANDARD
END:VTIMEZONE
BEGIN:VEVENT
DTSTART;TZID=Europe/Brussels:20260627T140000
DTEND;TZID=Europe/Brussels:20260627T190000
DTSTAMP:20260420T073549
CREATED:20260413T144524Z
LAST-MODIFIED:20260413T144524Z
UID:23482-1782568800-1782586800@liege.attac.org
SUMMARY:Débalade et souper de fin d'année
DESCRIPTION:Comme chaque année\, nous vous invitons à notre traditionnelle ballade réflexive. Le principe est simple : une balade ponctuée de moments de réflexion. \nCette année\, nous vous emmenons vers la boucle de l’Ourthe et le magnifique village de Ham ! \nNous vous donnons rendez-vous à la gare des Guillemin à 14h pour prendre le train de 14h12 vers Marloie – ou directement à la gare de Hony à 14h30. \nNous souperons ensuite tous ensemble à Hony et continuerons la réflexion autour d’un jeu. \nPlus d’infos sur la formule du repas bientôt sur cette page ! \nInscription obligatoire : info@attacliege.be \n \n 
URL:https://liege.attac.org/event/debalade-et-souper-de-fin-dannee/
CATEGORIES:Atelier - Jeu
END:VEVENT
END:VCALENDAR