BEGIN:VCALENDAR
VERSION:2.0
PRODID:-//Attac Liège - ECPv6.6.2//NONSGML v1.0//EN
CALSCALE:GREGORIAN
METHOD:PUBLISH
X-ORIGINAL-URL:https://liege.attac.org
X-WR-CALDESC:évènements pour Attac Liège
REFRESH-INTERVAL;VALUE=DURATION:PT1H
X-Robots-Tag:noindex
X-PUBLISHED-TTL:PT1H
BEGIN:VTIMEZONE
TZID:Europe/Brussels
BEGIN:DAYLIGHT
TZOFFSETFROM:+0100
TZOFFSETTO:+0200
TZNAME:CEST
DTSTART:20260329T010000
END:DAYLIGHT
BEGIN:STANDARD
TZOFFSETFROM:+0200
TZOFFSETTO:+0100
TZNAME:CET
DTSTART:20261025T010000
END:STANDARD
END:VTIMEZONE
BEGIN:VEVENT
DTSTART;TZID=Europe/Brussels:20260311T180000
DTEND;TZID=Europe/Brussels:20260311T210000
DTSTAMP:20260420T003548
CREATED:20260217T104739Z
LAST-MODIFIED:20260217T133455Z
UID:23260-1773252000-1773262800@liege.attac.org
SUMMARY:Atelier-jeu Aliment’Terre
DESCRIPTION:Dans le cadre de Nourrir Seraing Autrement\, Attac-Liège\, Canopea et Financité vous invite à un aterlier-jeu Alimen’Terre ! \nCe jeu de plateau vous invite à élaborer un menu (entrée\, plat\, dessert\, boisson) façon « dîner presque parfait ». Parviendrez-vous à concevoir un menu original\, sans dépasser l’empreinte écologique que la planète peut supporter ?\nUne manière ludique de faire des liens entre choix alimentaires et impacts sur l’environnement\, et de questionner nos pratiques culinaires ! \nEntrée : prix libre (prix conseillé 5 €) \nInformations/réservations : info@centrecultureldeseraing.be (Attention: jeu limité à 14 personnes) \nUn partenariat avec Canopea\, Financité
URL:https://liege.attac.org/event/atelier-jeu-alimentterre/
LOCATION:Centre Culturel de Seraing\, Rue Renaud Strivay 44\, Seraing\, Belgique
CATEGORIES:Atelier - Jeu
END:VEVENT
END:VCALENDAR