BEGIN:VCALENDAR
VERSION:2.0
PRODID:-//Attac Liège - ECPv6.6.2//NONSGML v1.0//EN
CALSCALE:GREGORIAN
METHOD:PUBLISH
X-WR-CALNAME:Attac Liège
X-ORIGINAL-URL:https://liege.attac.org
X-WR-CALDESC:évènements pour Attac Liège
REFRESH-INTERVAL;VALUE=DURATION:PT1H
X-Robots-Tag:noindex
X-PUBLISHED-TTL:PT1H
BEGIN:VTIMEZONE
TZID:Europe/Brussels
BEGIN:DAYLIGHT
TZOFFSETFROM:+0100
TZOFFSETTO:+0200
TZNAME:CEST
DTSTART:20200329T010000
END:DAYLIGHT
BEGIN:STANDARD
TZOFFSETFROM:+0200
TZOFFSETTO:+0100
TZNAME:CET
DTSTART:20201025T010000
END:STANDARD
END:VTIMEZONE
BEGIN:VEVENT
DTSTART;TZID=Europe/Brussels:20200914T190000
DTEND;TZID=Europe/Brussels:20200914T210000
DTSTAMP:20260423T085156
CREATED:20200904T070804Z
LAST-MODIFIED:20200904T070804Z
UID:7819-1600110000-1600117200@liege.attac.org
SUMMARY:CADTM - LCD : Crise du coronavirus au Nord et au Sud
DESCRIPTION:Crise du coronavirus au Nord et au Sud : Comprendre le présent pour préparer les luttes à venir.\n\nDiscussion et échange avec Omar Aziki\, membre du secrétariat national d’ATTAC CADTM Maroc et Aline Fares\, conférencière\, autrice et militante.\n\nComme nous faisions le constat avant les vacances\, les mesures d’austérités ont des impacts néfastes sur les populations\, sans pour autant réellement améliorer la situation économique.\n\nCette détérioration du service public avait eu des conséquences désastreuses au niveau de la gestion de la pandémie mondiale du coronavirus. Suite à celle-ci\, la précarité augmente rapidement et cependant les milliards que les états ont débloqués vont être utilisés pour permettre aux banques de rester à flot et non pas dans l’intérêt des 99%.\n\nPour la rentrée\, ce 14 septembre\, à l’Aquilone*\, nous avions envie de faire un état des lieux de la situation par rapport à la crise du COVID-19 et de la crise financière qui l’accompagne. Mais aussi de présenter des initiatives de luttes existantes puis de réfléchir aux formes que devraient prendre les luttes à venir.\n\nDans le but de répondre à ces questions\, nous avons invité Omar Aziki membre du secrétariat national d’ATTAC CADTM Maroc pour nous parler de la situation au Sud; et Aline Fares\, conférencière\, autrice et militante\, pour le Nord.\n\n* D’autres informations complémentaires arrivent\nhttp://www.cadtm.org/LCD-Crise-du-coronavirus-au-Nord-et-au-Sud\n 
URL:https://liege.attac.org/event/cadtm-lcd-crise-du-coronavirus-au-nord-et-au-sud/
LOCATION:Aquilone\, Bd Saucy 25\, Liège\, 4000\, Belgique
CATEGORIES:L'autre Agenda
END:VEVENT
END:VCALENDAR