BEGIN:VCALENDAR
VERSION:2.0
PRODID:-//Attac Liège - ECPv6.6.2//NONSGML v1.0//EN
CALSCALE:GREGORIAN
METHOD:PUBLISH
X-WR-CALNAME:Attac Liège
X-ORIGINAL-URL:https://liege.attac.org
X-WR-CALDESC:évènements pour Attac Liège
REFRESH-INTERVAL;VALUE=DURATION:PT1H
X-Robots-Tag:noindex
X-PUBLISHED-TTL:PT1H
BEGIN:VTIMEZONE
TZID:Europe/Brussels
BEGIN:DAYLIGHT
TZOFFSETFROM:+0100
TZOFFSETTO:+0200
TZNAME:CEST
DTSTART:20200329T010000
END:DAYLIGHT
BEGIN:STANDARD
TZOFFSETFROM:+0200
TZOFFSETTO:+0100
TZNAME:CET
DTSTART:20201025T010000
END:STANDARD
END:VTIMEZONE
BEGIN:VEVENT
DTSTART;TZID=Europe/Brussels:20200912T090000
DTEND;TZID=Europe/Brussels:20200912T170000
DTSTAMP:20260422T235722
CREATED:20200901T130206Z
LAST-MODIFIED:20200901T130206Z
UID:7707-1599901200-1599930000@liege.attac.org
SUMMARY:Rassemblement local - Extinction Rebellion
DESCRIPTION:12 septembre\nBloquez cette journée ! \nLieu: CRIE et Jardin Botanique\, Liège \nLe système est incapable de prendre soin de nous. Plus que jamais il est temps de se rebeller\, ensemble.\nAu programme: rencontre\, information\, ateliers\, discussions\, échanges\, pour apprendre à se connaître\, créer des liens ou les renforcer\, et pourquoi pas\, lancer ensemble de nouveaux projets !
URL:https://liege.attac.org/event/rassemblement-local-extinction-rebellion/
LOCATION:Education-Environnement (CRIE)\, Rue Fusch\, Liège\, 4000
CATEGORIES:L'autre Agenda
END:VEVENT
END:VCALENDAR