BEGIN:VCALENDAR
VERSION:2.0
PRODID:-//Attac Liège - ECPv6.6.2//NONSGML v1.0//EN
CALSCALE:GREGORIAN
METHOD:PUBLISH
X-ORIGINAL-URL:https://liege.attac.org
X-WR-CALDESC:évènements pour Attac Liège
REFRESH-INTERVAL;VALUE=DURATION:PT1H
X-Robots-Tag:noindex
X-PUBLISHED-TTL:PT1H
BEGIN:VTIMEZONE
TZID:Europe/Brussels
BEGIN:DAYLIGHT
TZOFFSETFROM:+0100
TZOFFSETTO:+0200
TZNAME:CEST
DTSTART:20200329T010000
END:DAYLIGHT
BEGIN:STANDARD
TZOFFSETFROM:+0200
TZOFFSETTO:+0100
TZNAME:CET
DTSTART:20201025T010000
END:STANDARD
END:VTIMEZONE
BEGIN:VEVENT
DTSTART;TZID=Europe/Brussels:20200908T193000
DTEND;TZID=Europe/Brussels:20200908T223000
DTSTAMP:20260423T085500
CREATED:20200717T084029Z
LAST-MODIFIED:20200717T084118Z
UID:6605-1599593400-1599604200@liege.attac.org
SUMMARY:Assemblée Générale
DESCRIPTION:Assemblée Générale d’ATTAC Liège\nAu programme : \nActions 2019 % Victuailles % Comptes de l’association\nBudget 2020 % Nouveaux membres % Échanges % Projets 2020-2021\nVerre de l’amitié % Nouveaux administrateurs % Bulles & Chansons \n \nVous n’êtes pas encore membre ? Allez-y\, faites le pas\, ça ne coûte pas cher (10 ou 20 euros par an)\, et pour notre association\, c’est important. Remplissez le formulaire d’adhésion à la table d’accueil ou en ligne (voir notre site www.attacliege.be/lassociation/adhesion/). \nVous n’êtes pas encore membre effectif mais vous vous intéressez de près à nos activités et pourriez à l’occasion y consacrer un peu de temps ? Envoyez un petit mot à :\ninfo@liege.attac.be. \nLa vie de l’association\, l’organisation d’activités\, le contenu du bulletin vous intéressent (et vous êtes souvent libre le premier lundi du mois) ? Signalez votre souhait de rejoindre la coordination. \nSi vous êtes prêt à vous impliquer dans la gestion de l’association\, demandez à faire partie du Conseil d’Administration. Cette année\, deux postes clés attendent des candidat.e.s : la fonction de président et celle de trésorier ! \nLes candidatures devront être rentrées le lundi 7 septembre par courriel à info@liege.attac.be ou par courrier postal au secrétariat d’Attac Liège\, 48\, rue du Beau-Mur\, 4030 Liége.\nLe Groupe de coordination sera renouvelé en Assemblée générale commune (tous les membres\, effectifs et adhérents) le mardi 8 septembre 2020 à 19h30. \nQue vous soyez (déjà ?) membre ou non\, nous comptons sur votre présence !\nCette assemblée annuelle est un moment clé dans la vie démocratique de l’association; c’est aussi un des moments où nous nous retrouvons en dehors d’une activité spécifique : profitons-en pour nous découvrir autour de petites choses à manger\, de quelques boissons sympathiques et éthiques\, et puis aussi chanter ensemble\, « ça fait du lien par où ça passe » ! Nous fêtons cette année notre vingtième anniversaire : une occasion à saisir de se revoir et de concrétiser nos projets ! \n  \n– Rappel – \nL’Assemblée générale commune : \n\ndéfinit les orientations du mouvement dans le respect de la plateforme d’Attac ;\napprouve le rapport d’activités\, les rapports moral et financier de l’exercice écoulé ;\nélit le groupe de coordination ;\nélit nos représentants auprès d’ATTAC Wallonie Bruxelles ;\nratifie les candidatures de membres effectifs.\n\nL’Assemblée des membres effectifs gère l’aspect administratif : proposition de candidatures de nouveaux membres effectifs\, élection des membres du conseil d’administration.
URL:https://liege.attac.org/event/assemblee-generale-3/
LOCATION:Beau-Mur\, Rue du Beau-Mur 48\, Liège\, 4030\, Belgique
CATEGORIES:Réunion Attac
ORGANIZER;CN="Attac Li%C3%A8ge":MAILTO:info@liege.attac.be
END:VEVENT
END:VCALENDAR