BEGIN:VCALENDAR
VERSION:2.0
PRODID:-//Attac Liège - ECPv6.6.2//NONSGML v1.0//EN
CALSCALE:GREGORIAN
METHOD:PUBLISH
X-WR-CALNAME:Attac Liège
X-ORIGINAL-URL:https://liege.attac.org
X-WR-CALDESC:évènements pour Attac Liège
REFRESH-INTERVAL;VALUE=DURATION:PT1H
X-Robots-Tag:noindex
X-PUBLISHED-TTL:PT1H
BEGIN:VTIMEZONE
TZID:Europe/Brussels
BEGIN:DAYLIGHT
TZOFFSETFROM:+0100
TZOFFSETTO:+0200
TZNAME:CEST
DTSTART:20200329T010000
END:DAYLIGHT
BEGIN:STANDARD
TZOFFSETFROM:+0200
TZOFFSETTO:+0100
TZNAME:CET
DTSTART:20201025T010000
END:STANDARD
END:VTIMEZONE
BEGIN:VEVENT
DTSTART;TZID=Europe/Brussels:20200310T193000
DTEND;TZID=Europe/Brussels:20200310T220000
DTSTAMP:20260423T221943
CREATED:20200127T115354Z
LAST-MODIFIED:20200710T103545Z
UID:4550-1583868600-1583877600@liege.attac.org
SUMMARY:Repair class : Notions d'économie marxiste
DESCRIPTION:On achète un pain\, on se déplace en voiture\, on va à l’hôpital\, … Derrière ces actions il y a différentes formes de travail. \n\nDécouvrons la place du travail et du salaire en économie classique\, marxiste\, néoclassique…\nQuelle est la valeur de la force de travail ? Qu’est-ce que le taux d’exploitation ?\nPourrions-nous réduire le temps de travail aliéné 32h/semaine comme le proposait le Collectif Adret en 1977 dans son livre « travailler 2h par jour » ?\nQuelle pertinence dans la transition numérique actuelle ?\n\nLe travail c’est la santé … rien faire c’est la conserver … ! \nDécouvrons et débattons en ensemble ! \n 
URL:https://liege.attac.org/event/repair-class-notions-deconomie-marxiste/
LOCATION:ULiège\, Place du XX Aout\, Pace du 20 aout\, 4000 Liège
CATEGORIES:Groupes de formation
END:VEVENT
END:VCALENDAR