BEGIN:VCALENDAR
VERSION:2.0
PRODID:-//Attac Liège - ECPv6.6.2//NONSGML v1.0//EN
CALSCALE:GREGORIAN
METHOD:PUBLISH
X-ORIGINAL-URL:https://liege.attac.org
X-WR-CALDESC:évènements pour Attac Liège
REFRESH-INTERVAL;VALUE=DURATION:PT1H
X-Robots-Tag:noindex
X-PUBLISHED-TTL:PT1H
BEGIN:VTIMEZONE
TZID:Europe/Brussels
BEGIN:DAYLIGHT
TZOFFSETFROM:+0100
TZOFFSETTO:+0200
TZNAME:CEST
DTSTART:20200329T010000
END:DAYLIGHT
BEGIN:STANDARD
TZOFFSETFROM:+0200
TZOFFSETTO:+0100
TZNAME:CET
DTSTART:20201025T010000
END:STANDARD
END:VTIMEZONE
BEGIN:VEVENT
DTSTART;TZID=Europe/Brussels:20200211T193000
DTEND;TZID=Europe/Brussels:20200211T220000
DTSTAMP:20260423T204634
CREATED:20200120T140420Z
LAST-MODIFIED:20200710T103741Z
UID:4494-1581449400-1581458400@liege.attac.org
SUMMARY:La monnaie miraculeuse - Repair Class de l'économie
DESCRIPTION:Les monnaies locales peuvent-elles sauver l’économie? Comment fonctionnent ces monnaies ? \nLes questions monétaires sont au coeur de nos RepairClass car centrales à nos modèles économiques et lieu de haute lutte politique. \n\nDécouvrez l’histoire incroyable d’une monnaie locale par un docu-fiction basée sur l’expérience de 1930 dans le petit village de Wörgl en Autriche.\nLa projection du film d’Urs Eggers\, Das Wunder von Wörgl / La monnaie miraculeuse\, sera suivie d’un débat avec Nicolas Franka.\n  \n \n  \n 
URL:https://liege.attac.org/event/la-monnaie-miraculeuse-repair-class-de-leconomie/
LOCATION:ULiège Moyen Physique\, Place du XX Aout\, Liège\, 4000\, Belgique
CATEGORIES:Groupes de formation
END:VEVENT
END:VCALENDAR